BEGIN:VCALENDAR
VERSION:2.0
PRODID:-//L&#039;atelier des lucioles - ECPv6.15.17//NONSGML v1.0//EN
CALSCALE:GREGORIAN
METHOD:PUBLISH
X-WR-CALNAME:L&#039;atelier des lucioles
X-ORIGINAL-URL:https://www.latelierdeslucioles.fr
X-WR-CALDESC:Évènements pour L&#039;atelier des lucioles
REFRESH-INTERVAL;VALUE=DURATION:PT1H
X-Robots-Tag:noindex
X-PUBLISHED-TTL:PT1H
BEGIN:VTIMEZONE
TZID:Europe/Paris
BEGIN:DAYLIGHT
TZOFFSETFROM:+0100
TZOFFSETTO:+0200
TZNAME:CEST
DTSTART:20250330T010000
END:DAYLIGHT
BEGIN:STANDARD
TZOFFSETFROM:+0200
TZOFFSETTO:+0100
TZNAME:CET
DTSTART:20251026T010000
END:STANDARD
BEGIN:DAYLIGHT
TZOFFSETFROM:+0100
TZOFFSETTO:+0200
TZNAME:CEST
DTSTART:20260329T010000
END:DAYLIGHT
BEGIN:STANDARD
TZOFFSETFROM:+0200
TZOFFSETTO:+0100
TZNAME:CET
DTSTART:20261025T010000
END:STANDARD
BEGIN:DAYLIGHT
TZOFFSETFROM:+0100
TZOFFSETTO:+0200
TZNAME:CEST
DTSTART:20270328T010000
END:DAYLIGHT
BEGIN:STANDARD
TZOFFSETFROM:+0200
TZOFFSETTO:+0100
TZNAME:CET
DTSTART:20271031T010000
END:STANDARD
END:VTIMEZONE
BEGIN:VEVENT
DTSTART;TZID=Europe/Paris:20260609T163000
DTEND;TZID=Europe/Paris:20260609T183000
DTSTAMP:20260423T224521
CREATED:20260307T132650Z
LAST-MODIFIED:20260321T145438Z
UID:10001221-1781022600-1781029800@www.latelierdeslucioles.fr
SUMMARY:La bande des p'tites Lucioles • Atelier arts-sciences trimestriel  • 6-12 ans
DESCRIPTION:Animé par Lou Camino\nL’atelier des lucioles propose un tout nouveau rendez-vous hebdomadaire aux enfants de 6 à 12 ans autour des arts et des sciences ! L’idée ? Explorer\, de façon ludique et pédagogique\, différentes pratiques artistiques (dessin\, peinture\, photographie\, écriture\, collage\, petit bricolage…) et aller à la découverte du monde des sciences (jeux\, petites expérimentations\, fabrication d’objets…) en suivant notamment le parcours d’artistes et de scientifiques ayant marqué l’histoire avec un grand H et pourquoi pas la petite aussi. Ces ateliers sont pensés pour développer l’imaginaire et la curiosité des enfants\, et les accompagner dans leur découverte des sciences et du monde qui nous entoure. \nCertains ateliers se dérouleront sur plusieurs séances. Par ailleurs\, les enfants seront amenés à créer de façon individuelle ou collective. Après avoir exploré l’eau et l’air\, nous passerons à la terre pour cette nouvelle série. \nCôté logistique\, rien de plus simple : Lou Camino vous propose d’aller chercher vos enfants directement à la sortie de l’école (Ecole Arc-en-Ciel\, Ecole Saint-Pierre à Molac) et de les amener à L’atelier des lucioles où vous pourrez les retrouver à 18h30. En arrivant\, les enfants auront un petit temps pour le goûter (à prévoir par vous) avant de commencer l’atelier (17h-18h30). \nL’inscription se fait au « trimestre ». Les dates des 10 séances du trimestre avril – juin 2026 : \n– avril :  28\n– mai : 5\, 12\, 19\, 26\n– juin : 2\, 9\, 13\, 23\, 30 \nPublic / Prérequis : 6 à 12 ans\nMinimum / maximum de participants :  4 / 6-7\nTarif : 100€ les 10 séances pour les adhérents\, 110€ pour les non adhérents (tout compris). Si la 11e séance est confirmée\, 10€ supplémentaires seront dus. Il est possible de payer en 3 chèques (à déposer au début et le premier sera encaissé à l’inscription en janvier – tout trimestre commencé est dû) ou de payer la totalité en ligne via HelloAsso ↗️. La somme sera restituée si l’atelier n’a pas lieu\, faute d’un nombre suffisant d’inscrits.\n \nPour tout renseignement ou inscription\, contactez-nous par courriel (et n’hésitez pas à vérifier vos spams si vous ne voyez pas venir de réponse rapidement).\n \n 
URL:https://www.latelierdeslucioles.fr/event/la-bande-des-ptites-lucioles-atelier-arts-sciences-trimestriel-6-12-ans-2/2026-06-09/
CATEGORIES:Agenda,Atelier,Dessin,Écriture,Peinture
END:VEVENT
BEGIN:VEVENT
DTSTART;TZID=Europe/Paris:20260610T133000
DTEND;TZID=Europe/Paris:20260610T153000
DTSTAMP:20260423T224521
CREATED:20250619T130615Z
LAST-MODIFIED:20251212T113001Z
UID:10001005-1781098200-1781105400@www.latelierdeslucioles.fr
SUMMARY:BD • Atelier annuel • Du scénario à la réalisation d'une planche
DESCRIPTION:Animé par Mikeulponk\n\nL’atelier des lucioles vous propose un cours de BD sur l’année avec Mikeulponk\, sur 17 séances\, à raison d’un mercredi sur deux de 13h30 à 15h30. Il est également possible de débuter cet atelier en cours d’année : le tarif et le projet seront ajustés en conséquence.\nPar ailleurs\, un atelier mensuel est aussi programmé le samedi.\n \nLe cours de BD n’est pas qu’un cours de dessin\, c’est un cours de narration graphique. Nous mettons des histoires en images.\nCela passe par la création des personnages (charadesign\, posing\, psychologie…) et des décors (composition\, perspective…)\, mais aussi par le scénario (mécaniques du récit\, structure\, characterisation\, activité\, dialogue…).\nNous explorons toutes les étapes de création d’une bande dessinée. Une fois que nous aurons appris à dessiner ce dont nous avons besoin\, nous mettrons en scène (composition\, cadrage\, mise en page…) notre récit par la réalisation des planches (techniques de dessin).\n \nLe cours est donc ouvert à tou.te.s celles et ceux qui veulent raconter des histoires en images\, s’initier ou se perfectionner à chacune de ces étapes.\nTous les styles (BD\, manga\, comics…) et tous les niveaux sont les bienvenus.\nLe cours est individualisé en fonction des besoins et des univers personnels des élèves. Scénaristes\, dessinateur.ice.s\, coloristes\, illustrateur.ice.s ou tout ça à la fois\, vous êtes aussi les bienvenus.\n \nLes 15 dates des séances de 13h30 à 15h30 : 17 septembre 2025 ; 1er et 15 octobre ; 12 et 26 novembre ; 10 décembre ; 4 février ; 4 et 18 mars ; 1er et 29 avril ; 13 et 27 mai\, 10 et 24 juin\n \nPublic / Prérequis : tous niveaux ; à partir de 10 ans\, ados\, adultes\nMinimum / maximum de participants : 6 / 8-9\nTarif : 225€ pour les 15 séances de 2h pour les adhérents (soit 15€ la séance) ; 247\,50€ pour les 15 séances de 2h pour les non adhérents. Il est possible de payer en plusieurs chèques (le premier chèque sera encaissé à l’inscription en septembre – toute année commencée est due) ou de payer la totalité en ligne via HelloAsso ↗️. La somme sera restituée si l’atelier n’a pas lieu\, faute d’un nombre suffisant d’inscrits.\n \nPour tout renseignement ou inscription\, contactez-nous par courriel (et n’hésitez pas à vérifier vos spams si vous ne voyez pas venir de réponse rapidement).\n \nMikeulponk – Auteur de BD complet et indépendant\, de Malansac. J’ai auto-édité mon premier album Blood Punks – T01/03 Hémonocts en 2016. Dans mes créations\, je chercher à livrer des récits autant riches dans la forme que dans le fond. La suite Blood Punks – T02/03 Bloody Jane\, est sorti en 2020. J’ai participé à l’album Indissociable du collectif les Indés-Sociables. Je suis en train de réaliser le troisième et dernier tome de la trilogie Blood Punks. Je donne aussi des cours de BD dans la région depuis 8 ans.
URL:https://www.latelierdeslucioles.fr/event/bd-atelier-annuel-du-scenario-a-la-realisation-dune-planche/2026-06-10/
LOCATION:L’atelier des lucioles\, 11 place de l'Église\, Molac\, 56230
CATEGORIES:Agenda,Atelier,BD,Dessin,Écriture
END:VEVENT
BEGIN:VEVENT
DTSTART;TZID=Europe/Paris:20260610T200000
DTEND;TZID=Europe/Paris:20260610T220000
DTSTAMP:20260423T224521
CREATED:20260311T181756Z
LAST-MODIFIED:20260321T151217Z
UID:10001228-1781121600-1781128800@www.latelierdeslucioles.fr
SUMMARY:Atelier de lecture à voix haute en 3 séances
DESCRIPTION:Animé par Yannick Cotten\, Le bastion de l’âme\n« Je lis à voix haute. J’ai longtemps pensé que lire à voix haute\, c’était vraiment l’idée d’écrire à l’oreille. Plus je le fais et plus je me rends compte qu’il s’agit complètement d’autre chose. Le dire\, c’est comme le faire naître et c’est une façon d’inscrire la lecture dans l’écriture. Donc\, je le lis et finalement\, il existe et il existe déjà pour moi-même. J’ai l’impression de le faire naître. » Maylis de Kerangal \nYannick Cotten vous propose un atelier en 3 séances autour d’un exercice littéraire simple et singulier : la lecture à voix haute. Ce n’est que récemment que la lecture s’est conçue comme une activité solitaire et  »dans la tête ». Mais il n’en a pas toujours été ainsi dans l’histoire. Les moines du Moyen-Age écoutaient une lecture de textes sacrés pendant leur repas\, et les ouvriers d’ateliers furent souvent sensibilisés aux idées socialistes par des camarades faisant la lecture pour tout le monde sur le temps de travail. L’atelier que je vous propose est donc\, en premier lieu\, un temps de partage\, guidé par la curiosité et le plaisir de se faire découvrir des textes\, des coups de coeur littéraires\, des curiosités d’écriture… Flaubert\, pour éprouver la forme de ses romans\, soumettait ses textes au « gueuloir »\, une lecture à voix haute qui permettait de vérifier la force stylistique de ses écrits. Lire à voix haute\, c’est donc aussi un exercice de révélation du style\, de la construction\, des intentions d’un texte\, et de l’univers riche et singulier d’un.e auteur.ice. Quelques éléments techniques de théâtre (articulation\, adresse partenaire ou spectateur\, rapport au public…) viendront nourrir et enrichir cet exercice de lecture. \nChaque participant.e sera invité.e à apporter un court texte\, de toute nature (roman\, poésie\, essai\, article de presse…)\, pourvu qu’il ou elle l’ait touché\, fais rire\, pleurer\, ou réfléchir. J’apporterai moi-même quelques textes. Enfin\, lire à voix haute\, c’est aussi lire ensemble. Un texte plus long sera proposé pour une lecture collective. \nLes 3 séances de cette 3e session ont lieu : \n– mercredi 6 mai de 20h à 22h\n– mercredi 20 mai de 20h à 22h\n– mercredi 10 juin de 20h à 22h\nVotre présence est nécessaire aux trois séances. D’autres sessions seront organisées aux trimestres suivants. \nPublic : à partir de 15 ans \nMinimum/maximum de participants : 4/6 \nTarif : 45 € pour les adhérents les 3 séances\, 49\,50 € pour les non adhérents. Un acompte de 50% est demandé à la réservation. Il sera conservé en cas d’annulation par le participant survenant moins de 3 jours ouvrés avant l’atelier (sauf si la personne se désistant trouve un remplaçant) et remboursé si l’atelier n’a pas lieu\, faute d’un nombre suffisant de participants. Paiement de l’acompte par chèque\, espèces ou en ligne via HelloAsso ↗️. \nQuelques mots sur Yannick Cotten :\nYannick Cotten est comédien et metteur en scène. A l’heure des approches pluridisciplinaires\, où le cirque\, la marionnette\, la danse\, l’écriture de plateau\, ou encore le documentaire se mêlent régulièrement au théâtre\, ce carrefour des arts\, Yannick fait lui le choix passéiste et un peu rétro de se présenter d’abord comme un acteur de textes. La littérature\, les mots\, le rapport exigeant et libre à la parole\, la matière livre sont à la base de la plupart de ses désirs artistiques. Malgré cette prédilection pour la matière texte\, Yannick reste un comédien mu d’abord par la curiosité\, la joie et le rire\, ainsi que la soif de connaissance\, qui sont pour lui les seules et uniques conditions pour se lancer dans une nouvelle aventure. Formé à l’Académie de L’Union\, École Supérieure Professionnelle de Théâtre du Limousin\, il dirige aujourd’hui\, avec son camarade Romain Bertrand\, Le Bastion de L’Âme\, une compagnie installée à Questembert dans le Morbihan. \nPour tout renseignement ou inscription\, contactez-nous par courriel (et n’hésitez pas à vérifier vos spams si vous ne voyez pas venir de réponse rapidement).
URL:https://www.latelierdeslucioles.fr/event/lecture-a-voix-haute-3/2026-06-10/
LOCATION:L’atelier des lucioles\, 11 place de l'Église\, Molac\, 56230
CATEGORIES:Agenda,Atelier,Lecture
END:VEVENT
BEGIN:VEVENT
DTSTART;TZID=Europe/Paris:20260611T140000
DTEND;TZID=Europe/Paris:20260611T163000
DTSTAMP:20260423T224521
CREATED:20240703T200637Z
LAST-MODIFIED:20260321T141611Z
UID:10000959-1781186400-1781195400@www.latelierdeslucioles.fr
SUMMARY:Atelier d'écriture
DESCRIPTION:Animé par Lou Camino\nLou Camino vous propose des ateliers et jeux d’écriture pour déployer votre créativité et surtout prendre du plaisir ! \nLes plages d’écriture varient de 5 à 25 minutes. Elles peuvent être stimulées par une consigne verbale\, visuelle\, audio\, individuelles ou collectives… En pratique\, tout est prétexte à écrire\, à développer sa pensée\, à dérouler ses souvenirs\, à explorer ses idées… Après chacune de ces consignes\, vous êtes invités à lire votre texte (pas d’obligation cependant) à propos duquel les autres participants (selon l’envie toujours) et l’animatrice peuvent réagir\, dans un esprit constructif et bienveillant. Ce partage permet souvent de mettre en lumière la diversité et la richesse de vos cheminements. \nPour la saison 2025-2026\, les dates sont :\n– jeudi 3 juillet de 18h à 20h30\n– jeudi 4 septembre de 18h à 20h30 et jeudi 11 septembre de 14h à 16h30\n– jeudi 9 octobre de 18h à 20h30 et jeudi 16 octobre de 14h à 16h30\n– jeudi 6 novembre de 18h à 20h30 et jeudi 13 novembre de 14h à 16h30\n– jeudi 4 décembre de 18h à 20h30 et jeudi 11 décembre de 14h à 16h30\n– jeudi 22 janvier de 18h à 20h30 et jeudi 15 janvier de 14h à 16h30\n– jeudi 5 février de 18h à 20h30 et jeudi 12 février de 14h à 16h30\n– jeudi 5 mars de 18h à 20h30 et jeudi 12 mars de 14h à 16h30\n– jeudi 9 avril de 18h à 20h30 et jeudi 23 avril de 14h à 16h30\n– jeudi 7 mai de 18h à 20h30 et jeudi 21 mai de 14h à 16h30 (attention\, intervalle de 2 semaines entre les deux dates du fait de l’Ascension)\n– jeudi 4 juin de 18h à 20h30 et jeudi 11 juin de 14h à 16h30 \nPublic / Prérequis : À partir de 15 ans\nMinimum / maximum de participants : 4 / 8\nTarif : 15 € pour les adhérents\, 16\,50 € pour les non adhérents. Tarif de soutien : 18€ pour les adhérents ; 20€ pour les non adhérents. Il est possible de payer la totalité en ligne via HelloAsso ↗️. La somme sera restituée si l’atelier n’a pas lieu\, faute d’un nombre suffisant d’inscrits. La moitié de la somme sera conservée en cas d’annulation par le participant survenant moins de 3 jours ouvrés avant l’atelier (sauf si la personne se désistant trouve un remplaçant).\nInformations pratiques : venez avec votre cahier et stylo \nPour tout renseignement ou inscription\, contactez-nous par courriel (et n’hésitez pas à vérifier vos spams si vous ne voyez pas venir de réponse rapidement). \nLe + de L’atelier des lucioles : le 2e mardi de chaque mois\, L’atelier des lucioles propose un nouveau rendez-vous convivial et décontracté autour de la lecture : Des livres et des mots…
URL:https://www.latelierdeslucioles.fr/event/atelier-decriture/2026-06-11/
LOCATION:L’atelier des lucioles\, 11 place de l'Église\, Molac\, 56230
CATEGORIES:Agenda,Atelier,Écriture
END:VEVENT
BEGIN:VEVENT
DTSTART;TZID=Europe/Paris:20260612T170000
DTEND;TZID=Europe/Paris:20260612T180000
DTSTAMP:20260423T224521
CREATED:20230206T112535Z
LAST-MODIFIED:20250703T094234Z
UID:10001029-1781283600-1781287200@www.latelierdeslucioles.fr
SUMMARY:Yoga du rire
DESCRIPTION:Animé par Isabelle de Francqueville\nRire est excellent pour la santé ; il agit très favorablement sur notre cœur et l’ensemble du corps. Il aide à lutter contre les maladies cardio-vasculaires (3 fois moins de risque d’infarctus)\, diminue ou élimine la sensation de douleur\, booste le système immunitaire\, améliore les fonctions cognitives et chasse le stress…\nConvaincue de toutes ces vertus du rire\, le Dr Madan Kataria a eu l’idée de mettre en place le yoga du rire basé sur les respirations du Yoga et des exercices qui nous permettent de rire. Le Yoga de rire est un concept unique où chacun peut rire sans raison\, sans recours aux blagues et même sans avoir de sens de l’humour.\nFormée à la méthode du Dr Kataria et ayant animée des séances de Yoga du Rire en Club et en entreprises pendant 5 ans à Lille\, je vous propose une séance découverte.\nLa séance durera environ 50 mn. Elle se pratique en trois temps : échauffements\, rires guidés entrecoupés de respirations\, méditation dynamique (rires libres). \nPublic / Prérequis : tout public mais il existe quelques rares contre-indications au Yoga du Rire car rire à gorge déployée sollicite de nombreuses parties du corps. Ainsi\, le Dr Kataria déconseille le yoga du rire aux personnes souffrant de problèmes cardiaques\, d’hypertensions artérielles\, d’hémorroïdes\, d’incontinences\, de hernies\, d’épilepsie\, de douleurs dorsales importantes\, de descente d’organes\, de désordres psychologiques majeurs – Bipolarité et schizophrénie notamment font parties des contre-indications médicales –\, de toux importantes et dans le cas de grossesse à risque. En cas de doute\, n’hésitez pas à nous demander.\nMinimum / maximum de participants : 8 / 12 personnes\nTarif : 5 € pour les adhérents\, 6 € pour les non adhérents\nIsabelle de Francqueville a choisi de reverser tous les bénéfices de cet atelier à l’association. Merci pour sa générosité.\nInformations pratiques : il est conseillé d’avoir une tenue confortable\, d’ôter vos chaussures (chaussettes\, chaussons souples ou chaussettes antidérapantes). \nPour tout renseignement ou inscription\, contactez-nous par courriel (et n’hésitez pas à vérifier vos spams si vous ne voyez pas venir de réponse rapidement).
URL:https://www.latelierdeslucioles.fr/event/yoga-du-rire/2026-06-12/
LOCATION:L’atelier des lucioles\, 11 place de l'Église\, Molac\, 56230
CATEGORIES:Agenda,Atelier,Yoga du rire
END:VEVENT
BEGIN:VEVENT
DTSTART;TZID=Europe/Paris:20260612T200000
DTEND;TZID=Europe/Paris:20260612T220000
DTSTAMP:20260423T224521
CREATED:20260405T165541Z
LAST-MODIFIED:20260405T165541Z
UID:10001242-1781294400-1781301600@www.latelierdeslucioles.fr
SUMMARY:Café des sciences • A CONFIRMER
DESCRIPTION:Infos à venir
URL:https://www.latelierdeslucioles.fr/event/cafe-des-sciences-a-confirmer/
LOCATION:L’atelier des lucioles\, 11 place de l'Église\, Molac\, 56230
CATEGORIES:Agenda,Événement
END:VEVENT
END:VCALENDAR