BEGIN:VCALENDAR
VERSION:2.0
PRODID:-//L&#039;atelier des lucioles - ECPv6.15.17//NONSGML v1.0//EN
CALSCALE:GREGORIAN
METHOD:PUBLISH
X-WR-CALNAME:L&#039;atelier des lucioles
X-ORIGINAL-URL:https://www.latelierdeslucioles.fr
X-WR-CALDESC:Évènements pour L&#039;atelier des lucioles
REFRESH-INTERVAL;VALUE=DURATION:PT1H
X-Robots-Tag:noindex
X-PUBLISHED-TTL:PT1H
BEGIN:VTIMEZONE
TZID:Europe/Paris
BEGIN:DAYLIGHT
TZOFFSETFROM:+0100
TZOFFSETTO:+0200
TZNAME:CEST
DTSTART:20230326T010000
END:DAYLIGHT
BEGIN:STANDARD
TZOFFSETFROM:+0200
TZOFFSETTO:+0100
TZNAME:CET
DTSTART:20231029T010000
END:STANDARD
BEGIN:DAYLIGHT
TZOFFSETFROM:+0100
TZOFFSETTO:+0200
TZNAME:CEST
DTSTART:20240331T010000
END:DAYLIGHT
BEGIN:STANDARD
TZOFFSETFROM:+0200
TZOFFSETTO:+0100
TZNAME:CET
DTSTART:20241027T010000
END:STANDARD
BEGIN:DAYLIGHT
TZOFFSETFROM:+0100
TZOFFSETTO:+0200
TZNAME:CEST
DTSTART:20250330T010000
END:DAYLIGHT
BEGIN:STANDARD
TZOFFSETFROM:+0200
TZOFFSETTO:+0100
TZNAME:CET
DTSTART:20251026T010000
END:STANDARD
BEGIN:DAYLIGHT
TZOFFSETFROM:+0100
TZOFFSETTO:+0200
TZNAME:CEST
DTSTART:20260329T010000
END:DAYLIGHT
BEGIN:STANDARD
TZOFFSETFROM:+0200
TZOFFSETTO:+0100
TZNAME:CET
DTSTART:20261025T010000
END:STANDARD
END:VTIMEZONE
BEGIN:VEVENT
DTSTART;TZID=Europe/Paris:20250906T093000
DTEND;TZID=Europe/Paris:20250906T160000
DTSTAMP:20260422T011535
CREATED:20240502T161254Z
LAST-MODIFIED:20250618T142140Z
UID:10000961-1757151000-1757174400@www.latelierdeslucioles.fr
SUMMARY:Forum des associations de Molac et de Questembert
DESCRIPTION:L’atelier des lucioles participe aux Forums des associations de Molac de 9h30 à 12h30 et\, pour la première fois\, de Questembert\, de 10h à 16h. \nL’occasion de découvrir nos activités pour la nouvelle saison et de vous y inscrire. 
URL:https://www.latelierdeslucioles.fr/event/forum-asso-molac-2024/2025-09-06/
LOCATION:L’atelier des lucioles\, 11 place de l'Église\, Molac\, 56230
CATEGORIES:Agenda,Événement
END:VEVENT
BEGIN:VEVENT
DTSTART;TZID=Europe/Paris:20250905T183000
DTEND;TZID=Europe/Paris:20250905T210000
DTSTAMP:20260422T011535
CREATED:20250722T144255Z
LAST-MODIFIED:20260303T222523Z
UID:10001098-1757097000-1757106000@www.latelierdeslucioles.fr
SUMMARY:Exposition • Vernissage de l’exposition collective de participants aux ateliers
DESCRIPTION:Pour la première fois\, L’atelier des lucioles propose une exposition de travaux réalisés par les participant.e.s – enfants et adultes – lors d’ateliers de la saison 2024-2025. Cette exposition réunit ainsi les créations d’une trentaine de personnes dans différentes disciplines : dessin\, photographie\, peinture\, écriture\, cyanotype\, BD\, mosaïque\, poterie\, vannerie… \nCette exposition\, qui met à l’honneur la graine d’artiste qui sommeille en chacun de nous\, est aussi l’occasion de découvrir ce que vous pourriez faire en poussant la porte de L’atelier des lucioles.
URL:https://www.latelierdeslucioles.fr/event/exposition-vernissage-etincelles25/
LOCATION:L’atelier des lucioles\, 11 place de l'Église\, Molac\, 56230
CATEGORIES:Agenda,Événement,Exposition
ATTACH;FMTTYPE=image/jpeg:https://www.latelierdeslucioles.fr/wp-content/uploads/2025/09/Expo-Co-Etincelles-S2025-s.jpg
END:VEVENT
BEGIN:VEVENT
DTSTART;TZID=Europe/Paris:20250703T100000
DTEND;TZID=Europe/Paris:20250703T110000
DTSTAMP:20260422T011535
CREATED:20250618T101857Z
LAST-MODIFIED:20250821T115617Z
UID:10001037-1751536800-1751540400@www.latelierdeslucioles.fr
SUMMARY:Médiation scolaire • Visite de l’exposition en cours avec une classe de l’école Arc en Ciel
DESCRIPTION:Dans le cadre de ses actions de médiation\, L’atelier des lucioles se propose d’accueillir les scolaires pour des visites commentées de l’exposition en cours. \nEn ce moment\, il s’agit de l’exposition de photographies « Reflets multiples » dont les images ont été prises par les 24 élèves de la classe de Séverine Picaut de CE1-CE2 de l’école Arc-en-Ciel. Elles font suite à un atelier photo mené sur l’année en 10 séances et animé par Sonia Arfaoui (alias Lou Camino). \nPour toute question\, n’hésitez pas à nous contacter.
URL:https://www.latelierdeslucioles.fr/event/mediation-scolaire-visite-de-lexposition-en-cours-avec-une-classe-de-lecole-arc-en-ciel-2/2025-07-03/
LOCATION:L’atelier des lucioles\, 11 place de l'Église\, Molac\, 56230
CATEGORIES:Agenda,Médiation
END:VEVENT
BEGIN:VEVENT
DTSTART;TZID=Europe/Paris:20250619T104500
DTEND;TZID=Europe/Paris:20250619T113000
DTSTAMP:20260422T011535
CREATED:20250618T101857Z
LAST-MODIFIED:20250821T115617Z
UID:10000930-1750329900-1750332600@www.latelierdeslucioles.fr
SUMMARY:Médiation scolaire • Visite de l’exposition en cours avec une classe de l’école Arc en Ciel
DESCRIPTION:Dans le cadre de ses actions de médiation\, L’atelier des lucioles se propose d’accueillir les scolaires pour des visites commentées de l’exposition en cours. \nEn ce moment\, il s’agit de l’exposition de photographies « Reflets multiples » dont les images ont été prises par les 24 élèves de la classe de Séverine Picaut de CE1-CE2 de l’école Arc-en-Ciel. Elles font suite à un atelier photo mené sur l’année en 10 séances et animé par Sonia Arfaoui (alias Lou Camino). \nPour toute question\, n’hésitez pas à nous contacter.
URL:https://www.latelierdeslucioles.fr/event/mediation-scolaire-visite-de-lexposition-en-cours-avec-une-classe-de-lecole-arc-en-ciel-2/2025-06-19/2/
LOCATION:L’atelier des lucioles\, 11 place de l'Église\, Molac\, 56230
CATEGORIES:Agenda,Médiation
END:VEVENT
BEGIN:VEVENT
DTSTART;TZID=Europe/Paris:20250619T093000
DTEND;TZID=Europe/Paris:20250619T103000
DTSTAMP:20260422T011535
CREATED:20250618T101857Z
LAST-MODIFIED:20250821T115617Z
UID:10000929-1750325400-1750329000@www.latelierdeslucioles.fr
SUMMARY:Médiation scolaire • Visite de l’exposition en cours avec une classe de l’école Arc en Ciel
DESCRIPTION:Dans le cadre de ses actions de médiation\, L’atelier des lucioles se propose d’accueillir les scolaires pour des visites commentées de l’exposition en cours. \nEn ce moment\, il s’agit de l’exposition de photographies « Reflets multiples » dont les images ont été prises par les 24 élèves de la classe de Séverine Picaut de CE1-CE2 de l’école Arc-en-Ciel. Elles font suite à un atelier photo mené sur l’année en 10 séances et animé par Sonia Arfaoui (alias Lou Camino). \nPour toute question\, n’hésitez pas à nous contacter.
URL:https://www.latelierdeslucioles.fr/event/mediation-scolaire-visite-de-lexposition-en-cours-avec-une-classe-de-lecole-arc-en-ciel-2/2025-06-19/1/
LOCATION:L’atelier des lucioles\, 11 place de l'Église\, Molac\, 56230
CATEGORIES:Agenda,Médiation
END:VEVENT
BEGIN:VEVENT
DTSTART;TZID=Europe/Paris:20240907T093000
DTEND;TZID=Europe/Paris:20240907T160000
DTSTAMP:20260422T011535
CREATED:20240502T161254Z
LAST-MODIFIED:20250618T142140Z
UID:10000640-1725701400-1725724800@www.latelierdeslucioles.fr
SUMMARY:Forum des associations de Molac et de Questembert
DESCRIPTION:L’atelier des lucioles participe aux Forums des associations de Molac de 9h30 à 12h30 et\, pour la première fois\, de Questembert\, de 10h à 16h. \nL’occasion de découvrir nos activités pour la nouvelle saison et de vous y inscrire. 
URL:https://www.latelierdeslucioles.fr/event/forum-asso-molac-2024/2024-09-07/
LOCATION:L’atelier des lucioles\, 11 place de l'Église\, Molac\, 56230
CATEGORIES:Agenda,Événement
END:VEVENT
END:VCALENDAR