BEGIN:VCALENDAR
VERSION:2.0
PRODID:-//L&#039;atelier des lucioles - ECPv6.15.17//NONSGML v1.0//EN
CALSCALE:GREGORIAN
METHOD:PUBLISH
X-WR-CALNAME:L&#039;atelier des lucioles
X-ORIGINAL-URL:https://www.latelierdeslucioles.fr
X-WR-CALDESC:Évènements pour L&#039;atelier des lucioles
REFRESH-INTERVAL;VALUE=DURATION:PT1H
X-Robots-Tag:noindex
X-PUBLISHED-TTL:PT1H
BEGIN:VTIMEZONE
TZID:Europe/Paris
BEGIN:DAYLIGHT
TZOFFSETFROM:+0100
TZOFFSETTO:+0200
TZNAME:CEST
DTSTART:20230326T010000
END:DAYLIGHT
BEGIN:STANDARD
TZOFFSETFROM:+0200
TZOFFSETTO:+0100
TZNAME:CET
DTSTART:20231029T010000
END:STANDARD
BEGIN:DAYLIGHT
TZOFFSETFROM:+0100
TZOFFSETTO:+0200
TZNAME:CEST
DTSTART:20240331T010000
END:DAYLIGHT
BEGIN:STANDARD
TZOFFSETFROM:+0200
TZOFFSETTO:+0100
TZNAME:CET
DTSTART:20241027T010000
END:STANDARD
BEGIN:DAYLIGHT
TZOFFSETFROM:+0100
TZOFFSETTO:+0200
TZNAME:CEST
DTSTART:20250330T010000
END:DAYLIGHT
BEGIN:STANDARD
TZOFFSETFROM:+0200
TZOFFSETTO:+0100
TZNAME:CET
DTSTART:20251026T010000
END:STANDARD
BEGIN:DAYLIGHT
TZOFFSETFROM:+0100
TZOFFSETTO:+0200
TZNAME:CEST
DTSTART:20260329T010000
END:DAYLIGHT
BEGIN:STANDARD
TZOFFSETFROM:+0200
TZOFFSETTO:+0100
TZNAME:CET
DTSTART:20261025T010000
END:STANDARD
BEGIN:DAYLIGHT
TZOFFSETFROM:+0100
TZOFFSETTO:+0200
TZNAME:CEST
DTSTART:20270328T010000
END:DAYLIGHT
BEGIN:STANDARD
TZOFFSETFROM:+0200
TZOFFSETTO:+0100
TZNAME:CET
DTSTART:20271031T010000
END:STANDARD
END:VTIMEZONE
BEGIN:VEVENT
DTSTART;TZID=Europe/Paris:20260227T180000
DTEND;TZID=Europe/Paris:20260227T200000
DTSTAMP:20260421T202951
CREATED:20251218T172223Z
LAST-MODIFIED:20260218T090457Z
UID:10001190-1772215200-1772222400@www.latelierdeslucioles.fr
SUMMARY:Soirée "maison" • Disney Quizh
DESCRIPTION:Ce Disney Quizh vous est proposé par une jeune adhérente et porte… sur les dessins animés Disney\, les récents mais aussi quelques anciens ! Parents\, enfants\, révisez vos classiques. \nNous vous attendons le vendredi 27 février à 18h pour ce retour en enfance ! \nLes places sont limitées ! Pour tout renseignement ou inscription\, contactez-nous par courriel (et n’hésitez pas à vérifier vos spams si vous ne voyez pas venir de réponse rapidement). 
URL:https://www.latelierdeslucioles.fr/event/soiree-maison-disney-quizh/
LOCATION:L’atelier des lucioles\, 11 place de l'Église\, Molac\, 56230
CATEGORIES:Agenda,Événement
END:VEVENT
BEGIN:VEVENT
DTSTART;TZID=Europe/Paris:20260214T200000
DTEND;TZID=Europe/Paris:20260214T220000
DTSTAMP:20260421T202951
CREATED:20250704T074529Z
LAST-MODIFIED:20260303T224721Z
UID:10001068-1771099200-1771106400@www.latelierdeslucioles.fr
SUMMARY:Soirée "maison" • Quizh Love\, love\, love !
DESCRIPTION: \nC’est la reprise des super Soirées Maison avec ce Quizh « Love Love Love » fougueusement animé par le Docteur Mamour et Mister Love\n \nRejoignez-nous pour une soirée jeux conviviale placée sous le signe de l’amour\, du rire et du partage !\nEn famille ou entre amis\, petits et grands sont invités à participer à des jeux amusants\, des défis complices et des moments de bonne humeur autour du thème de l’amour et  du  romantisme.\n \nAu programme :\n❤️ jeux ludiques et accessibles à tous\n💬 échanges\, rires et souvenirs à créer ensemble\n🎲 esprit d’équipe\, bienveillance et fun garanti\nUne soirée idéale pour se retrouver\, renforcer les liens et célébrer l’amour sous toutes ses formes 💕\n \nLes places sont limitées ! Pour tout renseignement ou inscription\, contactez-nous par courriel (et n’hésitez pas à vérifier vos spams si vous ne voyez pas venir de réponse rapidement). \n \n 
URL:https://www.latelierdeslucioles.fr/event/soiree-maison-love-love-love/
LOCATION:L’atelier des lucioles\, 11 place de l'Église\, Molac\, 56230
CATEGORIES:Agenda,Atelier,Événement
ATTACH;FMTTYPE=image/jpeg:https://www.latelierdeslucioles.fr/wp-content/uploads/2026/01/QuizzLoveLoveLove-260214-s.jpg
END:VEVENT
BEGIN:VEVENT
DTSTART;TZID=Europe/Paris:20250503T200000
DTEND;TZID=Europe/Paris:20250503T220000
DTSTAMP:20260421T202951
CREATED:20250130T103543Z
LAST-MODIFIED:20250314T135409Z
UID:10000847-1746302400-1746309600@www.latelierdeslucioles.fr
SUMMARY:Soirée "maison" • Quizh au menu !
DESCRIPTION:Après le temps\, les prénoms et Noël\, c’est à l’alimentation de se retrouver au coeur de notre prochaine soirée « maison » avec « Quizh au menu ! ». \nCette soirée autour de l’alimentation\, de la cuisine et des papilles est imaginée et préparée par Anne et Jeanne Lemaire\, et Cécile Claveirole. \nAu menu : Dévorez nos questions et délectez-vous d’un blind test savoureux !\nDécouvrez les spécialités de nos régions et venez passer un bon moment avec nous !\nPour tout renseignement ou inscription\, contactez-nous par courriel (et n’hésitez pas à vérifier vos spams si vous ne voyez pas venir de réponse rapidement). 
URL:https://www.latelierdeslucioles.fr/event/soiree-maison-quizh-au-menu/
LOCATION:L’atelier des lucioles\, 11 place de l'Église\, Molac\, 56230
CATEGORIES:Agenda,Événement
END:VEVENT
BEGIN:VEVENT
DTSTART;TZID=Europe/Paris:20241214T200000
DTEND;TZID=Europe/Paris:20241214T220000
DTSTAMP:20260421T202951
CREATED:20241202T143318Z
LAST-MODIFIED:20241202T145350Z
UID:10000838-1734206400-1734213600@www.latelierdeslucioles.fr
SUMMARY:Soirée Jingle Bells ! Blind test musical\, ciné et Quizh sur Noël !
DESCRIPTION:Noël\, c’est tous les ans\, profitons-en pour le fêter ! \nC’est ce que nous ferons le samedi 14 décembre à L’atelier des lucioles ! Une soirée ludique ouverte à tous autour de la musique et du cinéma ! Enfin\, pas n’importe lesquels : des chansons et des films qui nous causent de Noël ici ou là ! S’y ajoutera un quizh sur la façon dont Noël est fêté ou pas dans le monde… \nC’est une soirée gratuite sérieusement bricolée entre nous qui se veut drôle et conviviale\, comme l’ont été nos « soirée bissextile » et « questions pour un prénom ».  \nComme d’habitude\, un petit mail de confirmation à contact@latelierdeslucioles.fr sera parfait ! 
URL:https://www.latelierdeslucioles.fr/event/soiree-noel-2024/
LOCATION:L’atelier des lucioles\, 11 place de l'Église\, Molac\, 56230
CATEGORIES:Agenda,Événement
END:VEVENT
END:VCALENDAR