BEGIN:VCALENDAR
VERSION:2.0
PRODID:-//L&#039;atelier des lucioles - ECPv6.15.17//NONSGML v1.0//EN
CALSCALE:GREGORIAN
METHOD:PUBLISH
X-WR-CALNAME:L&#039;atelier des lucioles
X-ORIGINAL-URL:https://www.latelierdeslucioles.fr
X-WR-CALDESC:Évènements pour L&#039;atelier des lucioles
REFRESH-INTERVAL;VALUE=DURATION:PT1H
X-Robots-Tag:noindex
X-PUBLISHED-TTL:PT1H
BEGIN:VTIMEZONE
TZID:Europe/Paris
BEGIN:DAYLIGHT
TZOFFSETFROM:+0100
TZOFFSETTO:+0200
TZNAME:CEST
DTSTART:20220327T010000
END:DAYLIGHT
BEGIN:STANDARD
TZOFFSETFROM:+0200
TZOFFSETTO:+0100
TZNAME:CET
DTSTART:20221030T010000
END:STANDARD
BEGIN:DAYLIGHT
TZOFFSETFROM:+0100
TZOFFSETTO:+0200
TZNAME:CEST
DTSTART:20230326T010000
END:DAYLIGHT
BEGIN:STANDARD
TZOFFSETFROM:+0200
TZOFFSETTO:+0100
TZNAME:CET
DTSTART:20231029T010000
END:STANDARD
BEGIN:DAYLIGHT
TZOFFSETFROM:+0100
TZOFFSETTO:+0200
TZNAME:CEST
DTSTART:20240331T010000
END:DAYLIGHT
BEGIN:STANDARD
TZOFFSETFROM:+0200
TZOFFSETTO:+0100
TZNAME:CET
DTSTART:20241027T010000
END:STANDARD
END:VTIMEZONE
BEGIN:VEVENT
DTSTART;TZID=Europe/Paris:20231014T133000
DTEND;TZID=Europe/Paris:20231014T173000
DTSTAMP:20260423T075536
CREATED:20230926T141901Z
LAST-MODIFIED:20231016T181256Z
UID:10000396-1697290200-1697304600@www.latelierdeslucioles.fr
SUMMARY:Dessin - Peinture • Le portrait au fusain
DESCRIPTION:Animé par Nadja Holland\nNous commencerons par apprendre les proportions ainsi que les différentes mesures du visage. \nCes mesures peuvent se révéler être des repères lorsque nous dessinons et remarquons\, par exemple\, que « quelque chose » ne fonctionne pas.Par la suite\, nous travaillerons avec du fusain par soustraction. Pour cela\, nous utiliserons gomme\, cotons-tiges\, gomme mie-de-pain.  \nLa technique de soustraction permet de modéliser les volumes et de comprendre comment sculpter et dessiner le visage.  \nDans un premier temps\, je conseille de ne se pas fixer sur la ressemblance mais plutôt de trouver et d’inventer des visages. Si toutefois\, vous avez envie de faire le portrait de quelqu’un\, venez avec sa photo. Cette démarche demande en effet déjà une bonne base d’observation. Vous pouvez aussi apporter des photos de référence avec vous\, qui seront là pour vous inspirer. \nPour information\, deux autres ateliers ponctuels sur une technique précise sont programmés les samedi 18 novembre et 9 décembre aux mêmes conditions.  \nPublic / Prérequis : Tout public\, débutant comme confirmé \nMinimum / maximum de participants : 6 / 12\n\nTarif : 40 € pour les adhérents\, 44 € pour les non adhérents matériel compris. Un acompte de 50% est demandé à la réservation. Il sera conservé en cas d’annulation par le participant survenant moins de 3 jours ouvrés avant l’atelier (sauf si la personne se désistant trouve un remplaçant) et remboursé si l’atelier n’a pas lieu\, faute d’un nombre suffisant de participants. Paiement de l’acompte par chèque ou espèces \nPour tout renseignement ou inscription\, contactez-nous par courriel (et n’hésitez pas à vérifier vos spams si vous ne voyez pas venir de réponse rapidement).
URL:https://www.latelierdeslucioles.fr/event/peinture-portrait-fusain/
LOCATION:L’atelier des lucioles\, 11 place de l'Église\, Molac\, 56230
CATEGORIES:Agenda,Atelier,Peinture
ATTACH;FMTTYPE=image/jpeg:https://www.latelierdeslucioles.fr/wp-content/uploads/2023/09/IMG_7179-s.jpg
END:VEVENT
END:VCALENDAR