BEGIN:VCALENDAR
VERSION:2.0
PRODID:-//L&#039;atelier des lucioles - ECPv6.15.17//NONSGML v1.0//EN
CALSCALE:GREGORIAN
METHOD:PUBLISH
X-WR-CALNAME:L&#039;atelier des lucioles
X-ORIGINAL-URL:https://www.latelierdeslucioles.fr
X-WR-CALDESC:Évènements pour L&#039;atelier des lucioles
REFRESH-INTERVAL;VALUE=DURATION:PT1H
X-Robots-Tag:noindex
X-PUBLISHED-TTL:PT1H
BEGIN:VTIMEZONE
TZID:Europe/Paris
BEGIN:DAYLIGHT
TZOFFSETFROM:+0100
TZOFFSETTO:+0200
TZNAME:CEST
DTSTART:20230326T010000
END:DAYLIGHT
BEGIN:STANDARD
TZOFFSETFROM:+0200
TZOFFSETTO:+0100
TZNAME:CET
DTSTART:20231029T010000
END:STANDARD
BEGIN:DAYLIGHT
TZOFFSETFROM:+0100
TZOFFSETTO:+0200
TZNAME:CEST
DTSTART:20240331T010000
END:DAYLIGHT
BEGIN:STANDARD
TZOFFSETFROM:+0200
TZOFFSETTO:+0100
TZNAME:CET
DTSTART:20241027T010000
END:STANDARD
BEGIN:DAYLIGHT
TZOFFSETFROM:+0100
TZOFFSETTO:+0200
TZNAME:CEST
DTSTART:20250330T010000
END:DAYLIGHT
BEGIN:STANDARD
TZOFFSETFROM:+0200
TZOFFSETTO:+0100
TZNAME:CET
DTSTART:20251026T010000
END:STANDARD
BEGIN:DAYLIGHT
TZOFFSETFROM:+0100
TZOFFSETTO:+0200
TZNAME:CEST
DTSTART:20260329T010000
END:DAYLIGHT
BEGIN:STANDARD
TZOFFSETFROM:+0200
TZOFFSETTO:+0100
TZNAME:CET
DTSTART:20261025T010000
END:STANDARD
END:VTIMEZONE
BEGIN:VEVENT
DTSTART;TZID=Europe/Paris:20251206T093000
DTEND;TZID=Europe/Paris:20251206T123000
DTSTAMP:20260423T003438
CREATED:20250619T121924Z
LAST-MODIFIED:20250729T224545Z
UID:10000980-1765013400-1765024200@www.latelierdeslucioles.fr
SUMMARY:Modelage • Créer un soliflore
DESCRIPTION:Animé par Corinne Fillion\, Poussières d’Argile\nCorinne Fillion vous propose d’apprendre les bases du modelage et d’enrichir vos connaissances du travail de l’argile en créant un vase soliflore. \nPlusieurs dates sont prévues avec des ateliers de durée variable :\n– vendredi 12 septembre : créer un animal en argile\n– mercredi 8 octobre : atelier enfant ; créer un personnage rigolo\n– vendredi 10 octobre : créer une maison photophore\n– samedi 8 novembre : atelier enfant / adulte ; créer de la déco de Noël\n– samedi 6 décembre : créer un vase soliflore \nPublic / Prérequis : atelier ouvert à tous à  partir de 10 ans \nMinimum / maximum de participants : 3 /5-6 \nTarif : 40€ tarif adhérent ; 44€ tarif non adhérent pour l’atelier de 3h ; tout compris. Un acompte de 50% est demandé à la réservation. Il sera conservé en cas d’annulation par le participant survenant moins de 3 jours ouvrés avant l’atelier (sauf si la personne se désistant trouve un remplaçant) et remboursé si l’atelier n’a pas lieu\, faute d’un nombre suffisant de participants. Paiement de l’acompte par chèque\, espèces ou en ligne via HelloAsso ↗️. \nInformations pratiques : prévoir une blouse\, ou un T-shirt large non précieux… \nÀ savoir : Corinne emportera les sculptures à son atelier pour cuisson. Vous pourrez les récupérer au minimum un mois après (temps nécessaire de séchage et cuisson). Une fois vos sculptures cuites\, dans un autre atelier\, Corinne proposera d’apprendre à les patiner avec des pigments naturels. \nPour tout renseignement ou inscription\, contactez-nous par courriel (et n’hésitez pas à vérifier vos spams si vous ne voyez pas venir de réponse rapidement).
URL:https://www.latelierdeslucioles.fr/event/modelage-dec25/
LOCATION:L’atelier des lucioles\, 11 place de l'Église\, Molac\, 56230
CATEGORIES:Agenda,Atelier,Poterie
END:VEVENT
BEGIN:VEVENT
DTSTART;TZID=Europe/Paris:20240830T140000
DTEND;TZID=Europe/Paris:20240830T170000
DTSTAMP:20260423T003438
CREATED:20240124T141638Z
LAST-MODIFIED:20240625T202243Z
UID:10000652-1725026400-1725037200@www.latelierdeslucioles.fr
SUMMARY:Peinture • Découvrir la peinture végétale
DESCRIPTION:Animé par Frédérique Pedron-Deroche\, Des graines et des brouettes\nFrédérique Pedron-Deroche vous propose une initiation à la peinture végétale. La première étape consistera à fabriquer des pinceaux avec des éléments de plantes. Il s’agira ensuite de créer des encres végétales. L’atelier s’achèvera par un moment de créativité où chacun sera amené à expérimenter son nouvel équipement d’artiste ! \nCet atelier\, à la rencontre de la botanique\, de la biologie\, de la chimie et de l’art\, sensibilise à la reconnaissance et à l’utilisation des plantes sauvages et cultivées pour créer ses propres outils ainsi qu’à la préparation de plantes tinctoriales pour réaliser une riche palette de couleurs végétales. \nPublic / Prérequis : tout public dès 7 ans ; duos parent-enfant bienvenus et ouvert aux adultes  \nMinimum / maximum de participants : 6 (3 duos ou une configuration de duos\, d’adultes et d’enfants seuls totalisant 6 personnes) / 12  \nTarif : 30€ le duo tarif adhérent ; 18€ tarif enfant ou adulte seul.e adhérent – 33€ le duo tarif non adhérent ; 20€ tarif enfant ou adulte seul.e non adhérent ; tout compris. Un acompte de 50% est demandé à la réservation. Il sera conservé en cas d’annulation par le participant survenant moins de 3 jours ouvrés avant l’atelier (sauf si la personne se désistant trouve un remplaçant) et remboursé si l’atelier n’a pas lieu\, faute d’un nombre suffisant de participants. Paiement de l’acompte par chèque\, espèces ou en ligne via HelloAsso ↗️. \nInformations pratiques : prévoir une blouse\, ou un T-shirt pour se protéger. \nPour tout renseignement ou inscription\, écrivez-nous à contact@latelierdeslucioles.fr (et n’hésitez pas à vérifier vos spams si vous ne voyez pas venir de réponse rapidement)\, appelez-nous au 06 22 47 79 73 (merci de ne pas envoyer de SMS) ou passez nous voir au 11 Place de l’Église\, 56230 Molac.
URL:https://www.latelierdeslucioles.fr/event/peinture-decouvrir-la-peinture-vegetale/2024-08-30/
LOCATION:L’atelier des lucioles\, 11 place de l'Église\, Molac\, 56230
CATEGORIES:Agenda,Atelier,Peinture
ATTACH;FMTTYPE=image/jpeg:https://www.latelierdeslucioles.fr/wp-content/uploads/2024/01/peinture-vegetale-palette-de-couleurs-s.jpg
END:VEVENT
BEGIN:VEVENT
DTSTART;TZID=Europe/Paris:20240425T140000
DTEND;TZID=Europe/Paris:20240425T170000
DTSTAMP:20260423T003438
CREATED:20240319T151127Z
LAST-MODIFIED:20240415T131122Z
UID:10000591-1714053600-1714064400@www.latelierdeslucioles.fr
SUMMARY:Laine feutrée à l'eau et au savon • Créer des fleurs
DESCRIPTION:Animé par Sara Cappato\, On s’en feutre\nSara Cappato vous propose de découvrir une deuxième technique autour de la laine feutrée : le feutrage à l’eau et au savon. C’est une technique très ancienne à laquelle vous pourrez vous initier en créant une fleur (et même plusieurs !). \nL’atelier se déroule sur deux séances de 3h (sur 2 j) : mercredi 24 avril 2024 de 14h à 17h et jeudi 25 avril 2024 de 14h à 17h\nVous commencerez en effet par créer des fleurs qui devront ensuite sécher avant de pouvoir être terminées le lendemain (installation de la tige\, confection du pistil et éventuellement de bourgeons).  \nPublic / Prérequis : Tout public – Cet atelier est accessible aux enfants dès 10 ans accompagnés d’un adulte. Il requiert d’être attentif et patient\, tout en restant tout de même amusant ! Le deuxième jour nécessite un minimum de capacité à manier une aiguille car il faudra coudre. Aucune expérience n’est demandée\, mais une bonne manualité sera un plus pour le résultat final.  \nMinimum / maximum de participants : 4-8 \nTarif : 50€ pour les adhérents l’atelier de 6h tout compris ; 55€ pour les non adhérents l’atelier de 6h tout compris – 75€ pour un duo parent-enfant adhérent l’atelier de 6h tout compris ; 82\,50€ pour un duo parent-enfant non adhérent l’atelier de 6h tout compris. Un acompte de 50% est demandé à la réservation. Il sera conservé en cas d’annulation par le participant survenant moins de 3 jours ouvrés avant l’atelier (sauf si la personne se désistant trouve un remplaçant) et remboursé si l’atelier n’a pas lieu\, faute d’un nombre suffisant de participants. Paiement de l’acompte par chèque\, espèces ou en ligne via HelloAsso ↗️. \nPour tout renseignement ou inscription\, contactez-nous par courriel (et n’hésitez pas à vérifier vos spams si vous ne voyez pas venir de réponse rapidement).
URL:https://www.latelierdeslucioles.fr/event/laine-feutree-a-leau-et-au-savon-creer-des-fleurs/2024-04-25/
LOCATION:L’atelier des lucioles\, 11 place de l'Église\, Molac\, 56230
CATEGORIES:Agenda,Atelier,Laine feutrée
ATTACH;FMTTYPE=image/jpeg:https://www.latelierdeslucioles.fr/wp-content/uploads/2024/03/bouquetfleurs-2-s.jpg
END:VEVENT
BEGIN:VEVENT
DTSTART;TZID=Europe/Paris:20240424T140000
DTEND;TZID=Europe/Paris:20240424T170000
DTSTAMP:20260423T003438
CREATED:20240319T151127Z
LAST-MODIFIED:20240415T131122Z
UID:10000590-1713967200-1713978000@www.latelierdeslucioles.fr
SUMMARY:Laine feutrée à l'eau et au savon • Créer des fleurs
DESCRIPTION:Animé par Sara Cappato\, On s’en feutre\nSara Cappato vous propose de découvrir une deuxième technique autour de la laine feutrée : le feutrage à l’eau et au savon. C’est une technique très ancienne à laquelle vous pourrez vous initier en créant une fleur (et même plusieurs !). \nL’atelier se déroule sur deux séances de 3h (sur 2 j) : mercredi 24 avril 2024 de 14h à 17h et jeudi 25 avril 2024 de 14h à 17h\nVous commencerez en effet par créer des fleurs qui devront ensuite sécher avant de pouvoir être terminées le lendemain (installation de la tige\, confection du pistil et éventuellement de bourgeons).  \nPublic / Prérequis : Tout public – Cet atelier est accessible aux enfants dès 10 ans accompagnés d’un adulte. Il requiert d’être attentif et patient\, tout en restant tout de même amusant ! Le deuxième jour nécessite un minimum de capacité à manier une aiguille car il faudra coudre. Aucune expérience n’est demandée\, mais une bonne manualité sera un plus pour le résultat final.  \nMinimum / maximum de participants : 4-8 \nTarif : 50€ pour les adhérents l’atelier de 6h tout compris ; 55€ pour les non adhérents l’atelier de 6h tout compris – 75€ pour un duo parent-enfant adhérent l’atelier de 6h tout compris ; 82\,50€ pour un duo parent-enfant non adhérent l’atelier de 6h tout compris. Un acompte de 50% est demandé à la réservation. Il sera conservé en cas d’annulation par le participant survenant moins de 3 jours ouvrés avant l’atelier (sauf si la personne se désistant trouve un remplaçant) et remboursé si l’atelier n’a pas lieu\, faute d’un nombre suffisant de participants. Paiement de l’acompte par chèque\, espèces ou en ligne via HelloAsso ↗️. \nPour tout renseignement ou inscription\, contactez-nous par courriel (et n’hésitez pas à vérifier vos spams si vous ne voyez pas venir de réponse rapidement).
URL:https://www.latelierdeslucioles.fr/event/laine-feutree-a-leau-et-au-savon-creer-des-fleurs/2024-04-24/
LOCATION:L’atelier des lucioles\, 11 place de l'Église\, Molac\, 56230
CATEGORIES:Agenda,Atelier,Laine feutrée
ATTACH;FMTTYPE=image/jpeg:https://www.latelierdeslucioles.fr/wp-content/uploads/2024/03/bouquetfleurs-2-s.jpg
END:VEVENT
BEGIN:VEVENT
DTSTART;TZID=Europe/Paris:20240229T140000
DTEND;TZID=Europe/Paris:20240229T170000
DTSTAMP:20260423T003438
CREATED:20240124T141638Z
LAST-MODIFIED:20240625T202243Z
UID:10000556-1709215200-1709226000@www.latelierdeslucioles.fr
SUMMARY:Peinture • Découvrir la peinture végétale
DESCRIPTION:Animé par Frédérique Pedron-Deroche\, Des graines et des brouettes\nFrédérique Pedron-Deroche vous propose une initiation à la peinture végétale. La première étape consistera à fabriquer des pinceaux avec des éléments de plantes. Il s’agira ensuite de créer des encres végétales. L’atelier s’achèvera par un moment de créativité où chacun sera amené à expérimenter son nouvel équipement d’artiste ! \nCet atelier\, à la rencontre de la botanique\, de la biologie\, de la chimie et de l’art\, sensibilise à la reconnaissance et à l’utilisation des plantes sauvages et cultivées pour créer ses propres outils ainsi qu’à la préparation de plantes tinctoriales pour réaliser une riche palette de couleurs végétales. \nPublic / Prérequis : tout public dès 7 ans ; duos parent-enfant bienvenus et ouvert aux adultes  \nMinimum / maximum de participants : 6 (3 duos ou une configuration de duos\, d’adultes et d’enfants seuls totalisant 6 personnes) / 12  \nTarif : 30€ le duo tarif adhérent ; 18€ tarif enfant ou adulte seul.e adhérent – 33€ le duo tarif non adhérent ; 20€ tarif enfant ou adulte seul.e non adhérent ; tout compris. Un acompte de 50% est demandé à la réservation. Il sera conservé en cas d’annulation par le participant survenant moins de 3 jours ouvrés avant l’atelier (sauf si la personne se désistant trouve un remplaçant) et remboursé si l’atelier n’a pas lieu\, faute d’un nombre suffisant de participants. Paiement de l’acompte par chèque\, espèces ou en ligne via HelloAsso ↗️. \nInformations pratiques : prévoir une blouse\, ou un T-shirt pour se protéger. \nPour tout renseignement ou inscription\, écrivez-nous à contact@latelierdeslucioles.fr (et n’hésitez pas à vérifier vos spams si vous ne voyez pas venir de réponse rapidement)\, appelez-nous au 06 22 47 79 73 (merci de ne pas envoyer de SMS) ou passez nous voir au 11 Place de l’Église\, 56230 Molac.
URL:https://www.latelierdeslucioles.fr/event/peinture-decouvrir-la-peinture-vegetale/2024-02-29/
LOCATION:L’atelier des lucioles\, 11 place de l'Église\, Molac\, 56230
CATEGORIES:Agenda,Atelier,Peinture
ATTACH;FMTTYPE=image/jpeg:https://www.latelierdeslucioles.fr/wp-content/uploads/2024/01/peinture-vegetale-palette-de-couleurs-s.jpg
END:VEVENT
END:VCALENDAR