BEGIN:VCALENDAR
VERSION:2.0
PRODID:-//L&#039;atelier des lucioles - ECPv6.15.17//NONSGML v1.0//EN
CALSCALE:GREGORIAN
METHOD:PUBLISH
X-WR-CALNAME:L&#039;atelier des lucioles
X-ORIGINAL-URL:https://www.latelierdeslucioles.fr
X-WR-CALDESC:Évènements pour L&#039;atelier des lucioles
REFRESH-INTERVAL;VALUE=DURATION:PT1H
X-Robots-Tag:noindex
X-PUBLISHED-TTL:PT1H
BEGIN:VTIMEZONE
TZID:Europe/Paris
BEGIN:DAYLIGHT
TZOFFSETFROM:+0100
TZOFFSETTO:+0200
TZNAME:CEST
DTSTART:20220327T010000
END:DAYLIGHT
BEGIN:STANDARD
TZOFFSETFROM:+0200
TZOFFSETTO:+0100
TZNAME:CET
DTSTART:20221030T010000
END:STANDARD
BEGIN:DAYLIGHT
TZOFFSETFROM:+0100
TZOFFSETTO:+0200
TZNAME:CEST
DTSTART:20230326T010000
END:DAYLIGHT
BEGIN:STANDARD
TZOFFSETFROM:+0200
TZOFFSETTO:+0100
TZNAME:CET
DTSTART:20231029T010000
END:STANDARD
BEGIN:DAYLIGHT
TZOFFSETFROM:+0100
TZOFFSETTO:+0200
TZNAME:CEST
DTSTART:20240331T010000
END:DAYLIGHT
BEGIN:STANDARD
TZOFFSETFROM:+0200
TZOFFSETTO:+0100
TZNAME:CET
DTSTART:20241027T010000
END:STANDARD
END:VTIMEZONE
BEGIN:VEVENT
DTSTART;TZID=Europe/Paris:20230726T100000
DTEND;TZID=Europe/Paris:20230726T120000
DTSTAMP:20260423T050439
CREATED:20230614T190706Z
LAST-MODIFIED:20240125T200205Z
UID:10000288-1690365600-1690372800@www.latelierdeslucioles.fr
SUMMARY:Atelier peinture & découpage
DESCRIPTION:Animé par Yvan Duque\n \nYvan Duque propose un atelier d’illustration destiné aux enfants autour de ses albums jeunesse\, Ultralazer\, Nils Holgersson et Comme un géant. \nAprès un temps d’échange autour de la création d’un livre\, les enfants réaliseront leur propre illustration à la peinture et en découpage « A la manière de ». \nPublic : 4 à 10 ans\nMinimum / maximum de participants : 5 / 8 personnes\nTarif : 30 € pour les adhérents ; 33 € pour les non-adhérents – Un acompte de 50% est demandé à la réservation. Il sera conservé en cas d’annulation par le participant survenant moins de 3 jours ouvrés avant l’atelier (sauf si la personne se désistant trouve un remplaçant) et remboursé si l’atelier n’a pas lieu\, faute d’un nombre suffisant d’inscrits. Paiement de l’acompte par chèque\, espèces ou en ligne via HelloAsso. \nPour tout renseignement ou inscription\, écrivez-nous à contact@latelierdeslucioles.fr (et n’hésitez pas à vérifier vos spams si vous ne voyez pas venir de réponse rapidement)\, appelez-nous au 06 22 47 79 73 (merci de ne pas envoyer de SMS) ou passez nous voir au 11 Place de l’Église\, 56230 Molac.
URL:https://www.latelierdeslucioles.fr/event/atelier-peinture-decoupage/2023-07-26/
LOCATION:L’atelier des lucioles\, 11 place de l'Église\, Molac\, 56230
CATEGORIES:Agenda,Atelier,Peinture
ATTACH;FMTTYPE=image/jpeg:https://www.latelierdeslucioles.fr/wp-content/uploads/2023/06/tumblr_oy2eg4NFce1ren44io1_1280-s.jpg
END:VEVENT
END:VCALENDAR