BEGIN:VCALENDAR
VERSION:2.0
PRODID:-//L&#039;atelier des lucioles - ECPv6.15.17//NONSGML v1.0//EN
CALSCALE:GREGORIAN
METHOD:PUBLISH
X-ORIGINAL-URL:https://www.latelierdeslucioles.fr
X-WR-CALDESC:Évènements pour L&#039;atelier des lucioles
REFRESH-INTERVAL;VALUE=DURATION:PT1H
X-Robots-Tag:noindex
X-PUBLISHED-TTL:PT1H
BEGIN:VTIMEZONE
TZID:Europe/Paris
BEGIN:DAYLIGHT
TZOFFSETFROM:+0100
TZOFFSETTO:+0200
TZNAME:CEST
DTSTART:20250330T010000
END:DAYLIGHT
BEGIN:STANDARD
TZOFFSETFROM:+0200
TZOFFSETTO:+0100
TZNAME:CET
DTSTART:20251026T010000
END:STANDARD
BEGIN:DAYLIGHT
TZOFFSETFROM:+0100
TZOFFSETTO:+0200
TZNAME:CEST
DTSTART:20260329T010000
END:DAYLIGHT
BEGIN:STANDARD
TZOFFSETFROM:+0200
TZOFFSETTO:+0100
TZNAME:CET
DTSTART:20261025T010000
END:STANDARD
BEGIN:DAYLIGHT
TZOFFSETFROM:+0100
TZOFFSETTO:+0200
TZNAME:CEST
DTSTART:20270328T010000
END:DAYLIGHT
BEGIN:STANDARD
TZOFFSETFROM:+0200
TZOFFSETTO:+0100
TZNAME:CET
DTSTART:20271031T010000
END:STANDARD
END:VTIMEZONE
BEGIN:VEVENT
DTSTART;TZID=Europe/Paris:20260407T153000
DTEND;TZID=Europe/Paris:20260407T160000
DTSTAMP:20260423T040907
CREATED:20260402T132109Z
LAST-MODIFIED:20260406T152357Z
UID:10001243-1775575800-1775577600@www.latelierdeslucioles.fr
SUMMARY:Médiation scolaire • Visite de l’exposition en cours
DESCRIPTION:Dans le cadre de ses actions de médiation\, L’atelier des lucioles se propose d’accueillir les scolaires pour des visites commentées de l’exposition en cours. \nEn ce moment\, il s’agit de l’exposition « Autres terres » de la mosaïste Paulina Okurowska. \nPour toute question\, n’hésitez pas à nous contacter.
URL:https://www.latelierdeslucioles.fr/event/mediation-scolaire-visite-de-lexposition-en-cours-2-2/2026-04-07/
CATEGORIES:Agenda,Médiation
END:VEVENT
BEGIN:VEVENT
DTSTART;TZID=Europe/Paris:20260410T134000
DTEND;TZID=Europe/Paris:20260410T153000
DTSTAMP:20260423T040907
CREATED:20260406T153218Z
LAST-MODIFIED:20260406T153219Z
UID:10001240-1775828400-1775835000@www.latelierdeslucioles.fr
SUMMARY:Médiation scolaire • Visite de l’exposition en cours
DESCRIPTION:Dans le cadre de ses actions de médiation\, L’atelier des lucioles se propose d’accueillir les scolaires pour des visites commentées de l’exposition en cours. \nEn ce moment\, il s’agit de l’exposition « Autres terres » de la mosaïste Paulina Okurowska. \nPour toute question\, n’hésitez pas à nous contacter.
URL:https://www.latelierdeslucioles.fr/event/mediation-scolaire-visite-de-lexposition-en-cours-2-2-2/
CATEGORIES:Agenda,Médiation
END:VEVENT
BEGIN:VEVENT
DTSTART;TZID=Europe/Paris:20260411T103000
DTEND;TZID=Europe/Paris:20260411T120000
DTSTAMP:20260423T040907
CREATED:20250627T095200Z
LAST-MODIFIED:20260309T092627Z
UID:10001057-1775903400-1775908800@www.latelierdeslucioles.fr
SUMMARY:Dessin-peinture • Dès 6 ans • Le cirque du futur  • En partenariat avec le festival Mic-Mac à Molac
DESCRIPTION:Animé par Virginie Gueutal\nTout au long de l’année\, Virginie Gueutal propose des ateliers pour enfants à partir de 6 ans explorant différentes techniques : le dessin\, la peinture\, le collage… \nCet atelier « Le cirque du futur » est un peu particulier puisqu’il s’inscrit dans la programmation de la 1re édition du festival Mic-Mac à Molac qui se tient les 10 et 11 avril\, sous chapiteau\, sur le site de Molac Expo. \nDans ce cadre\, L’atelier des lucioles propose deux ateliers gratuitement donT celui-ci. Exceptionnellement\, cet atelier aura lieu sur le site du festival sous le chapiteau qui accueillera les spectacles et concerts. \n\n– Samedi 21 mars de 10h30 à 12h : Lutin de la St Patrick\n– Samedi 11 avril de 10h30 à 12h : Le cirque du futur\n– Mardi 21 avril de 10h30 à 12h : Autocollants Kawaii\n– Samedi 23 mai de 10h30 à 12h : Sushi surfeur\n– Samedi 27 juin de 10h30 à 12h : Sous les tropiques\n \n\nPublic / Prérequis : 6 – 12 ans ; cela peut être un peu plus jeune si votre enfant est autonome\n\nMinimum / maximum de participants : 3 / 10 \nTarif : dans le cadre du festival Mic-Mac à Molac\, cet atelier est offert aux participants par L’atelier des lucioles. Notez que s’il y a plus de 10 pré-inscriptions\, un tirage au sort sera réalisé pour distribuer les 10 places possibles. \nInfos pratiques : prévoir des vêtements pouvant être tachés \nPour tout renseignement ou inscription\, contactez-nous par courriel (et n’hésitez pas à vérifier vos spams si vous ne voyez pas venir de réponse rapidement). 
URL:https://www.latelierdeslucioles.fr/event/dessin-peinture-cirque-futur/
LOCATION:L’atelier des lucioles\, 11 place de l'Église\, Molac\, 56230
CATEGORIES:Agenda,Atelier,Dessin,Dessin 7-12 ans,Poterie
END:VEVENT
END:VCALENDAR