BEGIN:VCALENDAR
VERSION:2.0
PRODID:-//L&#039;atelier des lucioles - ECPv6.15.17//NONSGML v1.0//EN
CALSCALE:GREGORIAN
METHOD:PUBLISH
X-WR-CALNAME:L&#039;atelier des lucioles
X-ORIGINAL-URL:https://www.latelierdeslucioles.fr
X-WR-CALDESC:Évènements pour L&#039;atelier des lucioles
REFRESH-INTERVAL;VALUE=DURATION:PT1H
X-Robots-Tag:noindex
X-PUBLISHED-TTL:PT1H
BEGIN:VTIMEZONE
TZID:Europe/Paris
BEGIN:DAYLIGHT
TZOFFSETFROM:+0100
TZOFFSETTO:+0200
TZNAME:CEST
DTSTART:20230326T010000
END:DAYLIGHT
BEGIN:STANDARD
TZOFFSETFROM:+0200
TZOFFSETTO:+0100
TZNAME:CET
DTSTART:20231029T010000
END:STANDARD
BEGIN:DAYLIGHT
TZOFFSETFROM:+0100
TZOFFSETTO:+0200
TZNAME:CEST
DTSTART:20240331T010000
END:DAYLIGHT
BEGIN:STANDARD
TZOFFSETFROM:+0200
TZOFFSETTO:+0100
TZNAME:CET
DTSTART:20241027T010000
END:STANDARD
BEGIN:DAYLIGHT
TZOFFSETFROM:+0100
TZOFFSETTO:+0200
TZNAME:CEST
DTSTART:20250330T010000
END:DAYLIGHT
BEGIN:STANDARD
TZOFFSETFROM:+0200
TZOFFSETTO:+0100
TZNAME:CET
DTSTART:20251026T010000
END:STANDARD
END:VTIMEZONE
BEGIN:VEVENT
DTSTART;TZID=Europe/Paris:20240226T140000
DTEND;TZID=Europe/Paris:20240226T153000
DTSTAMP:20260425T040215
CREATED:20240208T145916Z
LAST-MODIFIED:20260320T162047Z
UID:10000569-1708956000-1708961400@www.latelierdeslucioles.fr
SUMMARY:Photographie • Jeu de piste photo
DESCRIPTION:Animé par Lou Camino\nLou Camino propose une chasse au trésor photographique dans le bourg de Molac pour aborder quelques bases de la photographie de manière ludique. Elle proposera ainsi une série de photographies prises dans l’environnement proche de L’atelier des lucioles et les enfants devront trouver le lieu ou l’élément photographié et le prendre à leur tour en photo en étant le plus fidèle possible à l’original. \n> Objectifs recherchés : apprendre à observer son environnement ; repérer des indices sur une photographie ; se repérer dans l’espace ; apprendre à gérer sa distance\, sa posture à l’élément photographié et à cadrer une photographie. Autant de réflexes utiles pour s’initier à la photographie. \nPublic / Prérequis : 7 – 12 ans\nMinimum / maximum de participants : 4 / 8\nTarif : 12 € pour les adhérents\, 13 € pour les non adhérents \nPour tout renseignement ou inscription\, contactez-nous par courriel (et n’hésitez pas à vérifier vos spams si vous ne voyez pas venir de réponse rapidement). \n 
URL:https://www.latelierdeslucioles.fr/event/photographie-jeu-de-piste-photo/2024-02-26/
LOCATION:L’atelier des lucioles\, 11 place de l'Église\, Molac\, 56230
CATEGORIES:Agenda,Atelier,Initiation photo,Photographie
ATTACH;FMTTYPE=image/jpeg:https://www.latelierdeslucioles.fr/wp-content/uploads/2024/02/20240210_162548-S.jpg
END:VEVENT
BEGIN:VEVENT
DTSTART;TZID=Europe/Paris:20240301T140000
DTEND;TZID=Europe/Paris:20240301T160000
DTSTAMP:20260425T040215
CREATED:20230614T190706Z
LAST-MODIFIED:20240125T200205Z
UID:10000548-1709301600-1709308800@www.latelierdeslucioles.fr
SUMMARY:Atelier peinture & découpage
DESCRIPTION:Animé par Yvan Duque\n \nYvan Duque propose un atelier d’illustration destiné aux enfants autour de ses albums jeunesse\, Ultralazer\, Nils Holgersson et Comme un géant. \nAprès un temps d’échange autour de la création d’un livre\, les enfants réaliseront leur propre illustration à la peinture et en découpage « A la manière de ». \nPublic : 4 à 10 ans\nMinimum / maximum de participants : 5 / 8 personnes\nTarif : 30 € pour les adhérents ; 33 € pour les non-adhérents – Un acompte de 50% est demandé à la réservation. Il sera conservé en cas d’annulation par le participant survenant moins de 3 jours ouvrés avant l’atelier (sauf si la personne se désistant trouve un remplaçant) et remboursé si l’atelier n’a pas lieu\, faute d’un nombre suffisant d’inscrits. Paiement de l’acompte par chèque\, espèces ou en ligne via HelloAsso. \nPour tout renseignement ou inscription\, écrivez-nous à contact@latelierdeslucioles.fr (et n’hésitez pas à vérifier vos spams si vous ne voyez pas venir de réponse rapidement)\, appelez-nous au 06 22 47 79 73 (merci de ne pas envoyer de SMS) ou passez nous voir au 11 Place de l’Église\, 56230 Molac.
URL:https://www.latelierdeslucioles.fr/event/atelier-peinture-decoupage/2024-03-01/
LOCATION:L’atelier des lucioles\, 11 place de l'Église\, Molac\, 56230
CATEGORIES:Agenda,Atelier,Peinture
ATTACH;FMTTYPE=image/jpeg:https://www.latelierdeslucioles.fr/wp-content/uploads/2023/06/tumblr_oy2eg4NFce1ren44io1_1280-s.jpg
END:VEVENT
END:VCALENDAR