BEGIN:VCALENDAR
VERSION:2.0
PRODID:-//L&#039;atelier des lucioles - ECPv6.15.17//NONSGML v1.0//EN
CALSCALE:GREGORIAN
METHOD:PUBLISH
X-WR-CALNAME:L&#039;atelier des lucioles
X-ORIGINAL-URL:https://www.latelierdeslucioles.fr
X-WR-CALDESC:Évènements pour L&#039;atelier des lucioles
REFRESH-INTERVAL;VALUE=DURATION:PT1H
X-Robots-Tag:noindex
X-PUBLISHED-TTL:PT1H
BEGIN:VTIMEZONE
TZID:Europe/Paris
BEGIN:DAYLIGHT
TZOFFSETFROM:+0100
TZOFFSETTO:+0200
TZNAME:CEST
DTSTART:20250330T010000
END:DAYLIGHT
BEGIN:STANDARD
TZOFFSETFROM:+0200
TZOFFSETTO:+0100
TZNAME:CET
DTSTART:20251026T010000
END:STANDARD
BEGIN:DAYLIGHT
TZOFFSETFROM:+0100
TZOFFSETTO:+0200
TZNAME:CEST
DTSTART:20260329T010000
END:DAYLIGHT
BEGIN:STANDARD
TZOFFSETFROM:+0200
TZOFFSETTO:+0100
TZNAME:CET
DTSTART:20261025T010000
END:STANDARD
BEGIN:DAYLIGHT
TZOFFSETFROM:+0100
TZOFFSETTO:+0200
TZNAME:CEST
DTSTART:20270328T010000
END:DAYLIGHT
BEGIN:STANDARD
TZOFFSETFROM:+0200
TZOFFSETTO:+0100
TZNAME:CET
DTSTART:20271031T010000
END:STANDARD
END:VTIMEZONE
BEGIN:VEVENT
DTSTART;TZID=Europe/Paris:20260422T140000
DTEND;TZID=Europe/Paris:20260422T160000
DTSTAMP:20260422T161639
CREATED:20240208T145916Z
LAST-MODIFIED:20260320T162047Z
UID:10001233-1776866400-1776873600@www.latelierdeslucioles.fr
SUMMARY:Photographie • Jeu de piste photo
DESCRIPTION:Animé par Lou Camino\nLou Camino propose une chasse au trésor photographique dans le bourg de Molac pour aborder quelques bases de la photographie de manière ludique. Elle proposera ainsi une série de photographies prises dans l’environnement proche de L’atelier des lucioles et les enfants devront trouver le lieu ou l’élément photographié et le prendre à leur tour en photo en étant le plus fidèle possible à l’original. \n> Objectifs recherchés : apprendre à observer son environnement ; repérer des indices sur une photographie ; se repérer dans l’espace ; apprendre à gérer sa distance\, sa posture à l’élément photographié et à cadrer une photographie. Autant de réflexes utiles pour s’initier à la photographie. \nPublic / Prérequis : 7 – 12 ans\nMinimum / maximum de participants : 4 / 8\nTarif : 12 € pour les adhérents\, 13 € pour les non adhérents \nPour tout renseignement ou inscription\, contactez-nous par courriel (et n’hésitez pas à vérifier vos spams si vous ne voyez pas venir de réponse rapidement). \n 
URL:https://www.latelierdeslucioles.fr/event/photographie-jeu-de-piste-photo/2026-04-22/
LOCATION:L’atelier des lucioles\, 11 place de l'Église\, Molac\, 56230
CATEGORIES:Agenda,Atelier,Initiation photo,Photographie
ATTACH;FMTTYPE=image/jpeg:https://www.latelierdeslucioles.fr/wp-content/uploads/2024/02/20240210_162548-S.jpg
END:VEVENT
BEGIN:VEVENT
DTSTART;TZID=Europe/Paris:20260428T140000
DTEND;TZID=Europe/Paris:20260428T160000
DTSTAMP:20260422T161639
CREATED:20260330T092140Z
LAST-MODIFIED:20260330T092717Z
UID:10001241-1777384800-1777392000@www.latelierdeslucioles.fr
SUMMARY:Médiation scolaire • Visite de l’exposition en cours
DESCRIPTION:Dans le cadre de ses actions de médiation\, L’atelier des lucioles se propose d’accueillir les scolaires pour des visites commentées de l’exposition en cours. \nEn ce moment\, il s’agit de l’exposition « Autres terres » de la mosaïste Paulina Okurowska. \nPour toute question\, n’hésitez pas à nous contacter.
URL:https://www.latelierdeslucioles.fr/event/mediation-scolaire-visite-de-lexposition-en-cours-2/2026-04-28/
CATEGORIES:Agenda,Médiation
END:VEVENT
BEGIN:VEVENT
DTSTART;TZID=Europe/Paris:20260428T163000
DTEND;TZID=Europe/Paris:20260428T183000
DTSTAMP:20260422T161639
CREATED:20260307T132650Z
LAST-MODIFIED:20260321T145438Z
UID:10001215-1777393800-1777401000@www.latelierdeslucioles.fr
SUMMARY:La bande des p'tites Lucioles • Atelier arts-sciences trimestriel  • 6-12 ans
DESCRIPTION:Animé par Lou Camino\nL’atelier des lucioles propose un tout nouveau rendez-vous hebdomadaire aux enfants de 6 à 12 ans autour des arts et des sciences ! L’idée ? Explorer\, de façon ludique et pédagogique\, différentes pratiques artistiques (dessin\, peinture\, photographie\, écriture\, collage\, petit bricolage…) et aller à la découverte du monde des sciences (jeux\, petites expérimentations\, fabrication d’objets…) en suivant notamment le parcours d’artistes et de scientifiques ayant marqué l’histoire avec un grand H et pourquoi pas la petite aussi. Ces ateliers sont pensés pour développer l’imaginaire et la curiosité des enfants\, et les accompagner dans leur découverte des sciences et du monde qui nous entoure. \nCertains ateliers se dérouleront sur plusieurs séances. Par ailleurs\, les enfants seront amenés à créer de façon individuelle ou collective. Après avoir exploré l’eau et l’air\, nous passerons à la terre pour cette nouvelle série. \nCôté logistique\, rien de plus simple : Lou Camino vous propose d’aller chercher vos enfants directement à la sortie de l’école (Ecole Arc-en-Ciel\, Ecole Saint-Pierre à Molac) et de les amener à L’atelier des lucioles où vous pourrez les retrouver à 18h30. En arrivant\, les enfants auront un petit temps pour le goûter (à prévoir par vous) avant de commencer l’atelier (17h-18h30). \nL’inscription se fait au « trimestre ». Les dates des 10 séances du trimestre avril – juin 2026 : \n– avril :  28\n– mai : 5\, 12\, 19\, 26\n– juin : 2\, 9\, 13\, 23\, 30 \nPublic / Prérequis : 6 à 12 ans\nMinimum / maximum de participants :  4 / 6-7\nTarif : 100€ les 10 séances pour les adhérents\, 110€ pour les non adhérents (tout compris). Si la 11e séance est confirmée\, 10€ supplémentaires seront dus. Il est possible de payer en 3 chèques (à déposer au début et le premier sera encaissé à l’inscription en janvier – tout trimestre commencé est dû) ou de payer la totalité en ligne via HelloAsso ↗️. La somme sera restituée si l’atelier n’a pas lieu\, faute d’un nombre suffisant d’inscrits.\n \nPour tout renseignement ou inscription\, contactez-nous par courriel (et n’hésitez pas à vérifier vos spams si vous ne voyez pas venir de réponse rapidement).\n \n 
URL:https://www.latelierdeslucioles.fr/event/la-bande-des-ptites-lucioles-atelier-arts-sciences-trimestriel-6-12-ans-2/2026-04-28/
CATEGORIES:Agenda,Atelier,Dessin,Écriture,Peinture
END:VEVENT
END:VCALENDAR