BEGIN:VCALENDAR
VERSION:2.0
PRODID:-//L&#039;atelier des lucioles - ECPv6.15.17//NONSGML v1.0//EN
CALSCALE:GREGORIAN
METHOD:PUBLISH
X-WR-CALNAME:L&#039;atelier des lucioles
X-ORIGINAL-URL:https://www.latelierdeslucioles.fr
X-WR-CALDESC:Évènements pour L&#039;atelier des lucioles
REFRESH-INTERVAL;VALUE=DURATION:PT1H
X-Robots-Tag:noindex
X-PUBLISHED-TTL:PT1H
BEGIN:VTIMEZONE
TZID:Europe/Paris
BEGIN:DAYLIGHT
TZOFFSETFROM:+0100
TZOFFSETTO:+0200
TZNAME:CEST
DTSTART:20240331T010000
END:DAYLIGHT
BEGIN:STANDARD
TZOFFSETFROM:+0200
TZOFFSETTO:+0100
TZNAME:CET
DTSTART:20241027T010000
END:STANDARD
BEGIN:DAYLIGHT
TZOFFSETFROM:+0100
TZOFFSETTO:+0200
TZNAME:CEST
DTSTART:20250330T010000
END:DAYLIGHT
BEGIN:STANDARD
TZOFFSETFROM:+0200
TZOFFSETTO:+0100
TZNAME:CET
DTSTART:20251026T010000
END:STANDARD
BEGIN:DAYLIGHT
TZOFFSETFROM:+0100
TZOFFSETTO:+0200
TZNAME:CEST
DTSTART:20260329T010000
END:DAYLIGHT
BEGIN:STANDARD
TZOFFSETFROM:+0200
TZOFFSETTO:+0100
TZNAME:CET
DTSTART:20261025T010000
END:STANDARD
END:VTIMEZONE
BEGIN:VEVENT
DTSTART;TZID=Europe/Paris:20250409T140000
DTEND;TZID=Europe/Paris:20250409T160000
DTSTAMP:20260424T020335
CREATED:20240208T145916Z
LAST-MODIFIED:20260320T162047Z
UID:10000910-1744207200-1744214400@www.latelierdeslucioles.fr
SUMMARY:Photographie • Jeu de piste photo
DESCRIPTION:Animé par Lou Camino\nLou Camino propose une chasse au trésor photographique dans le bourg de Molac pour aborder quelques bases de la photographie de manière ludique. Elle proposera ainsi une série de photographies prises dans l’environnement proche de L’atelier des lucioles et les enfants devront trouver le lieu ou l’élément photographié et le prendre à leur tour en photo en étant le plus fidèle possible à l’original. \n> Objectifs recherchés : apprendre à observer son environnement ; repérer des indices sur une photographie ; se repérer dans l’espace ; apprendre à gérer sa distance\, sa posture à l’élément photographié et à cadrer une photographie. Autant de réflexes utiles pour s’initier à la photographie. \nPublic / Prérequis : 7 – 12 ans\nMinimum / maximum de participants : 4 / 8\nTarif : 12 € pour les adhérents\, 13 € pour les non adhérents \nPour tout renseignement ou inscription\, contactez-nous par courriel (et n’hésitez pas à vérifier vos spams si vous ne voyez pas venir de réponse rapidement). \n 
URL:https://www.latelierdeslucioles.fr/event/photographie-jeu-de-piste-photo/2025-04-09/
LOCATION:L’atelier des lucioles\, 11 place de l'Église\, Molac\, 56230
CATEGORIES:Agenda,Atelier,Initiation photo,Photographie
ATTACH;FMTTYPE=image/jpeg:https://www.latelierdeslucioles.fr/wp-content/uploads/2024/02/20240210_162548-S.jpg
END:VEVENT
BEGIN:VEVENT
DTSTART;TZID=Europe/Paris:20250426T103000
DTEND;TZID=Europe/Paris:20250426T120000
DTSTAMP:20260424T020335
CREATED:20250214T142130Z
LAST-MODIFIED:20250314T041708Z
UID:10000872-1745663400-1745668800@www.latelierdeslucioles.fr
SUMMARY:Dessin-peinture • Champignons phosphorescents
DESCRIPTION:Animé par Virginie Gueutal\nChampignons phosphorescents : Plonge dans un univers magique avec l’atelier dédié aux champignons phosphorescents. Tu apprendras à peindre des champignons qui brillent dans le noir grâce à des techniques spéciales et de la peinture phosphorescente. A toi d’imaginer le plus beau paysage ! \nPublic / Prérequis : 7 – 12 ans ; cela peut être un peu plus jeune si votre enfant est autonome \nMinimum / maximum de participants : 3 / 6 \nTarif : 15 € pour les adhérents ; 16\,50 € pour les non adhérents ; matériel compris – Un acompte de 50% est demandé à la réservation. Il sera conservé en cas d’annulation par le participant survenant moins de 3 jours ouvrés avant l’atelier (sauf si la personne se désistant trouve un remplaçant) et remboursé si l’atelier n’a pas lieu\, faute d’un nombre suffisant de participants. Paiement de l’acompte par chèque\, espèces ou en ligne via HelloAsso ↗️. \n\nInfos pratiques : prévoir des vêtements pouvant être tachés \nPour tout renseignement ou inscription\, contactez-nous par courriel (et n’hésitez pas à vérifier vos spams si vous ne voyez pas venir de réponse rapidement). 
URL:https://www.latelierdeslucioles.fr/event/dessin-peinture-champignons-phosphorescents/
LOCATION:L’atelier des lucioles\, 11 place de l'Église\, Molac\, 56230
CATEGORIES:Agenda,Atelier,Dessin,Dessin 7-12 ans
END:VEVENT
END:VCALENDAR