BEGIN:VCALENDAR
VERSION:2.0
PRODID:-//L&#039;atelier des lucioles - ECPv6.15.17//NONSGML v1.0//EN
CALSCALE:GREGORIAN
METHOD:PUBLISH
X-WR-CALNAME:L&#039;atelier des lucioles
X-ORIGINAL-URL:https://www.latelierdeslucioles.fr
X-WR-CALDESC:Évènements pour L&#039;atelier des lucioles
REFRESH-INTERVAL;VALUE=DURATION:PT1H
X-Robots-Tag:noindex
X-PUBLISHED-TTL:PT1H
BEGIN:VTIMEZONE
TZID:Europe/Paris
BEGIN:DAYLIGHT
TZOFFSETFROM:+0100
TZOFFSETTO:+0200
TZNAME:CEST
DTSTART:20230326T010000
END:DAYLIGHT
BEGIN:STANDARD
TZOFFSETFROM:+0200
TZOFFSETTO:+0100
TZNAME:CET
DTSTART:20231029T010000
END:STANDARD
BEGIN:DAYLIGHT
TZOFFSETFROM:+0100
TZOFFSETTO:+0200
TZNAME:CEST
DTSTART:20240331T010000
END:DAYLIGHT
BEGIN:STANDARD
TZOFFSETFROM:+0200
TZOFFSETTO:+0100
TZNAME:CET
DTSTART:20241027T010000
END:STANDARD
BEGIN:DAYLIGHT
TZOFFSETFROM:+0100
TZOFFSETTO:+0200
TZNAME:CEST
DTSTART:20250330T010000
END:DAYLIGHT
BEGIN:STANDARD
TZOFFSETFROM:+0200
TZOFFSETTO:+0100
TZNAME:CET
DTSTART:20251026T010000
END:STANDARD
END:VTIMEZONE
BEGIN:VEVENT
DTSTART;TZID=Europe/Paris:20240607T190000
DTEND;TZID=Europe/Paris:20240607T213000
DTSTAMP:20260424T013619
CREATED:20240415T121549Z
LAST-MODIFIED:20240420T154330Z
UID:10000631-1717786800-1717795800@www.latelierdeslucioles.fr
SUMMARY:Modelage  • Patiner vos créations
DESCRIPTION:Animé par Corinne Fillion\, Poussières d’argile\n\nLors de cet atelier patine\, les personnes ayant participé aux précédents ateliers modelage pourront donner une finition plus naturelle qu’un émail à leur sculpture animalière. Pour ses propres créations\, Corinne Fillion utilise en effet des pigments en poudre naturels qui permettent d’obtenir des nuances et des effets proches des teintes des animaux. \nLa patine permet aussi d’obtenir des effets couleur Bronze\, bien utile si l’on souhaite s’approcher du rendu d’une sculpture ancienne.\nCette opération se fait sur pièces déjà cuites et vous pourrez repartir avec votre sculpture terminée. \n \nPublic / Prérequis : atelier accessible aux personnes ayant participé à un atelier modelage avec Corinne Fillion\nMinimum / maximum de participants : 3 / 6-7\nTarif : 30€ tarif adhérent ; 33€ tarif non adhérent ; pigments naturels et liants compris. N’oubliez pas de venir avec votre sculpture ! Un acompte de 50% est demandé à la réservation. Il sera conservé en cas d’annulation par le participant survenant moins de 3 jours ouvrés avant l’atelier (sauf si la personne se désistant trouve un remplaçant) et remboursé si l’atelier n’a pas lieu\, faute d’un nombre suffisant de participants. Paiement de l’acompte par chèque\, espèces ou en ligne via HelloAsso ↗️.\n \nInformations pratiques : prévoir une blouse\, ou un T-shirt large non précieux.\n \nPour tout renseignement ou inscription\, contactez-nous par courriel (et n’hésitez pas à vérifier vos spams si vous ne voyez pas venir de réponse rapidement).\n 
URL:https://www.latelierdeslucioles.fr/event/modelage-patine-230/
LOCATION:L’atelier des lucioles\, 11 place de l'Église\, Molac\, 56230
CATEGORIES:Agenda,Atelier,Poterie
END:VEVENT
BEGIN:VEVENT
DTSTART;TZID=Europe/Paris:20240608T093000
DTEND;TZID=Europe/Paris:20240608T123000
DTSTAMP:20260424T013619
CREATED:20240416T142349Z
LAST-MODIFIED:20240420T154720Z
UID:10000633-1717839000-1717849800@www.latelierdeslucioles.fr
SUMMARY:Modelage • Création d’un mascaron (sculpture extérieure)
DESCRIPTION:Animé par Corinne Fillion\, Poussières d’argile\nDétails à venir. \nCorinne Fillion vous propose de créer un mascaron en terre grès que vous pourrez ensuite mettre dans votre jardin. \nLes autres ateliers modelage… \n\n– samedi 25 mai 2024 de 10h à 13h : modelage avec engobes\n– vendredi 7 juin de 19h à 21h30 : patine\n– samedi 8 juin 2024 de 9h30 à 12h30 : mascaron en terre grès pour l’extérieur\n– mercredi 19 juin de 14h à 16h : atelier pour enfants \nPublic / Prérequis : atelier ouvert à tous à  partir de 10 ans \nMinimum / maximum de participants : 3 /5-6 \nTarif : 40€ tarif adhérent ; 44€ tarif non adhérent pour les ateliers de 3h ; tout compris. Un acompte de 50% est demandé à la réservation. Il sera conservé en cas d’annulation par le participant survenant moins de 3 jours ouvrés avant l’atelier (sauf si la personne se désistant trouve un remplaçant) et remboursé si l’atelier n’a pas lieu\, faute d’un nombre suffisant de participants. Paiement de l’acompte par chèque\, espèces ou en ligne via HelloAsso ↗️. \nInformations pratiques : prévoir une blouse\, ou un T-shirt large non précieux… \nÀ savoir : Corinne emportera les sculptures à son atelier pour cuisson. Vous pourrez les récupérer au minimum un mois après (temps nécessaire de séchage et cuisson). Une fois vos sculptures cuites\, dans un autre atelier\, Corinne proposera d’apprendre à les patiner avec des pigments naturels. \nPour tout renseignement ou inscription\, contactez-nous par courriel (et n’hésitez pas à vérifier vos spams si vous ne voyez pas venir de réponse rapidement).
URL:https://www.latelierdeslucioles.fr/event/modelage-mascaron/
LOCATION:L’atelier des lucioles\, 11 place de l'Église\, Molac\, 56230
CATEGORIES:Agenda,Atelier,Poterie
ATTACH;FMTTYPE=image/jpeg:https://www.latelierdeslucioles.fr/wp-content/uploads/2024/04/mascaron044-s-rec.jpg
END:VEVENT
END:VCALENDAR