BEGIN:VCALENDAR
VERSION:2.0
PRODID:-//L&#039;atelier des lucioles - ECPv6.15.17//NONSGML v1.0//EN
CALSCALE:GREGORIAN
METHOD:PUBLISH
X-ORIGINAL-URL:https://www.latelierdeslucioles.fr
X-WR-CALDESC:Évènements pour L&#039;atelier des lucioles
REFRESH-INTERVAL;VALUE=DURATION:PT1H
X-Robots-Tag:noindex
X-PUBLISHED-TTL:PT1H
BEGIN:VTIMEZONE
TZID:Europe/Paris
BEGIN:DAYLIGHT
TZOFFSETFROM:+0100
TZOFFSETTO:+0200
TZNAME:CEST
DTSTART:20230326T010000
END:DAYLIGHT
BEGIN:STANDARD
TZOFFSETFROM:+0200
TZOFFSETTO:+0100
TZNAME:CET
DTSTART:20231029T010000
END:STANDARD
BEGIN:DAYLIGHT
TZOFFSETFROM:+0100
TZOFFSETTO:+0200
TZNAME:CEST
DTSTART:20240331T010000
END:DAYLIGHT
BEGIN:STANDARD
TZOFFSETFROM:+0200
TZOFFSETTO:+0100
TZNAME:CET
DTSTART:20241027T010000
END:STANDARD
BEGIN:DAYLIGHT
TZOFFSETFROM:+0100
TZOFFSETTO:+0200
TZNAME:CEST
DTSTART:20250330T010000
END:DAYLIGHT
BEGIN:STANDARD
TZOFFSETFROM:+0200
TZOFFSETTO:+0100
TZNAME:CET
DTSTART:20251026T010000
END:STANDARD
END:VTIMEZONE
BEGIN:VEVENT
DTSTART;TZID=Europe/Paris:20240525T100000
DTEND;TZID=Europe/Paris:20240525T130000
DTSTAMP:20260424T013811
CREATED:20240228T205942Z
LAST-MODIFIED:20240516T130212Z
UID:10000578-1716631200-1716642000@www.latelierdeslucioles.fr
SUMMARY:Modelage • Création d’un animal en argile et utilisation d'engobes
DESCRIPTION:Animé par Corinne Fillion\, Poussières d’Argile\nCorinne Fillion vous propose d’apprendre les bases du modelage et d’enrichir vos connaissances du travail de l’argile en créant un animal. Lors de cet atelier\, vous pourrez peindre votre sculpture avec des engobes. \nPlusieurs dates sont prévues avec des ateliers de durée variable :\n– vendredi 5 avril 2024 de 19h à 21h30\n– mercredi 10 avril 2024 de 14h à 16h ; atelier pour enfants\n– samedi 13 avril 2024 de 10h à 13h : atelier patine\n– samedi 25 mai 2024 de 10h à 13h : modelage et engobes\n– vendredi 7 juin de 19h à 21h30 : patine\n– samedi 8 juin 2024 de 9h30 à 12h30 : mascaron en terre grès pour l’extérieur\n– mercredi 19 juin de 14h à 16h : atelier pour enfants \nPublic / Prérequis : atelier ouvert à tous à  partir de 10 ans \nMinimum / maximum de participants : 3 /5-6 \nTarif : 40€ tarif adhérent ; 44€ tarif non adhérent pour les ateliers de 3h ; tout compris. Un acompte de 50% est demandé à la réservation. Il sera conservé en cas d’annulation par le participant survenant moins de 3 jours ouvrés avant l’atelier (sauf si la personne se désistant trouve un remplaçant) et remboursé si l’atelier n’a pas lieu\, faute d’un nombre suffisant de participants. Paiement de l’acompte par chèque\, espèces ou en ligne via HelloAsso ↗️. \nInformations pratiques : prévoir une blouse\, ou un T-shirt large non précieux… \nÀ savoir : Corinne emportera les sculptures à son atelier pour cuisson. Vous pourrez les récupérer au minimum un mois après (temps nécessaire de séchage et cuisson). Une fois vos sculptures cuites\, dans un autre atelier\, Corinne proposera d’apprendre à les patiner avec des pigments naturels. \nPour tout renseignement ou inscription\, contactez-nous par courriel (et n’hésitez pas à vérifier vos spams si vous ne voyez pas venir de réponse rapidement).
URL:https://www.latelierdeslucioles.fr/event/modelage-creation-dun-animal-en-argile-mai-juin-24/
LOCATION:L’atelier des lucioles\, 11 place de l'Église\, Molac\, 56230
CATEGORIES:Agenda,Atelier,Poterie
END:VEVENT
END:VCALENDAR