BEGIN:VCALENDAR
VERSION:2.0
PRODID:-//L&#039;atelier des lucioles - ECPv6.15.17//NONSGML v1.0//EN
CALSCALE:GREGORIAN
METHOD:PUBLISH
X-ORIGINAL-URL:https://www.latelierdeslucioles.fr
X-WR-CALDESC:Évènements pour L&#039;atelier des lucioles
REFRESH-INTERVAL;VALUE=DURATION:PT1H
X-Robots-Tag:noindex
X-PUBLISHED-TTL:PT1H
BEGIN:VTIMEZONE
TZID:Europe/Paris
BEGIN:DAYLIGHT
TZOFFSETFROM:+0100
TZOFFSETTO:+0200
TZNAME:CEST
DTSTART:20230326T010000
END:DAYLIGHT
BEGIN:STANDARD
TZOFFSETFROM:+0200
TZOFFSETTO:+0100
TZNAME:CET
DTSTART:20231029T010000
END:STANDARD
BEGIN:DAYLIGHT
TZOFFSETFROM:+0100
TZOFFSETTO:+0200
TZNAME:CEST
DTSTART:20240331T010000
END:DAYLIGHT
BEGIN:STANDARD
TZOFFSETFROM:+0200
TZOFFSETTO:+0100
TZNAME:CET
DTSTART:20241027T010000
END:STANDARD
BEGIN:DAYLIGHT
TZOFFSETFROM:+0100
TZOFFSETTO:+0200
TZNAME:CEST
DTSTART:20250330T010000
END:DAYLIGHT
BEGIN:STANDARD
TZOFFSETFROM:+0200
TZOFFSETTO:+0100
TZNAME:CET
DTSTART:20251026T010000
END:STANDARD
END:VTIMEZONE
BEGIN:VEVENT
DTSTART;TZID=Europe/Paris:20240410T140000
DTEND;TZID=Europe/Paris:20240410T160000
DTSTAMP:20260424T084950
CREATED:20240228T205119Z
LAST-MODIFIED:20240703T153452Z
UID:10000577-1712757600-1712764800@www.latelierdeslucioles.fr
SUMMARY:Modelage • Création d’un animal en argile (Atelier enfant)
DESCRIPTION:Animé par Corinne Fillion\, Poussières d’Argile\nCorinne Fillion propose d’apprendre aux petits et grands les bases du modelage et d’enrichir leur connaissances du travail de l’argile en créant un animal puis en le peignant. \nPublic / Prérequis : atelier ouvert à partir de 8 ans. \nMinimum / maximum de participants : 3 /5 \nTarif : 20€ tarif adhérent ; 22€ tarif non adhérent ; tout compris. Un acompte de 50% est demandé à la réservation. Il sera conservé en cas d’annulation par le participant survenant moins de 3 jours ouvrés avant l’atelier (sauf si la personne se désistant trouve un remplaçant) et remboursé si l’atelier n’a pas lieu\, faute d’un nombre suffisant de participants. Paiement de l’acompte par chèque\, espèces ou en ligne via HelloAsso (lien à venir). \nInformations pratiques : prévoir une blouse\, ou un T-shirt large non précieux… \nÀ savoir : Corinne emportera les sculptures à son atelier pour les cuire. Vous pourrez les récupérer au minimum un mois après (temps nécessaire de séchage et cuisson). \nPour tout renseignement ou inscription\, contactez-nous par courriel (et n’hésitez pas à vérifier vos spams si vous ne voyez pas venir de réponse rapidement).
URL:https://www.latelierdeslucioles.fr/event/modelage-creation-dun-animal-en-argile-enfant/2024-04-10/
LOCATION:L’atelier des lucioles\, 11 place de l'Église\, Molac\, 56230
CATEGORIES:Agenda,Atelier,Poterie
END:VEVENT
BEGIN:VEVENT
DTSTART;TZID=Europe/Paris:20240413T093000
DTEND;TZID=Europe/Paris:20240413T123000
DTSTAMP:20260424T084950
CREATED:20231025T150930Z
LAST-MODIFIED:20250314T132401Z
UID:10000559-1713000600-1713011400@www.latelierdeslucioles.fr
SUMMARY:Modelage • Patiner vos créations
DESCRIPTION:Animé par Corinne Fillion\, Poussières d’argile\n\nLors de cet atelier patine\, les personnes ayant participé aux précédents ateliers modelage pourront donner une finition plus naturelle qu’un émail à leur sculpture animalière. Pour ses propres créations\, Corinne Fillion utilise en effet des pigments en poudre naturels qui permettent d’obtenir des nuances et des effets proches des teintes des animaux. \nLa patine permet aussi d’obtenir des effets couleur Bronze\, bien utile si l’on souhaite s’approcher du rendu d’une sculpture ancienne.\nCette opération se fait sur pièces déjà cuites et vous pourrez repartir avec votre sculpture terminée. \n \nPublic / Prérequis : atelier accessible aux personnes ayant participé à un atelier modelage avec Corinne Fillion\nMinimum / maximum de participants : 3 / 6-7\nTarif : 35€ tarif adhérent ; 38\,50€ tarif non adhérent ; pigments naturels et liants compris. N’oubliez pas de venir avec votre sculpture ! Un acompte de 50% est demandé à la réservation. Il sera conservé en cas d’annulation par le participant survenant moins de 3 jours ouvrés avant l’atelier (sauf si la personne se désistant trouve un remplaçant) et remboursé si l’atelier n’a pas lieu\, faute d’un nombre suffisant de participants. Paiement de l’acompte par chèque\, espèces ou en ligne via HelloAsso ↗️.\n \nInformations pratiques : prévoir une blouse\, ou un T-shirt large non précieux..\n \nPour tout renseignement ou inscription\, contactez-nous par courriel (et n’hésitez pas à vérifier vos spams si vous ne voyez pas venir de réponse rapidement).\n 
URL:https://www.latelierdeslucioles.fr/event/modelage-atelier-patine/2024-04-13/
LOCATION:L’atelier des lucioles\, 11 place de l'Église\, Molac\, 56230
CATEGORIES:Agenda,Atelier,Poterie
ATTACH;FMTTYPE=image/jpeg:https://www.latelierdeslucioles.fr/wp-content/uploads/2023/10/ChevreuilFaon_s.jpg
END:VEVENT
END:VCALENDAR