BEGIN:VCALENDAR
VERSION:2.0
PRODID:-//L&#039;atelier des lucioles - ECPv6.15.17//NONSGML v1.0//EN
CALSCALE:GREGORIAN
METHOD:PUBLISH
X-WR-CALNAME:L&#039;atelier des lucioles
X-ORIGINAL-URL:https://www.latelierdeslucioles.fr
X-WR-CALDESC:Évènements pour L&#039;atelier des lucioles
REFRESH-INTERVAL;VALUE=DURATION:PT1H
X-Robots-Tag:noindex
X-PUBLISHED-TTL:PT1H
BEGIN:VTIMEZONE
TZID:Europe/Paris
BEGIN:DAYLIGHT
TZOFFSETFROM:+0100
TZOFFSETTO:+0200
TZNAME:CEST
DTSTART:20240331T010000
END:DAYLIGHT
BEGIN:STANDARD
TZOFFSETFROM:+0200
TZOFFSETTO:+0100
TZNAME:CET
DTSTART:20241027T010000
END:STANDARD
BEGIN:DAYLIGHT
TZOFFSETFROM:+0100
TZOFFSETTO:+0200
TZNAME:CEST
DTSTART:20250330T010000
END:DAYLIGHT
BEGIN:STANDARD
TZOFFSETFROM:+0200
TZOFFSETTO:+0100
TZNAME:CET
DTSTART:20251026T010000
END:STANDARD
BEGIN:DAYLIGHT
TZOFFSETFROM:+0100
TZOFFSETTO:+0200
TZNAME:CEST
DTSTART:20260329T010000
END:DAYLIGHT
BEGIN:STANDARD
TZOFFSETFROM:+0200
TZOFFSETTO:+0100
TZNAME:CET
DTSTART:20261025T010000
END:STANDARD
END:VTIMEZONE
BEGIN:VEVENT
DTSTART;TZID=Europe/Paris:20250312T140000
DTEND;TZID=Europe/Paris:20250312T160000
DTSTAMP:20260422T112837
CREATED:20241115T171635Z
LAST-MODIFIED:20241219T232212Z
UID:10000786-1741788000-1741795200@www.latelierdeslucioles.fr
SUMMARY:Modelage • Atelier enfants / adultes • Crée ta maison paysage
DESCRIPTION:Animé par Corinne Fillion\, Poussières d’Argile\n \nLe modelage se fera à partir de faïence blanche. Chacun aura la possibilité d’engober son mini-monde pour lui apporter quelques touches de couleurs. La pièce sera recouverte après cuisson d’un émail transparent. \nTous les ateliers modelage du premier trimestre :\n– vendredi 10 janvier : Décor d’empreinte\n– samedi 11 janvier : Sculpture d’animal à la manière de Pompon\n– mercredi 29 janvier : Tasse / bol (dès 8 ans ; adultes aussi)\n– samedi 8 février : Pot ou vase en colombins\n– vendredi 28 février : Cloche en grès\n– mercredi 12 mars : Maison-paysage (dès 8 ans ; adultes aussi)\n– samedi 15 mars : Patine \nPublic / Prérequis : atelier ouvert à partir de 8 ans. Les adultes sont également les bienvenus pour cet atelier. \nMinimum / maximum de participants : 3 /5 \nTarif : 20€ tarif adhérent ; 22€ tarif non adhérent ; tout compris. Un acompte de 50% est demandé à la réservation. Il sera conservé en cas d’annulation par le participant survenant moins de 3 jours ouvrés avant l’atelier (sauf si la personne se désistant trouve un remplaçant) et remboursé si l’atelier n’a pas lieu\, faute d’un nombre suffisant de participants. Paiement de l’acompte par chèque\, espèces ou en ligne via HelloAsso ↗️. \nInformations pratiques : prévoir une blouse\, ou un T-shirt large non précieux… \nÀ savoir : Corinne emportera les sculptures à son atelier pour les cuire. Vous pourrez les récupérer au minimum un mois après (temps nécessaire de séchage et cuisson). \nPour tout renseignement ou inscription\, contactez-nous par courriel (et n’hésitez pas à vérifier vos spams si vous ne voyez pas venir de réponse rapidement).
URL:https://www.latelierdeslucioles.fr/event/modelage-maison-paysage/
LOCATION:L’atelier des lucioles\, 11 place de l'Église\, Molac\, 56230
CATEGORIES:Agenda,Atelier,Poterie
ATTACH;FMTTYPE=image/jpeg:https://www.latelierdeslucioles.fr/wp-content/uploads/2024/11/mini-monde.jpg
END:VEVENT
END:VCALENDAR