BEGIN:VCALENDAR
VERSION:2.0
PRODID:-//L&#039;atelier des lucioles - ECPv6.15.17//NONSGML v1.0//EN
CALSCALE:GREGORIAN
METHOD:PUBLISH
X-ORIGINAL-URL:https://www.latelierdeslucioles.fr
X-WR-CALDESC:Évènements pour L&#039;atelier des lucioles
REFRESH-INTERVAL;VALUE=DURATION:PT1H
X-Robots-Tag:noindex
X-PUBLISHED-TTL:PT1H
BEGIN:VTIMEZONE
TZID:Europe/Paris
BEGIN:DAYLIGHT
TZOFFSETFROM:+0100
TZOFFSETTO:+0200
TZNAME:CEST
DTSTART:20240331T010000
END:DAYLIGHT
BEGIN:STANDARD
TZOFFSETFROM:+0200
TZOFFSETTO:+0100
TZNAME:CET
DTSTART:20241027T010000
END:STANDARD
BEGIN:DAYLIGHT
TZOFFSETFROM:+0100
TZOFFSETTO:+0200
TZNAME:CEST
DTSTART:20250330T010000
END:DAYLIGHT
BEGIN:STANDARD
TZOFFSETFROM:+0200
TZOFFSETTO:+0100
TZNAME:CET
DTSTART:20251026T010000
END:STANDARD
BEGIN:DAYLIGHT
TZOFFSETFROM:+0100
TZOFFSETTO:+0200
TZNAME:CEST
DTSTART:20260329T010000
END:DAYLIGHT
BEGIN:STANDARD
TZOFFSETFROM:+0200
TZOFFSETTO:+0100
TZNAME:CET
DTSTART:20261025T010000
END:STANDARD
END:VTIMEZONE
BEGIN:VEVENT
DTSTART;TZID=Europe/Paris:20250614T093000
DTEND;TZID=Europe/Paris:20250614T123000
DTSTAMP:20260422T041636
CREATED:20240228T204052Z
LAST-MODIFIED:20250314T133957Z
UID:10000912-1749893400-1749904200@www.latelierdeslucioles.fr
SUMMARY:Modelage • Création d'un animal en argile
DESCRIPTION:Animé par Corinne Fillion\, Poussières d’Argile\nCorinne Fillion vous propose d’apprendre les bases du modelage et d’enrichir vos connaissances du travail de l’argile en créant un animal. \nPlusieurs dates sont prévues avec des ateliers de durée variable :\n– vendredi 2 mai : créer un bain d’oiseaux\n– samedi 17 mai : décorer une pièce à partir de la technique du sgaffito\n– samedi 14 juin : créer un animal en argile\n– mercredi 18 juin : atelier enfant / adulte ; créer son personnage préféré\n– samedi 21 juin : créer une maison photophore \nPublic / Prérequis : atelier ouvert à tous à  partir de 10 ans \nMinimum / maximum de participants : 3 /5-6 \nTarif : 40€ tarif adhérent ; 44€ tarif non adhérent pour l’atelier de 3h ; tout compris. Un acompte de 50% est demandé à la réservation. Il sera conservé en cas d’annulation par le participant survenant moins de 3 jours ouvrés avant l’atelier (sauf si la personne se désistant trouve un remplaçant) et remboursé si l’atelier n’a pas lieu\, faute d’un nombre suffisant de participants. Paiement de l’acompte par chèque\, espèces ou en ligne via HelloAsso (lien à venir). \nInformations pratiques : prévoir une blouse\, ou un T-shirt large non précieux… \nÀ savoir : Corinne emportera les sculptures à son atelier pour cuisson. Vous pourrez les récupérer au minimum un mois après (temps nécessaire de séchage et cuisson). Une fois vos sculptures cuites\, dans un autre atelier\, Corinne proposera d’apprendre à les patiner avec des pigments naturels. \nPour tout renseignement ou inscription\, contactez-nous par courriel (et n’hésitez pas à vérifier vos spams si vous ne voyez pas venir de réponse rapidement).
URL:https://www.latelierdeslucioles.fr/event/modelage-creation-dun-animal-en-argile/2025-06-14/
LOCATION:L’atelier des lucioles\, 11 place de l'Église\, Molac\, 56230
CATEGORIES:Agenda,Atelier,Poterie
END:VEVENT
BEGIN:VEVENT
DTSTART;TZID=Europe/Paris:20250618T140000
DTEND;TZID=Europe/Paris:20250618T160000
DTSTAMP:20260422T041636
CREATED:20250214T135042Z
LAST-MODIFIED:20250314T133045Z
UID:10000870-1750255200-1750262400@www.latelierdeslucioles.fr
SUMMARY:Modelage • Crée ton personnage préféré en argile
DESCRIPTION:Animé par Corinne Fillion\nPour terminer l’année\, Corinne vous invite à créer un petit personnage en argile. Chacun aura la possibilité de l’engober pour lui apporter quelques touches de couleurs. La pièce sera recouverte après cuisson d’un émail transparent. \nLes ateliers modelage du trimestre : \n– vendredi 2 mai : créer un bain d’oiseaux\n– samedi 17 mai : décorer une pièce à partir de la technique du sgaffito\n– samedi 14 juin : créer un animal en argile\n– mercredi 18 juin : atelier enfant / adulte ; créer son personnage préféré\n– samedi 21 juin : créer une maison photophore \nPublic / Prérequis : atelier ouvert à partir de 8 ans. Les adultes sont également les bienvenus pour cet atelier. \nMinimum / maximum de participants : 3 /5 \nTarif : 20€ tarif adhérent ; 22€ tarif non adhérent ; tout compris. Un acompte de 50% est demandé à la réservation. Il sera conservé en cas d’annulation par le participant survenant moins de 3 jours ouvrés avant l’atelier (sauf si la personne se désistant trouve un remplaçant) et remboursé si l’atelier n’a pas lieu\, faute d’un nombre suffisant de participants. Paiement de l’acompte par chèque\, espèces ou en ligne via HelloAsso ↗️. \nInformations pratiques : prévoir une blouse\, ou un T-shirt large non précieux… \nÀ savoir : Corinne emportera les sculptures à son atelier pour les cuire. Vous pourrez les récupérer au minimum un mois après (temps nécessaire de séchage et cuisson). \nPour tout renseignement ou inscription\, contactez-nous par courriel (et n’hésitez pas à vérifier vos spams si vous ne voyez pas venir de réponse rapidement).
URL:https://www.latelierdeslucioles.fr/event/modelage-perso-prefere/
LOCATION:L’atelier des lucioles\, 11 place de l'Église\, Molac\, 56230
CATEGORIES:Agenda,Atelier,Poterie
END:VEVENT
BEGIN:VEVENT
DTSTART;TZID=Europe/Paris:20250621T093000
DTEND;TZID=Europe/Paris:20250621T123000
DTSTAMP:20260422T041636
CREATED:20250214T134203Z
LAST-MODIFIED:20250314T133150Z
UID:10000868-1750498200-1750509000@www.latelierdeslucioles.fr
SUMMARY:Modelage • Créer une maison photophore
DESCRIPTION:Animé par Corinne Fillion\nPour ce nouvel atelier\, Corinne vous initiera à la technique de la plaque. L’objectif de l’atelier : créer une petite maison dont il faudra découper toutes les faces dans une plaque d’argile pour les assembler. Il sera nécessaire de prévoir des ouvertures (fenêtres et porte) afin de laisser passer la lumière de la bougie (ou petite lampe led).\n \nLes ateliers modelage du trimestre : \n– vendredi 2 mai : créer un bain d’oiseaux\n– samedi 17 mai : décorer une pièce à partir de la technique du sgaffito\n– samedi 14 juin : créer un animal en argile\n– mercredi 18 juin : atelier enfant / adulte ; créer son personnage préféré\n– samedi 21 juin : créer une maison photophore\n\nPublic / Prérequis : atelier ouvert à tous à  partir de 10 ans.\n\nMinimum / maximum de participants : 3 /5-6 \nTarif : 40€ tarif adhérent ; 44€ tarif non adhérent pour l’atelier de 3h ; tout compris. Un acompte de 50% est demandé à la réservation. Il sera conservé en cas d’annulation par le participant survenant moins de 3 jours ouvrés avant l’atelier (sauf si la personne se désistant trouve un remplaçant) et remboursé si l’atelier n’a pas lieu\, faute d’un nombre suffisant de participants. Paiement de l’acompte par chèque\, espèces ou en ligne via HelloAsso ↗️. \nInformations pratiques : prévoir une blouse\, ou un T-shirt large non précieux… Amener des papiers journaux si possible pour créer le socle sur tige \nÀ savoir : Corinne emportera les sculptures à son atelier pour cuisson. Vous pourrez les récupérer au minimum un mois après (temps nécessaire de séchage et cuisson au four céramique). Pour les pièces engobées\, Corinne devra passer un émail transparent lors d’une deuxième cuisson ; le temps pour récupérer sa sculpture sera donc plus long. \nPour tout renseignement ou inscription\, contactez-nous par courriel (et n’hésitez pas à vérifier vos spams si vous ne voyez pas venir de réponse rapidement).
URL:https://www.latelierdeslucioles.fr/event/modelage-maison-photophore/
LOCATION:L’atelier des lucioles\, 11 place de l'Église\, Molac\, 56230
CATEGORIES:Agenda,Atelier,Poterie
END:VEVENT
END:VCALENDAR