BEGIN:VCALENDAR
VERSION:2.0
PRODID:-//L&#039;atelier des lucioles - ECPv6.15.17//NONSGML v1.0//EN
CALSCALE:GREGORIAN
METHOD:PUBLISH
X-ORIGINAL-URL:https://www.latelierdeslucioles.fr
X-WR-CALDESC:Évènements pour L&#039;atelier des lucioles
REFRESH-INTERVAL;VALUE=DURATION:PT1H
X-Robots-Tag:noindex
X-PUBLISHED-TTL:PT1H
BEGIN:VTIMEZONE
TZID:Europe/Paris
BEGIN:DAYLIGHT
TZOFFSETFROM:+0100
TZOFFSETTO:+0200
TZNAME:CEST
DTSTART:20240331T010000
END:DAYLIGHT
BEGIN:STANDARD
TZOFFSETFROM:+0200
TZOFFSETTO:+0100
TZNAME:CET
DTSTART:20241027T010000
END:STANDARD
BEGIN:DAYLIGHT
TZOFFSETFROM:+0100
TZOFFSETTO:+0200
TZNAME:CEST
DTSTART:20250330T010000
END:DAYLIGHT
BEGIN:STANDARD
TZOFFSETFROM:+0200
TZOFFSETTO:+0100
TZNAME:CET
DTSTART:20251026T010000
END:STANDARD
BEGIN:DAYLIGHT
TZOFFSETFROM:+0100
TZOFFSETTO:+0200
TZNAME:CEST
DTSTART:20260329T010000
END:DAYLIGHT
BEGIN:STANDARD
TZOFFSETFROM:+0200
TZOFFSETTO:+0100
TZNAME:CET
DTSTART:20261025T010000
END:STANDARD
BEGIN:DAYLIGHT
TZOFFSETFROM:+0100
TZOFFSETTO:+0200
TZNAME:CEST
DTSTART:20270328T010000
END:DAYLIGHT
BEGIN:STANDARD
TZOFFSETFROM:+0200
TZOFFSETTO:+0100
TZNAME:CET
DTSTART:20271031T010000
END:STANDARD
END:VTIMEZONE
BEGIN:VEVENT
DTSTART;TZID=Europe/Paris:20251128T183000
DTEND;TZID=Europe/Paris:20251128T200000
DTSTAMP:20260425T180010
CREATED:20250821T124500Z
LAST-MODIFIED:20251119T124529Z
UID:10001118-1764354600-1764360000@www.latelierdeslucioles.fr
SUMMARY:Café philo • Que signifie penser le temps ?
DESCRIPTION:Animé par La maison de la philo du Morbihan\n\nChicago\, USA\, 2011 – La tyrannie du temps qui passe.\nCe Café-philo invite à interroger la notion du temps comme concept : ce qui le définit\, ce qui le structure et la manière dont les philosophes l’ont pensé. Nous réfléchirons aux différentes représentations du temps et aux questions qu’elles soulèvent. L’atelier ouvrira un espace de discussion collective autour d’idées\, de notions et de paradoxes liés au temps. Une invitation à penser ensemble ce qui semble aller de soi\, mais qui reste profondément énigmatique.\nDeux autres Cafés Philo sont programmés les 29 janvier 2026 et 26 mars 2026. \nQuelques mots sur l’association : La Maison de la Philo du Morbihan a pour objet de créer un réseau de personnes souhaitant rendre accessible de manière ludique et pratique la philosophie dès le plus jeune âge. Elle promeut la philosophie démocratique et publique pour toutes et tous sur le département du Morbihan : notamment par la diffusion des actions de La Maison de la Philo\, l’animation d’ateliers philosophiques sous différentes formes (discussions philosophiques\, cafés philo\, ateliers philo-théâtre\, ciné-philo\, philo-art…) et dans différents lieux : à l’école et dans la cité. Elle a pour mission l’organisation de conférences ou d’évènements autour de l’esprit critique\, le partage d’expériences\, la mutualisation des connaissances et des pratiques\, etc. \nPublic / Prérequis : À partir de 15 ans\nMinimum / maximum de participants : 6 / 15\nTarif : Participation libre \nPour tout renseignement ou inscription\, contactez-nous par courriel (et n’hésitez pas à vérifier vos spams si vous ne voyez pas venir de réponse rapidement).
URL:https://www.latelierdeslucioles.fr/event/cafe-philo/
LOCATION:L’atelier des lucioles\, 11 place de l'Église\, Molac\, 56230
CATEGORIES:Agenda,Atelier,Philosophie
END:VEVENT
BEGIN:VEVENT
DTSTART;TZID=Europe/Paris:20260311T140000
DTEND;TZID=Europe/Paris:20260311T160000
DTSTAMP:20260425T180010
CREATED:20260224T154359Z
LAST-MODIFIED:20260303T210249Z
UID:10001209-1773237600-1773244800@www.latelierdeslucioles.fr
SUMMARY:Goûter Philo (pour les 7-12 ans) • Les enfants sont-ils des citoyens comme les autres ?
DESCRIPTION:A partir de dessins-animés\, nous nous questionnerons ensemble sur la notion d’engagement\, la place des enfants dans la société et leur manière\, à eux aussi\, de prendre part au monde qui les entoure. \nUn temps pour regarder autrement ce que les enfants comprennent du monde\, ce qu’ils ont à en dire… et ce que cela dit des adultes… \nCe goûter-philo est proposé gratuitement par La Maison de la philo du Morbihan dans le cadre de la 2e édition des Philo’Folies dont le thème de l’année est l’engagement. \nPublic / Prérequis : 7-12 ans\nMinimum / maximum de participants : 6 / 15\nTarif : gratuit \nPour tout renseignement ou inscription\, contactez-nous par courriel (et n’hésitez pas à vérifier vos spams si vous ne voyez pas venir de réponse rapidement).
URL:https://www.latelierdeslucioles.fr/event/gouter-philo-engagement-enfants/
LOCATION:L’atelier des lucioles\, 11 place de l'Église\, Molac\, 56230
CATEGORIES:Agenda,Atelier,Philosophie
END:VEVENT
BEGIN:VEVENT
DTSTART;TZID=Europe/Paris:20260618T183000
DTEND;TZID=Europe/Paris:20260618T203000
DTSTAMP:20260425T180010
CREATED:20260115T100626Z
LAST-MODIFIED:20260330T174258Z
UID:10001204-1781807400-1781814600@www.latelierdeslucioles.fr
SUMMARY:Café philo • La nature
DESCRIPTION:Animé par La maison de la philo du Morbihan\nDétails à venir \n  \nQuelques mots sur l’association : La Maison de la Philo du Morbihan a pour objet de créer un réseau de personnes souhaitant rendre accessible de manière ludique et pratique la philosophie dès le plus jeune âge. Elle promeut la philosophie démocratique et publique pour toutes et tous sur le département du Morbihan : notamment par la diffusion des actions de La Maison de la Philo\, l’animation d’ateliers philosophiques sous différentes formes (discussions philosophiques\, cafés philo\, ateliers philo-théâtre\, ciné-philo\, philo-art…) et dans différents lieux : à l’école et dans la cité. Elle a pour mission l’organisation de conférences ou d’évènements autour de l’esprit critique\, le partage d’expériences\, la mutualisation des connaissances et des pratiques\, etc. \n  \nPublic / Prérequis : À partir de 15 ans\nMinimum / maximum de participants : 6 / 15\nTarif : Participation libre \nPour tout renseignement ou inscription\, contactez-nous par courriel (et n’hésitez pas à vérifier vos spams si vous ne voyez pas venir de réponse rapidement). \n 
URL:https://www.latelierdeslucioles.fr/event/cafe-philo-la-nature/
CATEGORIES:Agenda,Atelier,Philosophie
END:VEVENT
END:VCALENDAR