BEGIN:VCALENDAR
VERSION:2.0
PRODID:-//L&#039;atelier des lucioles - ECPv6.15.17//NONSGML v1.0//EN
CALSCALE:GREGORIAN
METHOD:PUBLISH
X-WR-CALNAME:L&#039;atelier des lucioles
X-ORIGINAL-URL:https://www.latelierdeslucioles.fr
X-WR-CALDESC:Évènements pour L&#039;atelier des lucioles
REFRESH-INTERVAL;VALUE=DURATION:PT1H
X-Robots-Tag:noindex
X-PUBLISHED-TTL:PT1H
BEGIN:VTIMEZONE
TZID:Europe/Paris
BEGIN:DAYLIGHT
TZOFFSETFROM:+0100
TZOFFSETTO:+0200
TZNAME:CEST
DTSTART:20240331T010000
END:DAYLIGHT
BEGIN:STANDARD
TZOFFSETFROM:+0200
TZOFFSETTO:+0100
TZNAME:CET
DTSTART:20241027T010000
END:STANDARD
BEGIN:DAYLIGHT
TZOFFSETFROM:+0100
TZOFFSETTO:+0200
TZNAME:CEST
DTSTART:20250330T010000
END:DAYLIGHT
BEGIN:STANDARD
TZOFFSETFROM:+0200
TZOFFSETTO:+0100
TZNAME:CET
DTSTART:20251026T010000
END:STANDARD
BEGIN:DAYLIGHT
TZOFFSETFROM:+0100
TZOFFSETTO:+0200
TZNAME:CEST
DTSTART:20260329T010000
END:DAYLIGHT
BEGIN:STANDARD
TZOFFSETFROM:+0200
TZOFFSETTO:+0100
TZNAME:CET
DTSTART:20261025T010000
END:STANDARD
END:VTIMEZONE
BEGIN:VEVENT
DTSTART;TZID=Europe/Paris:20250524T100000
DTEND;TZID=Europe/Paris:20250524T180000
DTSTAMP:20260421T063844
CREATED:20250512T201359Z
LAST-MODIFIED:20250514T213554Z
UID:10000921-1748080800-1748109600@www.latelierdeslucioles.fr
SUMMARY:Journée photo • Kerhillio & Saint-Cado
DESCRIPTION:Animé par Lou Camino\nLou Camino vous propose d’allier balade et photographie. Sans qu’il ne s’agisse d’un cours photo\, lors de ces sorties\, Lou Camino vous donnera quelques conseils sur les réglages de votre appareil\, les bases de la composition en photographie et vous proposera aussi quelques exercices. Chaque mois\, une nouvelle destination pour appréhender différents terrains et contraintes… Un temps de partage et de commentaires des photos est aussi prévu si le timing le permet. \nLors de cette journée\, nous irons vers la plage de Kerhillio à Erdeven ainsi qu’à Saint-Cado.  \nPublic / Prérequis : tout public mais plus adapté aux débutants en photo\nMinimum / maximum de participants : 5 / 8\nTarif : 38€ pour les adhérents ; 42€ pour les non adhérents. Un acompte de 50% est demandé à la réservation. Il sera conservé en cas d’annulation par le participant survenant moins de 3 jours ouvrés avant l’atelier (sauf si la personne se désistant trouve un remplaçant) et remboursé si l’atelier n’a pas lieu\, faute d’un nombre suffisant de participants. Paiement de l’acompte par chèque\, espèces ou en ligne via HelloAsso ↗️. \n\nInformations pratiques : N’oubliez pas vos chaussures de marche et votre appareil photo (chargé et avec sa carte mémoire 🙂 ) ! Si vous avez un trépied\, cela peut aussi être utile. \nRéserve météo : Les conditions météo étant un peu aléatoires\, ce qui n’est pas le facteur le plus facile à gérer pour une sortie photo en extérieur\, ces promenades photo seront reportées s’il pleut trop.  \nPour tout renseignement ou inscription\, contactez-nous par courriel (et n’hésitez pas à vérifier vos spams si vous ne voyez pas venir de réponse rapidement).
URL:https://www.latelierdeslucioles.fr/event/journee-photo-kerhillio-saint-cado/
LOCATION:L’atelier des lucioles\, 11 place de l'Église\, Molac\, 56230
CATEGORIES:Agenda,Atelier,Photographie
END:VEVENT
END:VCALENDAR