BEGIN:VCALENDAR
VERSION:2.0
PRODID:-//L&#039;atelier des lucioles - ECPv6.15.17//NONSGML v1.0//EN
CALSCALE:GREGORIAN
METHOD:PUBLISH
X-ORIGINAL-URL:https://www.latelierdeslucioles.fr
X-WR-CALDESC:Évènements pour L&#039;atelier des lucioles
REFRESH-INTERVAL;VALUE=DURATION:PT1H
X-Robots-Tag:noindex
X-PUBLISHED-TTL:PT1H
BEGIN:VTIMEZONE
TZID:Europe/Paris
BEGIN:DAYLIGHT
TZOFFSETFROM:+0100
TZOFFSETTO:+0200
TZNAME:CEST
DTSTART:20220327T010000
END:DAYLIGHT
BEGIN:STANDARD
TZOFFSETFROM:+0200
TZOFFSETTO:+0100
TZNAME:CET
DTSTART:20221030T010000
END:STANDARD
BEGIN:DAYLIGHT
TZOFFSETFROM:+0100
TZOFFSETTO:+0200
TZNAME:CEST
DTSTART:20230326T010000
END:DAYLIGHT
BEGIN:STANDARD
TZOFFSETFROM:+0200
TZOFFSETTO:+0100
TZNAME:CET
DTSTART:20231029T010000
END:STANDARD
BEGIN:DAYLIGHT
TZOFFSETFROM:+0100
TZOFFSETTO:+0200
TZNAME:CEST
DTSTART:20240331T010000
END:DAYLIGHT
BEGIN:STANDARD
TZOFFSETFROM:+0200
TZOFFSETTO:+0100
TZNAME:CET
DTSTART:20241027T010000
END:STANDARD
BEGIN:DAYLIGHT
TZOFFSETFROM:+0100
TZOFFSETTO:+0200
TZNAME:CEST
DTSTART:20250330T010000
END:DAYLIGHT
BEGIN:STANDARD
TZOFFSETFROM:+0200
TZOFFSETTO:+0100
TZNAME:CET
DTSTART:20251026T010000
END:STANDARD
BEGIN:DAYLIGHT
TZOFFSETFROM:+0100
TZOFFSETTO:+0200
TZNAME:CEST
DTSTART:20260329T010000
END:DAYLIGHT
BEGIN:STANDARD
TZOFFSETFROM:+0200
TZOFFSETTO:+0100
TZNAME:CET
DTSTART:20261025T010000
END:STANDARD
END:VTIMEZONE
BEGIN:VEVENT
DTSTART;TZID=Europe/Paris:20250605T103000
DTEND;TZID=Europe/Paris:20250605T113000
DTSTAMP:20260421T221102
CREATED:20250602T082752Z
LAST-MODIFIED:20250821T115617Z
UID:10000924-1749119400-1749123000@www.latelierdeslucioles.fr
SUMMARY:Médiation scolaire • Visite de l’exposition en cours avec une classe de l’école Arc en Ciel
DESCRIPTION:Dans le cadre de ses actions de médiation\, L’atelier des lucioles se propose d’accueillir les scolaires pour des visites commentées de l’exposition en cours. \nEn ce moment\, il s’agit de l’exposition de peintures « Refuges » de l’artiste Hélène Mathorel. \nAutant que possible\, ces rencontres se font en présence de l’artiste. Sinon\, les visites sont assurées par L’atelier des lucioles. \nPour toute question\, n’hésitez pas à nous contacter.
URL:https://www.latelierdeslucioles.fr/event/mediation-scolaire-visite-de-lexposition-en-cours-avec-une-classe-de-lecole-arc-en-ciel/2025-06-05/
LOCATION:L’atelier des lucioles\, 11 place de l'Église\, Molac\, 56230
CATEGORIES:Agenda,Médiation
END:VEVENT
BEGIN:VEVENT
DTSTART;TZID=Europe/Paris:20250603T143000
DTEND;TZID=Europe/Paris:20250603T153000
DTSTAMP:20260421T221102
CREATED:20250602T082752Z
LAST-MODIFIED:20250821T115617Z
UID:10000923-1748961000-1748964600@www.latelierdeslucioles.fr
SUMMARY:Médiation scolaire • Visite de l’exposition en cours avec une classe de l’école Arc en Ciel
DESCRIPTION:Dans le cadre de ses actions de médiation\, L’atelier des lucioles se propose d’accueillir les scolaires pour des visites commentées de l’exposition en cours. \nEn ce moment\, il s’agit de l’exposition de peintures « Refuges » de l’artiste Hélène Mathorel. \nAutant que possible\, ces rencontres se font en présence de l’artiste. Sinon\, les visites sont assurées par L’atelier des lucioles. \nPour toute question\, n’hésitez pas à nous contacter.
URL:https://www.latelierdeslucioles.fr/event/mediation-scolaire-visite-de-lexposition-en-cours-avec-une-classe-de-lecole-arc-en-ciel/2025-06-03/
LOCATION:L’atelier des lucioles\, 11 place de l'Église\, Molac\, 56230
CATEGORIES:Agenda,Médiation
END:VEVENT
BEGIN:VEVENT
DTSTART;TZID=Europe/Paris:20250509T090000
DTEND;TZID=Europe/Paris:20250509T110000
DTSTAMP:20260421T221102
CREATED:20250423T102644Z
LAST-MODIFIED:20250821T115617Z
UID:10000920-1746781200-1746788400@www.latelierdeslucioles.fr
SUMMARY:Médiation scolaire • Visite de l’exposition en cours avec les CM et la classe de maternelle de l’école Saint-Pierre
DESCRIPTION:Dans le cadre de ses actions de médiation\, L’atelier des lucioles se propose d’accueillir les scolaires pour des visites commentées de l’exposition en cours. \nEn ce moment\, il s’agit de l’exposition de peintures « Refuges » de l’artiste Hélène Mathorel. \nAutant que possible\, ces rencontres se font en présence de l’artiste. Sinon\, les visites sont assurées par L’atelier des lucioles. \nPour toute question\, n’hésitez pas à nous contacter.
URL:https://www.latelierdeslucioles.fr/event/mediation-scolaire-visite-de-lexposition-en-cours-avec-la-classe-de-maternelle-de-lecole-saint-pierre/
CATEGORIES:Agenda,Médiation
END:VEVENT
BEGIN:VEVENT
DTSTART;TZID=Europe/Paris:20250502T090000
DTEND;TZID=Europe/Paris:20250502T110000
DTSTAMP:20260421T221102
CREATED:20250423T102458Z
LAST-MODIFIED:20250821T120244Z
UID:10000919-1746176400-1746183600@www.latelierdeslucioles.fr
SUMMARY:Médiation scolaire • Visite de l’exposition en cours avec deux classes de l’école Saint-Pierre
DESCRIPTION:Dans le cadre de ses actions de médiation\, L’atelier des lucioles se propose d’accueillir les scolaires pour des visites commentées de l’exposition en cours. \nEn ce moment\, il s’agit de l’exposition de peintures « Refuges » de l’artiste Hélène Mathorel. \nAutant que possible\, ces rencontres se font en présence de l’artiste. Sinon\, les visites sont assurées par L’atelier des lucioles. \nPour toute question\, n’hésitez pas à nous contacter.
URL:https://www.latelierdeslucioles.fr/event/mediation-scolaire-visite-de-lexposition-en-cours-avec-trois-classes-de-lecole-saint-pierre/
LOCATION:L’atelier des lucioles\, 11 place de l'Église\, Molac\, 56230
CATEGORIES:Agenda,Médiation
END:VEVENT
BEGIN:VEVENT
DTSTART;TZID=Europe/Paris:20250311T150000
DTEND;TZID=Europe/Paris:20250311T170000
DTSTAMP:20260421T221102
CREATED:20250226T145859Z
LAST-MODIFIED:20250821T120252Z
UID:10000890-1741705200-1741712400@www.latelierdeslucioles.fr
SUMMARY:Médiation scolaire • Visite de l’exposition en cours avec la classe MS-GS de l’école Arc en Ciel
DESCRIPTION:Dans le cadre de ses actions de médiation\, L’atelier des lucioles se propose d’accueillir les scolaires pour des visites commentées de l’exposition en cours. \nEn ce moment\, il s’agit de l’exposition de dessins et de peintures « Entre ciel et terre » de l’artiste Sandrine Merrien. \nAutant que possible\, ces rencontres se font en présence de l’artiste. Sinon\, les visites sont assurées par L’atelier des lucioles. \nPour toute question\, n’hésitez pas à nous contacter.
URL:https://www.latelierdeslucioles.fr/event/mediation-scolaire-visite-de-lexposition-en-cours-avec-la-classe-ms-gs-de-lecole-arc-en-ciel/
LOCATION:L’atelier des lucioles\, 11 place de l'Église\, Molac\, 56230
CATEGORIES:Agenda,Médiation
END:VEVENT
BEGIN:VEVENT
DTSTART;TZID=Europe/Paris:20250206T153000
DTEND;TZID=Europe/Paris:20250206T160000
DTSTAMP:20260421T221102
CREATED:20250203T155010Z
LAST-MODIFIED:20250821T120300Z
UID:10000848-1738855800-1738857600@www.latelierdeslucioles.fr
SUMMARY:Médiation scolaire • Visite de l’exposition en cours avec la classe PS-MS-GS de l’école Saint-Pierre
DESCRIPTION:Dans le cadre de ses actions de médiation\, L’atelier des lucioles se propose d’accueillir les scolaires pour des visites commentées de l’exposition en cours. \nEn ce moment\, il s’agit de l’exposition de dessins et de peintures « Entre ciel et terre » de l’artiste Sandrine Merrien. \nAutant que possible\, ces rencontres se font en présence de l’artiste. Sinon\, les visites sont assurées par L’atelier des lucioles. \nPour toute question\, n’hésitez pas à nous contacter.
URL:https://www.latelierdeslucioles.fr/event/mediationc-merrien-ps-ms-gs-ecole-saint-pierre/
LOCATION:L’atelier des lucioles\, 11 place de l'Église\, Molac\, 56230
CATEGORIES:Agenda,Médiation
END:VEVENT
BEGIN:VEVENT
DTSTART;TZID=Europe/Paris:20250124T090000
DTEND;TZID=Europe/Paris:20250124T120000
DTSTAMP:20260421T221102
CREATED:20250121T182950Z
LAST-MODIFIED:20250821T120309Z
UID:10000846-1737709200-1737720000@www.latelierdeslucioles.fr
SUMMARY:Médiation scolaire • Visite de l’exposition en cours avec trois classes de l’école Saint-Pierre et une de l'école Arc-en-ciel
DESCRIPTION:Dans le cadre de ses actions de médiation\, L’atelier des lucioles se propose d’accueillir les scolaires pour des visites commentées de l’exposition en cours. \nEn ce moment\, il s’agit de l’exposition de dessins et de peintures « Entre ciel et terre » de l’artiste Sandrine Merrien. \nAutant que possible\, ces rencontres se font en présence de l’artiste. Sinon\, les visites sont assurées par L’atelier des lucioles. \nPour toute question\, n’hésitez pas à nous contacter.
URL:https://www.latelierdeslucioles.fr/event/mediation-scolaire-visite-de-lexposition-en-cours-avec-trois-classes-de-lecole-saint-pierre-et-une-de-lecole-arc-en-ciel/
CATEGORIES:Agenda,Médiation
END:VEVENT
BEGIN:VEVENT
DTSTART;TZID=Europe/Paris:20240906T134500
DTEND;TZID=Europe/Paris:20240906T161500
DTSTAMP:20260421T221102
CREATED:20240903T175049Z
LAST-MODIFIED:20250821T120315Z
UID:10000758-1725630300-1725639300@www.latelierdeslucioles.fr
SUMMARY:Médiation scolaire • Visite de l’exposition en cours avec trois classes de l’école Arc-en-ciel
DESCRIPTION:Dans le cadre de ses actions de médiation\, L’atelier des lucioles se propose d’accueillir les scolaires pour des visites commentées de l’exposition en cours. \nEn ce moment\, il s’agit de l’exposition de photographies “Taïwan : archipel de vies” de l’artiste Jimmy Beunardeau. Ses photographies seront complétées de deux petits films de Vera Sung.  \nPour toute question\, n’hésitez pas à nous contacter.
URL:https://www.latelierdeslucioles.fr/event/mediation-arc-en-ciel-jimmybeunardeau/
LOCATION:L’atelier des lucioles\, 11 place de l'Église\, Molac\, 56230
CATEGORIES:Agenda,Médiation
END:VEVENT
BEGIN:VEVENT
DTSTART;TZID=Europe/Paris:20240906T100000
DTEND;TZID=Europe/Paris:20240906T120000
DTSTAMP:20260421T221102
CREATED:20240903T121330Z
LAST-MODIFIED:20250821T120322Z
UID:10000757-1725616800-1725624000@www.latelierdeslucioles.fr
SUMMARY:Médiation scolaire • Visite de l’exposition en cours avec trois classes de l’école Saint-Pierre
DESCRIPTION:Dans le cadre de ses actions de médiation\, L’atelier des lucioles se propose d’accueillir les scolaires pour des visites commentées de l’exposition en cours. \nEn ce moment\, il s’agit de l’exposition de photographies “Taïwan : archipel de vies” de l’artiste Jimmy Beunardeau. Ses photographies seront complétées de deux petits films de Vera Sung.  \nPour toute question\, n’hésitez pas à nous contacter.
URL:https://www.latelierdeslucioles.fr/event/mediation-saint-pierre-jimmybeunardeau/
CATEGORIES:Agenda,Médiation
END:VEVENT
BEGIN:VEVENT
DTSTART;TZID=Europe/Paris:20240620T140000
DTEND;TZID=Europe/Paris:20240620T160000
DTSTAMP:20260421T221102
CREATED:20240529T152348Z
LAST-MODIFIED:20250821T120330Z
UID:10000645-1718892000-1718899200@www.latelierdeslucioles.fr
SUMMARY:Médiation scolaire • Visite de l’exposition en cours avec deux classes de l'école Saint-Pierre
DESCRIPTION:Dans le cadre de ses actions de médiation\, L’atelier des lucioles se propose d’accueillir les scolaires pour des visites commentées de l’exposition en cours. \nEn ce moment\, il s’agit de l’exposition de dessins « Respiration » de l’artiste Anne de Villèle.  \nPour toute question\, n’hésitez pas à nous contacter.
URL:https://www.latelierdeslucioles.fr/event/mediation-scolaire-visite-de-lexposition-en-cours-avec-deux-classes-de-lecole-saint-pierre/2024-06-20/
LOCATION:L’atelier des lucioles\, 11 place de l'Église\, Molac\, 56230
CATEGORIES:Agenda,Médiation
END:VEVENT
BEGIN:VEVENT
DTSTART;TZID=Europe/Paris:20240531T100000
DTEND;TZID=Europe/Paris:20240531T120000
DTSTAMP:20260421T221102
CREATED:20240529T152348Z
LAST-MODIFIED:20250821T120330Z
UID:10000644-1717149600-1717156800@www.latelierdeslucioles.fr
SUMMARY:Médiation scolaire • Visite de l’exposition en cours avec deux classes de l'école Saint-Pierre
DESCRIPTION:Dans le cadre de ses actions de médiation\, L’atelier des lucioles se propose d’accueillir les scolaires pour des visites commentées de l’exposition en cours. \nEn ce moment\, il s’agit de l’exposition de dessins « Respiration » de l’artiste Anne de Villèle.  \nPour toute question\, n’hésitez pas à nous contacter.
URL:https://www.latelierdeslucioles.fr/event/mediation-scolaire-visite-de-lexposition-en-cours-avec-deux-classes-de-lecole-saint-pierre/2024-05-31/
LOCATION:L’atelier des lucioles\, 11 place de l'Église\, Molac\, 56230
CATEGORIES:Agenda,Médiation
END:VEVENT
BEGIN:VEVENT
DTSTART;TZID=Europe/Paris:20240404T103000
DTEND;TZID=Europe/Paris:20240404T120000
DTSTAMP:20260421T221102
CREATED:20240228T212112Z
LAST-MODIFIED:20250821T120349Z
UID:10000582-1712226600-1712232000@www.latelierdeslucioles.fr
SUMMARY:Médiation scolaire • Visite de l’exposition en cours avec les classes de GS/CP et CP/CE1 de l'école Arc-en-Ciel en présence de l'artiste Anne de Villèle
DESCRIPTION:Dans le cadre de ses actions de médiation\, L’atelier des lucioles se propose d’accueillir les scolaires pour des visites commentées de l’exposition en cours. \nEn ce moment\, il s’agit de l’exposition de dessins « Respiration » de l’artiste Anne de Villèle.  \nPour toute question\, n’hésitez pas à nous contacter.
URL:https://www.latelierdeslucioles.fr/event/mediation-scolaire-anne-de-villele/
LOCATION:L’atelier des lucioles\, 11 place de l'Église\, Molac\, 56230
CATEGORIES:Agenda,Médiation
END:VEVENT
BEGIN:VEVENT
DTSTART;TZID=Europe/Paris:20240321T140000
DTEND;TZID=Europe/Paris:20240321T150000
DTSTAMP:20260421T221102
CREATED:20240228T211712Z
LAST-MODIFIED:20250821T120356Z
UID:10000581-1711029600-1711033200@www.latelierdeslucioles.fr
SUMMARY:Médiation scolaire • Visite de l’exposition en cours avec deux classes de l’école Saint-Pierre\, Molac\, en présence de l'artiste
DESCRIPTION:Dans le cadre de ses actions de médiation\, L’atelier des lucioles se propose d’accueillir les scolaires pour des visites commentées de l’exposition en cours. \nEn ce moment\, il s’agit de l’exposition « Entre nous »\, de la peintre Nadja Holland.  \nPour toute question\, n’hésitez pas à nous contacter.
URL:https://www.latelierdeslucioles.fr/event/mediation-visite-de-lexposition-en-presence-de-lartiste/
LOCATION:L’atelier des lucioles\, 11 place de l'Église\, Molac\, 56230
CATEGORIES:Agenda,Médiation
END:VEVENT
BEGIN:VEVENT
DTSTART;TZID=Europe/Paris:20240312T140000
DTEND;TZID=Europe/Paris:20240312T150000
DTSTAMP:20260421T221102
CREATED:20240228T211306Z
LAST-MODIFIED:20250821T120404Z
UID:10000580-1710252000-1710255600@www.latelierdeslucioles.fr
SUMMARY:Médiation scolaire • Visite de l’exposition en cours avec la classe GS/CP de l’école Saint-Pierre\, Molac
DESCRIPTION:Dans le cadre de ses actions de médiation\, L’atelier des lucioles se propose d’accueillir les scolaires pour des visites commentées de l’exposition en cours. \nEn ce moment\, il s’agit de l’exposition « Entre nous »\, de la peintre Nadja Holland.  \nPour toute question\, n’hésitez pas à nous contacter.
URL:https://www.latelierdeslucioles.fr/event/mediation-visite-de-lexposition-en-cours-avec-la-classe-gs-cp-de-lecole-saint-pierre-molac/
LOCATION:L’atelier des lucioles\, 11 place de l'Église\, Molac\, 56230
CATEGORIES:Agenda,Médiation
END:VEVENT
BEGIN:VEVENT
DTSTART;TZID=Europe/Paris:20240222T140000
DTEND;TZID=Europe/Paris:20240222T150000
DTSTAMP:20260421T221102
CREATED:20240214T213055Z
LAST-MODIFIED:20250821T120411Z
UID:10000573-1708610400-1708614000@www.latelierdeslucioles.fr
SUMMARY:Médiation scolaire • Visite de l’exposition en cours avec la classe CM1/CM2 de l’école Saint-Pierre\, Molac
DESCRIPTION:Dans le cadre de ses actions de médiation\, L’atelier des lucioles se propose d’accueillir les scolaires pour des visites commentées de l’exposition en cours. \nEn ce moment\, il s’agit de l’exposition « Entre nous »\, de la peintre Nadja Holland.  \nPour toute question\, n’hésitez pas à nous contacter.
URL:https://www.latelierdeslucioles.fr/event/mediation-visite-de-lexposition-en-cours-avec-la-classe-cm1-cm2-de-lecole-saint-pierre-molac/
LOCATION:L’atelier des lucioles\, 11 place de l'Église\, Molac\, 56230
CATEGORIES:Agenda,Médiation
END:VEVENT
BEGIN:VEVENT
DTSTART;TZID=Europe/Paris:20231219T143000
DTEND;TZID=Europe/Paris:20231219T153000
DTSTAMP:20260421T221102
CREATED:20231215T101951Z
LAST-MODIFIED:20250821T120417Z
UID:10000535-1702996200-1702999800@www.latelierdeslucioles.fr
SUMMARY:Médiation scolaire • Visite de l’exposition en cours avec la classe CM1/CM2 de l’école Arc en ciel\, Molac
DESCRIPTION:Dans le cadre de ses actions de médiation\, L’atelier des lucioles se propose d’accueillir les scolaires pour des visites commentées de l’exposition en cours. \nEn ce moment\, il s’agit de deux séries de la photographe Lou Camino\, In my dreams et Murmures du monde.  \nPour toute question\, n’hésitez pas à nous contacter.
URL:https://www.latelierdeslucioles.fr/event/mediation-visite-de-lexposition-en-cours-avec-la-classe-cm1-cm2-de-lecole-arc-en-ciel-molac/
LOCATION:L’atelier des lucioles\, 11 place de l'Église\, Molac\, 56230
CATEGORIES:Agenda,Médiation
END:VEVENT
BEGIN:VEVENT
DTSTART;TZID=Europe/Paris:20231214T144500
DTEND;TZID=Europe/Paris:20231214T154500
DTSTAMP:20260421T221102
CREATED:20231129T183737Z
LAST-MODIFIED:20250821T120526Z
UID:10000499-1702565100-1702568700@www.latelierdeslucioles.fr
SUMMARY:Médiation scolaire • Visite de l’exposition en cours avec la classe CP/CE1 de l’école Arc en ciel\, Molac
DESCRIPTION:Dans le cadre de ses actions de médiation\, L’atelier des lucioles se propose d’accueillir les scolaires pour des visites commentées de l’exposition en cours. \nEn ce moment\, il s’agit de deux séries de la photographe Lou Camino\, In my dreams et Murmures du monde.  \nPour toute question\, n’hésitez pas à nous contacter.
URL:https://www.latelierdeslucioles.fr/event/mediation-visite-de-lexposition-en-cours-avec-la-classe-cp-ce1-de-lecole-arc-en-ciel-molac-2/
LOCATION:L’atelier des lucioles\, 11 place de l'Église\, Molac\, 56230
CATEGORIES:Agenda,Médiation
ATTACH;FMTTYPE=image/jpeg:https://www.latelierdeslucioles.fr/wp-content/uploads/2023/11/20231017_152747-s.jpg
END:VEVENT
BEGIN:VEVENT
DTSTART;TZID=Europe/Paris:20231213T143000
DTEND;TZID=Europe/Paris:20231213T153000
DTSTAMP:20260421T221102
CREATED:20231201T085910Z
LAST-MODIFIED:20250821T120043Z
UID:10000511-1702477800-1702481400@www.latelierdeslucioles.fr
SUMMARY:Médiation grand public • Visite de l’exposition en cours avec Les Joyeux Molacois
DESCRIPTION:Dans le cadre de ses actions de médiation\, L’atelier des lucioles se propose d’accueillir les scolaires et autres groupes pour des visites commentées de l’exposition en cours. \nEn ce moment\, il s’agit de deux séries de la photographe Lou Camino\, In my dreams et Murmures du monde.  \nPour toute question\, n’hésitez pas à nous contacter.
URL:https://www.latelierdeslucioles.fr/event/mediation-visite-de-lexposition-en-cours-avec-les-joyeux-molacois/
LOCATION:L’atelier des lucioles\, 11 place de l'Église\, Molac\, 56230
CATEGORIES:Agenda,Médiation
END:VEVENT
BEGIN:VEVENT
DTSTART;TZID=Europe/Paris:20231212T143000
DTEND;TZID=Europe/Paris:20231212T153000
DTSTAMP:20260421T221102
CREATED:20231129T182447Z
LAST-MODIFIED:20250821T120532Z
UID:10000498-1702391400-1702395000@www.latelierdeslucioles.fr
SUMMARY:Médiation scolaire • Visite de l’exposition en cours avec la classe CE2/CM1 de l’école Arc en ciel\, Molac
DESCRIPTION:Dans le cadre de ses actions de médiation\, L’atelier des lucioles se propose d’accueillir les scolaires pour des visites commentées de l’exposition en cours. \nEn ce moment\, il s’agit de deux séries de la photographe Lou Camino\, In my dreams et Murmures du monde.  \nPour toute question\, n’hésitez pas à nous contacter.
URL:https://www.latelierdeslucioles.fr/event/mediation-visite-de-lexposition-en-cours-avec-la-classe-cp-ce1-de-lecole-arc-en-ciel-molac/
CATEGORIES:Agenda,Médiation
ATTACH;FMTTYPE=image/jpeg:https://www.latelierdeslucioles.fr/wp-content/uploads/2023/11/20231017_152747-s.jpg
END:VEVENT
BEGIN:VEVENT
DTSTART;TZID=Europe/Paris:20231017T150000
DTEND;TZID=Europe/Paris:20231017T160000
DTSTAMP:20260421T221102
CREATED:20230922T092714Z
LAST-MODIFIED:20250821T120539Z
UID:10000391-1697554800-1697558400@www.latelierdeslucioles.fr
SUMMARY:Médiation scolaire : visite de l'exposition en cours avec la classe GS/CP de l'école Arc en ciel\, Molac
DESCRIPTION:Dans le cadre de ses actions de médiation\, L’atelier des lucioles se propose d’accueillir les scolaires pour des visites commentées de l’exposition en cours. \nEn ce mois d’octobre\, il s’agit de deux séries de la photographe Lou Camino\, »In my dreams » et « Murmures du monde« .  \nPour toute question\, n’hésitez pas à nous contacter. \n 
URL:https://www.latelierdeslucioles.fr/event/mediation-visite-de-lexposition-en-cours-avec-la-classe-gs-cp-de-lecole-arc-en-ciel-molac/
LOCATION:L’atelier des lucioles\, 11 place de l'Église\, Molac\, 56230
CATEGORIES:Agenda,Médiation
END:VEVENT
END:VCALENDAR