BEGIN:VCALENDAR
VERSION:2.0
PRODID:-//L&#039;atelier des lucioles - ECPv6.15.17//NONSGML v1.0//EN
CALSCALE:GREGORIAN
METHOD:PUBLISH
X-WR-CALNAME:L&#039;atelier des lucioles
X-ORIGINAL-URL:https://www.latelierdeslucioles.fr
X-WR-CALDESC:Évènements pour L&#039;atelier des lucioles
REFRESH-INTERVAL;VALUE=DURATION:PT1H
X-Robots-Tag:noindex
X-PUBLISHED-TTL:PT1H
BEGIN:VTIMEZONE
TZID:Europe/Paris
BEGIN:DAYLIGHT
TZOFFSETFROM:+0100
TZOFFSETTO:+0200
TZNAME:CEST
DTSTART:20230326T010000
END:DAYLIGHT
BEGIN:STANDARD
TZOFFSETFROM:+0200
TZOFFSETTO:+0100
TZNAME:CET
DTSTART:20231029T010000
END:STANDARD
BEGIN:DAYLIGHT
TZOFFSETFROM:+0100
TZOFFSETTO:+0200
TZNAME:CEST
DTSTART:20240331T010000
END:DAYLIGHT
BEGIN:STANDARD
TZOFFSETFROM:+0200
TZOFFSETTO:+0100
TZNAME:CET
DTSTART:20241027T010000
END:STANDARD
BEGIN:DAYLIGHT
TZOFFSETFROM:+0100
TZOFFSETTO:+0200
TZNAME:CEST
DTSTART:20250330T010000
END:DAYLIGHT
BEGIN:STANDARD
TZOFFSETFROM:+0200
TZOFFSETTO:+0100
TZNAME:CET
DTSTART:20251026T010000
END:STANDARD
END:VTIMEZONE
BEGIN:VEVENT
DTSTART;TZID=Europe/Paris:20240522T143000
DTEND;TZID=Europe/Paris:20240522T183000
DTSTAMP:20260421T012646
CREATED:20240429T162717Z
LAST-MODIFIED:20240429T165705Z
UID:10000638-1716388200-1716402600@www.latelierdeslucioles.fr
SUMMARY:Présence d'Anne de Villèle dans le cadre de son exposition "Respiration"
DESCRIPTION:Dans le cadre de son exposition « Respiration »\, visible jusqu’à fin juin\, Anne de Villèle sera présente à L’atelier des lucioles. L’occasion\, pour ceux qui n’ont pas pu venir au vernissage\, de la rencontrer et de bénéficier d’une visite commentée.\n\nle mercredi 22 mai de 14h30 à 18h30\nle dimanche 23 juin de 14h30 à 18h30\nelle animera un atelier d’impression végétale le samedi 22 juin de 10h à 12h\n\nVous pouvez également venir découvrir son exposition lorsque L’atelier des lucioles est ouvert et qu’aucun atelier n’est en cours. Une suggestion ? Nous appeler au préalable ou nous contacter par mail.
URL:https://www.latelierdeslucioles.fr/event/presence-anne-de-villele-respiration/2024-05-22/
LOCATION:L’atelier des lucioles\, 11 place de l'Église\, Molac\, 56230
CATEGORIES:Agenda,Atelier,Événement,Monotype,Techniques d'impression
END:VEVENT
BEGIN:VEVENT
DTSTART;TZID=Europe/Paris:20240525T200000
DTEND;TZID=Europe/Paris:20240525T220000
DTSTAMP:20260421T012646
CREATED:20240228T201145Z
LAST-MODIFIED:20240419T153441Z
UID:10000575-1716667200-1716674400@www.latelierdeslucioles.fr
SUMMARY:Spectacle-Conte : Comment s'évader (quand on n'est pas un oiseau migrateur) ? de Jérémie Chapelain
DESCRIPTION:« Comment s’évader (quand on n’est pas un oiseau migrateur) ? » – Contes et chants de (très) basse Bretagne est un spectacle de Jérémie Chapelain \nAvec ce spectacle\, il est question de faire des aller-retours\, entre la Bretagne (mythique) du 19e siècle\, ses pluies et ses envoûtements étranges\, et la vie actuelle (ma foi\, nous serons à Molac en 2024). Mains moites et cœur battant\, on cherchera l’hypnose des veillées d’antan. Les histoires et les chants gallos\, lorsqu’on les enchevêtre\, forment cependant une sorte de labyrinthe touffu\, luxuriant\, dont il faudra sans doute finir par s’évader. \nPublic : Tout public \n  \nQui est Jérémie Chapelain ? \nDe longues dates\, Jérémie Chapelain s’est fondu dans des aventures collectives. Par exemple\, il a beaucoup traîné dans le festival « Raconte-Arts » en Kabylie (sorte de méga veillée algérienne itinérante) où parfois il jouait au poète\, parfois à l’herboriste\, parfois à la fausse boxe – selon les besoins de la situation.  Collectif de soutien à des personnes précaires\, collectif de conte improvisé\, entretien des surfaces ou facteur : tout est bon dans le baluchon. De ces expériences\, il tire doucement un fil rouge\, autour de la transmission\, et de l’écriture collective. Dans le civil\, Jérémie est aussi bibliothécaire rural\, mangeur de châtaignes grillées\, et formateur en théâtre. \n\n\n\nhttp://www.francoisdebas.fr/jeremie-chapelain/
URL:https://www.latelierdeslucioles.fr/event/spectacle-conte-jeremie-chapelain/
LOCATION:L’atelier des lucioles\, 11 place de l'Église\, Molac\, 56230
CATEGORIES:Agenda,Événement
END:VEVENT
END:VCALENDAR