BEGIN:VCALENDAR
VERSION:2.0
PRODID:-//L&#039;atelier des lucioles - ECPv6.15.17//NONSGML v1.0//EN
CALSCALE:GREGORIAN
METHOD:PUBLISH
X-ORIGINAL-URL:https://www.latelierdeslucioles.fr
X-WR-CALDESC:Évènements pour L&#039;atelier des lucioles
REFRESH-INTERVAL;VALUE=DURATION:PT1H
X-Robots-Tag:noindex
X-PUBLISHED-TTL:PT1H
BEGIN:VTIMEZONE
TZID:Europe/Paris
BEGIN:DAYLIGHT
TZOFFSETFROM:+0100
TZOFFSETTO:+0200
TZNAME:CEST
DTSTART:20230326T010000
END:DAYLIGHT
BEGIN:STANDARD
TZOFFSETFROM:+0200
TZOFFSETTO:+0100
TZNAME:CET
DTSTART:20231029T010000
END:STANDARD
BEGIN:DAYLIGHT
TZOFFSETFROM:+0100
TZOFFSETTO:+0200
TZNAME:CEST
DTSTART:20240331T010000
END:DAYLIGHT
BEGIN:STANDARD
TZOFFSETFROM:+0200
TZOFFSETTO:+0100
TZNAME:CET
DTSTART:20241027T010000
END:STANDARD
BEGIN:DAYLIGHT
TZOFFSETFROM:+0100
TZOFFSETTO:+0200
TZNAME:CEST
DTSTART:20250330T010000
END:DAYLIGHT
BEGIN:STANDARD
TZOFFSETFROM:+0200
TZOFFSETTO:+0100
TZNAME:CET
DTSTART:20251026T010000
END:STANDARD
END:VTIMEZONE
BEGIN:VEVENT
DTSTART;TZID=Europe/Paris:20240412T183000
DTEND;TZID=Europe/Paris:20240412T203000
DTSTAMP:20260421T012157
CREATED:20240228T212312Z
LAST-MODIFIED:20240330T090529Z
UID:10000583-1712946600-1712953800@www.latelierdeslucioles.fr
SUMMARY:Exposition • Vernissage de l'exposition d'Anne de Villèle
DESCRIPTION:  \nAnne de Villèle : Exploratrice de l’anatomie végétale \nAnne de Villèle\, artiste plasticienne\, a tracé son parcours artistique à travers une fusion unique entre l’anatomie humaine et le règne végétal. Formée aux Beaux-Arts de Cergy-Pontoise\, son cheminement l’a conduite à Rochefort-en-Terre où elle a installé son atelier et une galerie ouverte au public. \nInspiration et Création\nSon art\, décliné à travers le dessin et la céramique\, explore l’analogie profonde entre le corps et la nature. Anne s’exprime dans de vastes aquarelles\, habilement rehaussées de délicats traits à l’encre noire. Ses œuvres captivent par leur oscillation subtile entre le figuratif et l’abstrait\, offrant une richesse symbolique empreinte de surréalisme. \nÉpure et Symbolisme\nLes créations d’Anne sont épurées\, tout en étant riches de symbolique dans leur représentation du vivant. Une fusion subtile entre organes\, os et végétaux se déploie dans chacune de ses œuvres\, révélant une association captivante qui magnifie chaque composant\, tout en soulignant une sobre élégance dans leur présentation. \nÉvolution et Expérimentation\nPendant huit années\, Anne a créé un dessin par jour\, un exercice qui a profondément formé sa technique de représentation. Cette pratique intense a permis l’exploration audacieuse de diverses matières et formats\, contribuant ainsi à enrichir la profondeur et la variété de son travail artistique. \nAnne\, à travers son exploration incessante de la symbiose entre le vivant et la nature\, offre aux spectateurs une plongée singulière dans un univers où l’anatomie et le végétal se marient harmonieusement. \n  \n++++++++++++++++++++++++++ \nDans le cadre de cette exposition\, Anne de Villèle sera présente à L’atelier des lucioles à plusieurs occasions : \n\nMédiation scolaire le jeudi 4 avril de 10h30 à 12h\nVernissage le vendredi 12 avril à partir de 18h30\nRencontres avec le public le mercredi 22 mai de 14h30 à 18h30 et le dimanche 23 juin de 14h30 à 18h30\nAtelier impression végétale le samedi 22 juin de 10h à 12h
URL:https://www.latelierdeslucioles.fr/event/exposition-vernissage-de-lexposition-danne-de-villele/
LOCATION:L’atelier des lucioles\, 11 place de l'Église\, Molac\, 56230
CATEGORIES:Agenda,Événement
ATTACH;FMTTYPE=image/jpeg:https://www.latelierdeslucioles.fr/wp-content/uploads/2024/03/xIMG_9616_DxO-s.jpg
END:VEVENT
BEGIN:VEVENT
DTSTART;TZID=Europe/Paris:20240423T200000
DTEND;TZID=Europe/Paris:20240423T213000
DTSTAMP:20260421T012157
CREATED:20240328T092905Z
LAST-MODIFIED:20240404T090916Z
UID:10000622-1713902400-1713907800@www.latelierdeslucioles.fr
SUMMARY:Rencontre dédicace avec Elise Goldberg pour son livre "Tout le monde n'a pas la chance d'aimer la carpe farcie"
DESCRIPTION:  \nRendez-vous à 20h avec Élise Goldberg pour échanger autour de son livre «Tout le monde n’a pas la chance d’aimer la carpe farcie» (Éditions Verdier) dont elle lira des extraits ! \n+ \nÉlise Goldberg est née en 1973 et vit aux Lilas. Elle travaille dans l’édition et anime des ateliers d’écriture. Elle est diplômée du master de création littéraire de l’université Paris-8. Tout le monde n’a pas la chance d’aimer la carpe farcie est son premier livre pour lequel elle a reçu le Prix Les Inrockuptibles du Premier Roman. Certains extraits ont été adaptés pour un concert littéraire en duo avec la chanteuse yiddish Muriel Missirlou\, intitulé « Sur le bout de la langue ». \n+ \nUn grand-père meurt. Une petite-fille récupère son frigo et l’installe dans sa cuisine. La porte à peine ouverte\, nous franchissons « la frontière de la Pologne juive » et c’est tout un monde qui se découvre\, un monde de foie devolaille (gehakte leyber)\, d’ognonnes\, et surtout de gefilte fish\, la carpe farcie en yiddish. La cuisine ashkénaze n’est peut-être pas la plus sexy du monde. Si « elle était une personne\, ce serait un genre de quidam pas coiffé\, les habits froissés\, surpris au saut du lit avec des traces d’oreiller sur la figure et qui\, pour couronner le tout\, vous ouvrirait en tirant une tête de douze pieds ». Le yiddish n’est peut-être pas une langue bien normée\, mais c’est un « parler de l’autodérision\, de l’antiphrase. Une langue qui se rit de l’ambition ». \nEn s’appropriant cette cuisine et cette langue\, c’est toute une culture que la narratrice de ce récit entreprend de restituer. Et pas n’importe quelle culture : celle de sa famille et son seul moyen pour remonter une histoire commune d’exil\, de souffrance et de destruction\, que sa famille semble avoir presque entièrement oubliée. Malgré les quelques photos et documents qui demeurent\, le récit familial nous dit-elle\, est « un récit sans chair\, dont ne subsisterait que la colonne\, quelques arêtes ». Une carpe\, en quelque sorte\, qu’il faut réussir à farcir\, si on veut l’aimer. \nC’est au fond ce que propose Élise Goldberg dans ce premier récit tout à la fois drôle\, subtil et émouvant\, qui commence comme un guide détourné de cuisine ashkénaze ou de conversation en yiddish pour débutants et qui se poursuit par un récit familial nous faisant voyager d’un appartement parisien à la Russie et à l’Asie centrale. En chemin\, on croise des figures de la culture populaire\, l’inspecteur Columbo\, Peau d’Âne\, un Alien ou l’inénarrable Mami Goldè\, la Maïté des Ashkénazes. \n  \nEn amont de cette rencontre\, Elise Goldberg anime un atelier d’écriture faisant écho à son livre. 
URL:https://www.latelierdeslucioles.fr/event/rencontre-dedicace-elise-goldberg/
LOCATION:L’atelier des lucioles\, 11 place de l'Église\, Molac\, 56230
CATEGORIES:Agenda,Événement
ATTACH;FMTTYPE=image/jpeg:https://www.latelierdeslucioles.fr/wp-content/uploads/2024/03/23_06_26_ELISE-GOLDBERG_1_V2-s.jpg
END:VEVENT
END:VCALENDAR