BEGIN:VCALENDAR
VERSION:2.0
PRODID:-//L&#039;atelier des lucioles - ECPv6.15.17//NONSGML v1.0//EN
CALSCALE:GREGORIAN
METHOD:PUBLISH
X-WR-CALNAME:L&#039;atelier des lucioles
X-ORIGINAL-URL:https://www.latelierdeslucioles.fr
X-WR-CALDESC:Évènements pour L&#039;atelier des lucioles
REFRESH-INTERVAL;VALUE=DURATION:PT1H
X-Robots-Tag:noindex
X-PUBLISHED-TTL:PT1H
BEGIN:VTIMEZONE
TZID:Europe/Paris
BEGIN:DAYLIGHT
TZOFFSETFROM:+0100
TZOFFSETTO:+0200
TZNAME:CEST
DTSTART:20220327T010000
END:DAYLIGHT
BEGIN:STANDARD
TZOFFSETFROM:+0200
TZOFFSETTO:+0100
TZNAME:CET
DTSTART:20221030T010000
END:STANDARD
BEGIN:DAYLIGHT
TZOFFSETFROM:+0100
TZOFFSETTO:+0200
TZNAME:CEST
DTSTART:20230326T010000
END:DAYLIGHT
BEGIN:STANDARD
TZOFFSETFROM:+0200
TZOFFSETTO:+0100
TZNAME:CET
DTSTART:20231029T010000
END:STANDARD
BEGIN:DAYLIGHT
TZOFFSETFROM:+0100
TZOFFSETTO:+0200
TZNAME:CEST
DTSTART:20240331T010000
END:DAYLIGHT
BEGIN:STANDARD
TZOFFSETFROM:+0200
TZOFFSETTO:+0100
TZNAME:CET
DTSTART:20241027T010000
END:STANDARD
END:VTIMEZONE
BEGIN:VEVENT
DTSTART;TZID=Europe/Paris:20231013T190000
DTEND;TZID=Europe/Paris:20231013T210000
DTSTAMP:20260421T115413
CREATED:20230926T182554Z
LAST-MODIFIED:20250821T145515Z
UID:10000398-1697223600-1697230800@www.latelierdeslucioles.fr
SUMMARY:Exposition • Vernissage de l’exposition "Le voyage intérieur"\, photographies de Lou Camino
DESCRIPTION:Vernissage de la double exposition de Lou Camino (co-créatrice de L’atelier des lucioles) dans laquelle elle présente ses deux dernières séries : « In my dreams » et « Murmures du monde ».\nNous pourrons échanger sur les rêves\, les évasions et la photo autour d’une chips et d’un verre.\n+\nLes images resteront en place encore quelques semaines.\n+\nPour des questions d’organisation\, merci de confirmer votre venue.\n+\nQuelques mots sur ces deux séries :\n+\n« Murmures du monde » émerge alors que nous ne pouvons aller au-delà de 100 km de chez nous\, déconfinement progressif oblige. Je rentre juste de trois mois et demi passés en Nouvelle-Zélande. Ses paysages majestueux irriguent les strates supérieures de ma mémoire d’autant plus facilement que\, de retour à Paris\, j’ai la sensation d’être cloitrée entre les murs de mon appartement. Je repense à ceux de la Caserma Pepe\, site militaire abandonné depuis 20 ans sur l’île du Lido de Venise. Une enfilade de pièces vides aux murs blancs travaillés par le temps\, aux portes\, volets et fenêtres brinquebalants.\nLeurs murs se font alors subtilement pages blanches\, support de mes tentatives d’évasion et de reconnexion à une nature grandiose fraîchement traversée qui ne demande qu’à remonter à la surface. Des pièces comme autant de boîtes à souvenirs\, de portails intérieurs\, où extérieur et intérieur fusionnent\, où présent et passé s’unissent\, où antipodes se croisent\, où fini et infini s’inversent\, où frontières s’effacent. Une traversée des mondes où tout est remis en perspective\, et en premier lieu\, la réalité de ce que nous voyons et le sens de nos pérégrinations…\n+++\nChaque image de la série « In my dreams » est inspirée de mes rêves et de visions lors de méditations ou de voyages chamaniques. En somme\, d’états modifiés de conscience. L’acte de création\, qui place dans un état de concentration très particulier\, en est lui-même un. Ces images\, qui fusionnent plusieurs de mes photographies\, entièrement ou partiellement\, créent des ponts entre des lieux et des époques differents\, comme si espace et temps étaient en permanence connectés\, et formaient un tout.\nJ’aime l’idée – déjà explorée dans d’autres séries – de créer un univers qui n’existe a priori pas à partir d’éléments réels. C’est une facon pour moi de montrer que la réalité est une notion très fluctuante\, très relative. Et en tout cas\, qu’elle est multiple\, protéiforme et aussi pleine de surprises pour notre esprit cartésien. De même\, il m’est important de laisser à chacun la liberté de naviguer sans guide ou contrainte dans ces mondes imaginaires. A chacun de tracer son chemin dans l’image selon ses propres rêves et ce à quoi elle fait écho en lui. Mon espoir\, en jouant avec les frontières\, est toujours d’ouvrir les horizons et le champ des possibles.
URL:https://www.latelierdeslucioles.fr/event/exposition-le-voyage-interieur-photographies-de-lou-camino/
LOCATION:L’atelier des lucioles\, 11 place de l'Église\, Molac\, 56230
CATEGORIES:Agenda,Événement
ATTACH;FMTTYPE=image/jpeg:https://www.latelierdeslucioles.fr/wp-content/uploads/2023/10/Milieussage-LouCamino-13oct23.jpg
END:VEVENT
BEGIN:VEVENT
DTSTART;TZID=Europe/Paris:20231030T200000
DTEND;TZID=Europe/Paris:20231030T220000
DTSTAMP:20260421T115413
CREATED:20230914T131007Z
LAST-MODIFIED:20260303T224601Z
UID:10000384-1698696000-1698703200@www.latelierdeslucioles.fr
SUMMARY:Rencontre lecture avec Stéphanie Garzanti
DESCRIPTION:« Avec Petite Nature\, Stéphanie Garzanti nous offre un ensemble de courts textes ciselés\, décalés et poétiques qui jouent avec les genres littéraires et les codes de l’autofiction. Des souvenirs d’enfance et d’adolescence se mêlent à des histoires fantastiques\, on y trouve à la fois des paons qui mangent du popcorn\, des personnages qui s’amalgament\, du cyclisme\, des métamorphoses\, on y croise aussi bien Virginia Woolf ou Monique Wittig que Dalida\, il y a beaucoup de chien·ne·s et des lesbiennes à tous les étages.\nUn premier texte littéraire extrêmement réussi et plein d’humour qui interroge l’acte d’écrire\, le pouvoir des mots et leur capacité d’émancipation. » (Présentation des éditions Cambourakis) \n+ \nArticle sur son livre : https://diacritik.com/2023/03/17/stephanie-garzanti-le-livre-prisme-petite-nature/ \n+ \nStéphanie Garzanti apportera quelques exemplaires de son livre \nque vous pourrez acheter (18€\, prévoyez espèces ou chèque) et faire dédicacer sur place.\n+ \nLe + de L’atelier des lucioles : En amont de cette rencontre\, Stéphanie Garzanti animera un atelier d’écriture de 14h à 16h30 \nLorsqu’il s’agit d’appliquer les nouvelles règles d’orthographe je préfère garder les anciennes. Je mets les circonflexes partout et les trémas sur les lettres qu’on ne prononce pas. Je trouve ça beau et c’est bien la meilleure des raisons. Par contre\, je considère l’écriture aussi comme un espace de liberté où tous les artifices sont possibles. \nÀ partir de l’analyse de quelques extraits de Petite nature\, nous essaierons d’inventer modestement mais sérieusement des formes singulières d’écriture et d’expérimenter une écriture personnelle poétique\, théorique\, politique\, romanesque… afin de trouver façon la plus juste de s’exprimer. \nPublic / Prérequis : à partir de 15 ans \nMinimum / maximum de participants : 3 / 10 personnes (atelier d’ores et déjà confirmé) \nTarif : 12€ pour les adhérents\, 13€ pour les non adhérents \nInformations pratiques : venez avec vos cahier et stylo \nPour tout renseignement ou inscription\, contactez-nous par courriel (et n’hésitez pas à vérifier vos spams si vous ne voyez pas venir de réponse rapidement). \n 
URL:https://www.latelierdeslucioles.fr/event/rencontre-lecture-stephanie-garzanti/
LOCATION:L’atelier des lucioles\, 11 place de l'Église\, Molac\, 56230
CATEGORIES:Agenda,Événement
ATTACH;FMTTYPE=image/jpeg:https://www.latelierdeslucioles.fr/wp-content/uploads/2023/09/StephanieGarzanti-30oct23.jpg
END:VEVENT
END:VCALENDAR