BEGIN:VCALENDAR
VERSION:2.0
PRODID:-//L&#039;atelier des lucioles - ECPv6.15.17//NONSGML v1.0//EN
CALSCALE:GREGORIAN
METHOD:PUBLISH
X-WR-CALNAME:L&#039;atelier des lucioles
X-ORIGINAL-URL:https://www.latelierdeslucioles.fr
X-WR-CALDESC:Évènements pour L&#039;atelier des lucioles
REFRESH-INTERVAL;VALUE=DURATION:PT1H
X-Robots-Tag:noindex
X-PUBLISHED-TTL:PT1H
BEGIN:VTIMEZONE
TZID:Europe/Paris
BEGIN:DAYLIGHT
TZOFFSETFROM:+0100
TZOFFSETTO:+0200
TZNAME:CEST
DTSTART:20240331T010000
END:DAYLIGHT
BEGIN:STANDARD
TZOFFSETFROM:+0200
TZOFFSETTO:+0100
TZNAME:CET
DTSTART:20241027T010000
END:STANDARD
BEGIN:DAYLIGHT
TZOFFSETFROM:+0100
TZOFFSETTO:+0200
TZNAME:CEST
DTSTART:20250330T010000
END:DAYLIGHT
BEGIN:STANDARD
TZOFFSETFROM:+0200
TZOFFSETTO:+0100
TZNAME:CET
DTSTART:20251026T010000
END:STANDARD
BEGIN:DAYLIGHT
TZOFFSETFROM:+0100
TZOFFSETTO:+0200
TZNAME:CEST
DTSTART:20260329T010000
END:DAYLIGHT
BEGIN:STANDARD
TZOFFSETFROM:+0200
TZOFFSETTO:+0100
TZNAME:CET
DTSTART:20261025T010000
END:STANDARD
END:VTIMEZONE
BEGIN:VEVENT
DTSTART;TZID=Europe/Paris:20250129T140000
DTEND;TZID=Europe/Paris:20250129T160000
DTSTAMP:20260423T184710
CREATED:20241115T170554Z
LAST-MODIFIED:20241219T222744Z
UID:10000783-1738159200-1738166400@www.latelierdeslucioles.fr
SUMMARY:Modelage • Atelier enfants / adultes • Fabrique ta tasse (ou ton bol)
DESCRIPTION:Animé par Corinne Fillion\, Poussières d’Argile\nPour cet atelier ouvert aux petits et aux grands\, Corinne te propose de fabriquer une tasse ou un bol. Tu découvriras la technique de l’estampage sur un moule afin de créer la forme finale. Chacun pourra ensuite décorer son objet et le personnaliser comme il le souhaite en créant une anse\, un motif\, ou écrire son prénom. Un émail transparent sera passé dessus après cuisson.  \nTous les ateliers modelage du premier trimestre :\n– vendredi 10 janvier : Décor d’empreinte\n– samedi 11 janvier : Sculpture d’animal à la manière de Pompon\n– mercredi 29 janvier : Tasse / bol (dès 8 ans ; adultes aussi)\n– samedi 8 février : Pot ou vase en colombins\n– vendredi 28 février : Cloche en grès\n– mercredi 12 mars : Maison-paysage (dès 8 ans ; adultes aussi)\n– samedi 15 mars : Patine \nPublic / Prérequis : atelier ouvert à partir de 8 ans et aux adultes n’ayant pas peur des enfants :-). \nMinimum / maximum de participants : 3 /5 \nTarif : 20€ tarif adhérent ; 22€ tarif non adhérent ; tout compris. Un acompte de 50% est demandé à la réservation. Il sera conservé en cas d’annulation par le participant survenant moins de 3 jours ouvrés avant l’atelier (sauf si la personne se désistant trouve un remplaçant) et remboursé si l’atelier n’a pas lieu\, faute d’un nombre suffisant de participants. Paiement de l’acompte par chèque\, espèces ou en ligne via HelloAsso ↗️. \nInformations pratiques : prévoir une blouse\, ou un T-shirt large non précieux… \nÀ savoir : Corinne emportera les sculptures à son atelier pour les cuire. Vous pourrez les récupérer au minimum un mois après (temps nécessaire de séchage et cuisson). \nPour tout renseignement ou inscription\, contactez-nous par courriel (et n’hésitez pas à vérifier vos spams si vous ne voyez pas venir de réponse rapidement).
URL:https://www.latelierdeslucioles.fr/event/modelage-tasse/
LOCATION:L’atelier des lucioles\, 11 place de l'Église\, Molac\, 56230
CATEGORIES:Agenda,Atelier,Poterie
ATTACH;FMTTYPE=image/jpeg:https://www.latelierdeslucioles.fr/wp-content/uploads/2024/11/tasse.jpg
END:VEVENT
BEGIN:VEVENT
DTSTART;TZID=Europe/Paris:20250129T190000
DTEND;TZID=Europe/Paris:20250129T200000
DTSTAMP:20260423T184710
CREATED:20240207T103615Z
LAST-MODIFIED:20250226T180304Z
UID:10000799-1738177200-1738180800@www.latelierdeslucioles.fr
SUMMARY:L'atelier des lucioles accueille... Nathalie Gru\, pour découvrir la sophrologie
DESCRIPTION:Ponctuellement\, L’atelier des lucioles – le lieu – accueillera des activités qu’elle n’organise pas. \nSophrologue et hypnothérapeute\, Nathalie Gru vous accompagne pour découvrir la sophrologie en petit groupe.\nLors des séances\, elle vous invite à pratiquer des exercices de respiration\, de relaxation et de visualisations.\n \n– Mercredi 2 avril 2025 de 19h à 20h\n– Mercredi 23 avril 2025 de 19h à 20h\n– Mercredi 14 mai 2025 de 19h à 20h\n– Mercredi 4 juin 2025 de 19h à 20h\n– Mercredi 25 juin 2025 de 19h à 20h\n \n\nMinimum/maximum de participants : 4/10\nPublic : adolescents – adultes\nTarif : 10 euros la séance – 8 euros pour les moins de 18 ans et retraités.\n \nLes réservations se font directement auprès de Nathalie Gru au 06 79 15 07 41 ou par mail à nathaliegru@orange.fr
URL:https://www.latelierdeslucioles.fr/event/latelier-des-lucioles-accueille-nathalie-gru-pour-decouvrir-la-sophrologie/2025-01-29/
LOCATION:L’atelier des lucioles\, 11 place de l'Église\, Molac\, 56230
CATEGORIES:Agenda,Atelier,L'Atelier des lucioles accueille
END:VEVENT
BEGIN:VEVENT
DTSTART;TZID=Europe/Paris:20250130T170000
DTEND;TZID=Europe/Paris:20250130T200000
DTSTAMP:20260423T184710
CREATED:20231203T175914Z
LAST-MODIFIED:20250217T165818Z
UID:10000824-1738256400-1738267200@www.latelierdeslucioles.fr
SUMMARY:Café informatique
DESCRIPTION:Animé par Coralie Vincent\n \nCoralie Vincent propose de répondre à vos questions informatiques\, de vous accompagner pour régler de « petits bobos » (mise à jour d’un logiciel\, installation d’une imprimante\,…)\, pour prendre en main de nouveaux logiciels informatiques ou vous perfectionner dans ceux que vous connaissez déjà. Vos questions pourront porter sur la maintenance d’un ordinateur sous Windows\, sur les suites bureautiques (Word\, Excel\, Powerpoint et leurs équivalents libres)\, sur le traitement de fichiers audio et vidéo (notamment montage). \nProgramme :\nPas de programme prédéfini\, ce sont vos questions qui guident la séance.\nPour des raisons d’organisation\, il est nécessaire de s’inscrire au préalable en précisant ce que vous souhaitez faire pendant la séance (autant d’activités possibles que de participants). \nPublic / Prérequis : à partir de 14 ans\nMinimum / maximum de participants : 1 / 4\nTarif : participation libre\nCoralie Vincent a choisi de reverser tous les bénéfices de cet atelier à l’association. Merci pour sa générosité.\nInformations pratiques : apportez votre ordinateur\, de préférence portable. Possibilité de brancher un ordinateur fixe si besoin (nous prévenir au préalable s’il vous plaît) \nPour tout renseignement ou inscription\, contactez-nous par courriel (et n’hésitez pas à vérifier vos spams si vous ne voyez pas venir de réponse rapidement).
URL:https://www.latelierdeslucioles.fr/event/cafe-informatique/2025-01-30/
LOCATION:L’atelier des lucioles\, 11 place de l'Église\, Molac\, 56230
CATEGORIES:Agenda,Atelier,Café informatique,Informatique
ATTACH;FMTTYPE=image/jpeg:https://www.latelierdeslucioles.fr/wp-content/uploads/2023/12/20231130_181608_thumbnail.jpeg
END:VEVENT
BEGIN:VEVENT
DTSTART;TZID=Europe/Paris:20250131T170000
DTEND;TZID=Europe/Paris:20250131T180000
DTSTAMP:20260423T184710
CREATED:20230206T112535Z
LAST-MODIFIED:20250703T094234Z
UID:10000805-1738342800-1738346400@www.latelierdeslucioles.fr
SUMMARY:Yoga du rire
DESCRIPTION:Animé par Isabelle de Francqueville\nRire est excellent pour la santé ; il agit très favorablement sur notre cœur et l’ensemble du corps. Il aide à lutter contre les maladies cardio-vasculaires (3 fois moins de risque d’infarctus)\, diminue ou élimine la sensation de douleur\, booste le système immunitaire\, améliore les fonctions cognitives et chasse le stress…\nConvaincue de toutes ces vertus du rire\, le Dr Madan Kataria a eu l’idée de mettre en place le yoga du rire basé sur les respirations du Yoga et des exercices qui nous permettent de rire. Le Yoga de rire est un concept unique où chacun peut rire sans raison\, sans recours aux blagues et même sans avoir de sens de l’humour.\nFormée à la méthode du Dr Kataria et ayant animée des séances de Yoga du Rire en Club et en entreprises pendant 5 ans à Lille\, je vous propose une séance découverte.\nLa séance durera environ 50 mn. Elle se pratique en trois temps : échauffements\, rires guidés entrecoupés de respirations\, méditation dynamique (rires libres). \nPublic / Prérequis : tout public mais il existe quelques rares contre-indications au Yoga du Rire car rire à gorge déployée sollicite de nombreuses parties du corps. Ainsi\, le Dr Kataria déconseille le yoga du rire aux personnes souffrant de problèmes cardiaques\, d’hypertensions artérielles\, d’hémorroïdes\, d’incontinences\, de hernies\, d’épilepsie\, de douleurs dorsales importantes\, de descente d’organes\, de désordres psychologiques majeurs – Bipolarité et schizophrénie notamment font parties des contre-indications médicales –\, de toux importantes et dans le cas de grossesse à risque. En cas de doute\, n’hésitez pas à nous demander.\nMinimum / maximum de participants : 8 / 12 personnes\nTarif : 5 € pour les adhérents\, 6 € pour les non adhérents\nIsabelle de Francqueville a choisi de reverser tous les bénéfices de cet atelier à l’association. Merci pour sa générosité.\nInformations pratiques : il est conseillé d’avoir une tenue confortable\, d’ôter vos chaussures (chaussettes\, chaussons souples ou chaussettes antidérapantes). \nPour tout renseignement ou inscription\, contactez-nous par courriel (et n’hésitez pas à vérifier vos spams si vous ne voyez pas venir de réponse rapidement).
URL:https://www.latelierdeslucioles.fr/event/yoga-du-rire/2025-01-31/
LOCATION:L’atelier des lucioles\, 11 place de l'Église\, Molac\, 56230
CATEGORIES:Agenda,Atelier,Yoga du rire
END:VEVENT
BEGIN:VEVENT
DTSTART;TZID=Europe/Paris:20250131T190000
DTEND;TZID=Europe/Paris:20250131T200000
DTSTAMP:20260423T184710
CREATED:20231203T190050Z
LAST-MODIFIED:20241219T220754Z
UID:10000819-1738350000-1738353600@www.latelierdeslucioles.fr
SUMMARY:Anglais • Se débrouiller en voyage ! • 5 séances de janvier à mars
DESCRIPTION:Animé par Maria Sison\nMaria Sison propose des séances d’une heure de conversation en anglais destinées à vous aider dans un contexte du voyage. Elles seront essentiellement construites autour de dialogues et de situations réelles que vous pourriez rencontrer dans ces circonstances (au restaurant\, à l’hôtel\, dans les transports\, en ville…). \nVous apprendrez donc grâce à des role play\, des discussions en groupe et des exercices interactifs. En parlant\, en échangeant tout en s’amusant\, vous développerez votre vocabulaire de manière naturelle et pérenne. \nLes séances seront intégralement en anglais ! L’idée est en effet de vous mettre en condition pour que vous vous sentiez le plus à l’aise possible dans un environnement 100% anglophone. \nPour favoriser l’apprentissage\, un atelier suivi en cinq séances est prévu sur le premier trimestre 2025. Voici les dates : \n\nvendredi 17 janvier 2025 de 19h à 20h\nvendredi 31 janvier 2025 de 19h à 20h\nvendredi 7 février 2025 de 19h à 20h\nvendredi 7 mars 2025 de 19h à 20h\nvendredi 21 mars 2025 de 19h à 20h\n\nPublic / Prérequis : Ce cours s’adresse aux personnes prêtes à suivre un cours principalement en anglais\, quel que soit leur niveau. \nMinimum / maximum de participants : 4 / 12\nTarif : 60€ les 5 séances pour les adhérents\, 66€ les 5 séances pour les non adhérents. Paiement en ligne via HelloAsso ↗️ à la réservation. La somme sera restituée si l’atelier n’a pas lieu\, faute d’un nombre suffisant d’inscrits. Possibilité de payer en plusieurs fois. \nPour tout renseignement ou inscription\, contactez-nous par courriel (et n’hésitez pas à vérifier vos spams si vous ne voyez pas venir de réponse rapidement).
URL:https://www.latelierdeslucioles.fr/event/anglais-se-debrouiller-en-voyage/2025-01-31/
LOCATION:L’atelier des lucioles\, 11 place de l'Église\, Molac\, 56230
CATEGORIES:Agenda,Anglais,Atelier,Langues
ATTACH;FMTTYPE=image/jpeg:https://www.latelierdeslucioles.fr/wp-content/uploads/2024/01/DSC_0037-72.jpg
END:VEVENT
BEGIN:VEVENT
DTSTART;TZID=Europe/Paris:20250201T103000
DTEND;TZID=Europe/Paris:20250201T120000
DTSTAMP:20260423T184710
CREATED:20241107T154208Z
LAST-MODIFIED:20241219T222942Z
UID:10000766-1738405800-1738411200@www.latelierdeslucioles.fr
SUMMARY:Dessin-peinture • La carte au trésor
DESCRIPTION:Animé par Virginie Gueutal\, Un brin de couleur\nLors de cet atelier\, Un brin de couleur t’apprendra comment réaliser une magnifique carte au trésor. Sur une toile vieillie\, tu pourras dessiner une île ainsi que les différents éléments d’une carte digne d’un vrai pirate.  \nA l’abordage\, petit rat de cale ! \nPublic / Prérequis : 7 – 12 ans ; cela peut être un peu plus jeune si votre enfant est autonome \nMinimum / maximum de participants : 3 / 6 \nTarif : 15 € pour les adhérents ; 16\,50 € pour les non adhérents ; matériel compris – Un acompte de 50% est demandé à la réservation. Il sera conservé en cas d’annulation par le participant survenant moins de 3 jours ouvrés avant l’atelier (sauf si la personne se désistant trouve un remplaçant) et remboursé si l’atelier n’a pas lieu\, faute d’un nombre suffisant de participants. Paiement de l’acompte par chèque\, espèces ou en ligne via HelloAsso ↗️. \n\nInfos pratiques : prévoir des vêtements pouvant être tachés \nPour tout renseignement ou inscription\, contactez-nous par courriel (et n’hésitez pas à vérifier vos spams si vous ne voyez pas venir de réponse rapidement). 
URL:https://www.latelierdeslucioles.fr/event/dessin-peinture-fevrier25/
LOCATION:L’atelier des lucioles\, 11 place de l'Église\, Molac\, 56230
CATEGORIES:Agenda,Atelier,Dessin,Dessin 7-12 ans
END:VEVENT
END:VCALENDAR