BEGIN:VCALENDAR
VERSION:2.0
PRODID:-//L&#039;atelier des lucioles - ECPv6.15.17//NONSGML v1.0//EN
CALSCALE:GREGORIAN
METHOD:PUBLISH
X-ORIGINAL-URL:https://www.latelierdeslucioles.fr
X-WR-CALDESC:Évènements pour L&#039;atelier des lucioles
REFRESH-INTERVAL;VALUE=DURATION:PT1H
X-Robots-Tag:noindex
X-PUBLISHED-TTL:PT1H
BEGIN:VTIMEZONE
TZID:Europe/Paris
BEGIN:DAYLIGHT
TZOFFSETFROM:+0100
TZOFFSETTO:+0200
TZNAME:CEST
DTSTART:20230326T010000
END:DAYLIGHT
BEGIN:STANDARD
TZOFFSETFROM:+0200
TZOFFSETTO:+0100
TZNAME:CET
DTSTART:20231029T010000
END:STANDARD
BEGIN:DAYLIGHT
TZOFFSETFROM:+0100
TZOFFSETTO:+0200
TZNAME:CEST
DTSTART:20240331T010000
END:DAYLIGHT
BEGIN:STANDARD
TZOFFSETFROM:+0200
TZOFFSETTO:+0100
TZNAME:CET
DTSTART:20241027T010000
END:STANDARD
BEGIN:DAYLIGHT
TZOFFSETFROM:+0100
TZOFFSETTO:+0200
TZNAME:CEST
DTSTART:20250330T010000
END:DAYLIGHT
BEGIN:STANDARD
TZOFFSETFROM:+0200
TZOFFSETTO:+0100
TZNAME:CET
DTSTART:20251026T010000
END:STANDARD
END:VTIMEZONE
BEGIN:VEVENT
DTSTART;TZID=Europe/Paris:20241127T133000
DTEND;TZID=Europe/Paris:20241127T153000
DTSTAMP:20260423T065006
CREATED:20240612T145151Z
LAST-MODIFIED:20250311T140110Z
UID:10000667-1732714200-1732721400@www.latelierdeslucioles.fr
SUMMARY:BD • Atelier annuel • Du scénario à la réalisation d'une planche
DESCRIPTION:Animé par Mikeulponk\n\n \n\nL’atelier des lucioles vous propose un nouveau cours de BD sur l’année avec Mikeulponk\, sur 17 séances\, à raison d’un mercredi sur deux de 13h30 à 15h30.\n \nLe cours de BD n’est pas qu’un cours de dessin\, c’est un cours de narration graphique. Nous mettons des histoires en images.\n \nCela passe par la création des personnages (charadesign\, posing\, psychologie…) et des décors (composition\, perspective…)\, mais aussi par le scénario (mécaniques du récit\, structure\, characterisation\, activité\, dialogue…).\n \nNous explorons toutes les étapes de création d’une bande dessinée. Une fois que nous aurons appris à dessiner ce dont nous avons besoin\, nous mettrons en scène (composition\, cadrage\, mise en page…) notre récit par la réalisation des planches (techniques de dessin).\n \nLe cours est donc ouvert à tou.te.s celles et ceux qui veulent raconter des histoires en images\, s’initier ou se perfectionner à chacune de ces étapes.\nTous les styles (BD\, manga\, comics…) et tous les niveaux sont les bienvenus.\nLe cours est individualisé en fonction des besoins et des univers personnels des élèves. Scénaristes\, dessinateur.ice.s\, coloristes\, illustrateur.ice.s ou tout ça à la fois\, vous êtes aussi les bienvenus.\n \nLes 17 dates des séances de 13h30 à 15h30 : 18 septembre ; 2 & 16 octobre ; 13 & 27 novembre ; 11 décembre ; 8 & 22 janvier ; 5 février ; 5 & 19 mars ; 2 & 30 avril ; 14 & 28 mai ; 11 & 25 juin\n \nPublic / Prérequis : tous niveaux ; à partir de 10 ans\, ados\, adultes\nMinimum / maximum de participants : 6 / 8-9\nTarif : 255€ pour les 17 séances de 2h pour les adhérents (soit 15€ la séance) ; 280\,50€ pour les 17 séances de 2h pour les non adhérents. Il est possible de payer en plusieurs chèques (le premier chèque sera encaissé à l’inscription en septembre – toute année commencée est due) ou de payer la totalité en ligne via HelloAsso ↗️. La somme sera restituée si l’atelier n’a pas lieu\, faute d’un nombre suffisant d’inscrits.\n \n \nPour tout renseignement ou inscription\, contactez-nous par courriel (et n’hésitez pas à vérifier vos spams si vous ne voyez pas venir de réponse rapidement).\n \nMikeulponk – Auteur de BD complet et indépendant\, de Malansac. J’ai auto-édité mon premier album Blood Punks – T01/03 Hémonocts en 2016. Dans mes créations\, je chercher à livrer des récits autant riches dans la forme que dans le fond. La suite Blood Punks – T02/03 Bloody Jane\, est sorti en 2020. J’ai participé à l’album Indissociable du collectif les Indés-Sociables. Je suis en train de réaliser le troisième et dernier tome de la trilogie Blood Punks. Je donne aussi des cours de BD dans la région depuis 8 ans.
URL:https://www.latelierdeslucioles.fr/event/bd-du-scenario-a-la-realisation/2024-11-27/
LOCATION:L’atelier des lucioles\, 11 place de l'Église\, Molac\, 56230
CATEGORIES:Agenda,Atelier,Dessin
ATTACH;FMTTYPE=image/jpeg:https://www.latelierdeslucioles.fr/wp-content/uploads/2024/06/Mikeulponk-IMG_2664-s.jpg
END:VEVENT
BEGIN:VEVENT
DTSTART;TZID=Europe/Paris:20241127T190000
DTEND;TZID=Europe/Paris:20241127T200000
DTSTAMP:20260423T065007
CREATED:20240207T103615Z
LAST-MODIFIED:20250226T180304Z
UID:10000706-1732734000-1732737600@www.latelierdeslucioles.fr
SUMMARY:L'atelier des lucioles accueille... Nathalie Gru\, pour découvrir la sophrologie
DESCRIPTION:Ponctuellement\, L’atelier des lucioles – le lieu – accueillera des activités qu’elle n’organise pas. \nSophrologue et hypnothérapeute\, Nathalie Gru vous accompagne pour découvrir la sophrologie en petit groupe.\nLors des séances\, elle vous invite à pratiquer des exercices de respiration\, de relaxation et de visualisations.\n \n– Mercredi 2 avril 2025 de 19h à 20h\n– Mercredi 23 avril 2025 de 19h à 20h\n– Mercredi 14 mai 2025 de 19h à 20h\n– Mercredi 4 juin 2025 de 19h à 20h\n– Mercredi 25 juin 2025 de 19h à 20h\n \n\nMinimum/maximum de participants : 4/10\nPublic : adolescents – adultes\nTarif : 10 euros la séance – 8 euros pour les moins de 18 ans et retraités.\n \nLes réservations se font directement auprès de Nathalie Gru au 06 79 15 07 41 ou par mail à nathaliegru@orange.fr
URL:https://www.latelierdeslucioles.fr/event/latelier-des-lucioles-accueille-nathalie-gru-pour-decouvrir-la-sophrologie/2024-11-27/
LOCATION:L’atelier des lucioles\, 11 place de l'Église\, Molac\, 56230
CATEGORIES:Agenda,Atelier,L'Atelier des lucioles accueille
END:VEVENT
BEGIN:VEVENT
DTSTART;TZID=Europe/Paris:20241128T170000
DTEND;TZID=Europe/Paris:20241128T190000
DTSTAMP:20260423T065007
CREATED:20230305T205935Z
LAST-MODIFIED:20241105T141546Z
UID:10000749-1732813200-1732820400@www.latelierdeslucioles.fr
SUMMARY:Initiation à l'informatique et à Internet
DESCRIPTION:Animé par Coralie Vincent\n \nDécouvrir l’environnement Windows de son ordinateur\, apprendre à naviguer sur Internet\, écrire des emails\, à transférer des fichiers (photos\, vidéos) de son smartphone à son ordinateur… Coralie Vincent propose des ateliers d’initiation à l’informatique avec un programme défini en fonction de vos besoins. \nProgramme :\nSéance du mercredi 2 octobre 2024 de 17h à 19h : découvrir Excel\nSéance du mercredi 30 octobre 2024 de 18h à 20h : découvrir et utiliser l’intelligence artificielle (ChatGPT\, génération d’images)\nSéance du jeudi 28 novembre 2024 de 17h à 19h : filtrer les appels d’inconnus sur smartphone Android  \n  \nSéances passées :\nSéance du 23 février 2023 : le clavier\nSéance du 8 mars 2023 : introduction à Internet\nSéance du 13 avril 2023 : organisation et nettoyage de l’ordinateur\nSéance du 1er juin 2023 : Internet – historique\, favoris\, YouTube\nSéance du 6 octobre 2023 : sécurité et internet\nSéance du 2 novembre 2023 : le clavier (révisions)\nSéance du 30 novembre 2023 : messagerie électronique\, les bonnes pratiques \nPublic / Prérequis : à partir de 14 ans\nMinimum / maximum de participants : 3 / 8\nTarif : 10 € pour les adhérents\, 11 € pour les non adhérents\nCoralie Vincent a choisi de reverser tous les bénéfices de cet atelier à l’association. Merci pour sa générosité.\nInformations pratiques : apportez votre ordinateur\, de préférence portable. possibilité de brancher un ordinateur fixe si besoin (nous prévenir au préalable s’il vous plaît) \nPour tout renseignement ou inscription\, contactez-nous par courriel (et n’hésitez pas à vérifier vos spams si vous ne voyez pas venir de réponse rapidement).
URL:https://www.latelierdeslucioles.fr/event/initiation-a-linformatique-et-a-internet/2024-11-28/
LOCATION:L’atelier des lucioles\, 11 place de l'Église\, Molac\, 56230
CATEGORIES:Agenda,Atelier,Informatique,Initiation info
ATTACH;FMTTYPE=image/jpeg:https://www.latelierdeslucioles.fr/wp-content/uploads/2023/03/informatique-20230223_174439-72.jpg
END:VEVENT
BEGIN:VEVENT
DTSTART;TZID=Europe/Paris:20241129T143000
DTEND;TZID=Europe/Paris:20241129T163000
DTSTAMP:20260423T065007
CREATED:20240826T124522Z
LAST-MODIFIED:20240909T211134Z
UID:10000753-1732890600-1732897800@www.latelierdeslucioles.fr
SUMMARY:Mosaïque • Créer un mandala • 5 séances d'octobre à décembre
DESCRIPTION:Animé par Natoma Mosaïque\nLors de cet atelier\, Nathalie vous propose de réaliser un mandala.\nDéfinition d’un mandala\, selon la Plumereveuse.com : « Selon Wikipedia\, le terme Mandala trouve son origine en Inde. Ce terme provient du sanskrit\, en tibétain\, et signifie « cercle ». Il s’agit d’une organisation de symboles qui gravitent autour d’un point central et qui représente un espace sacré\, une dimension spirituelle\, la relation avec l’infini\, la relation avec soi\, le soi dans l’univers\, une interprétation du cycle de la vie. Le mandala peut avoir des significations différentes selon les pratiques religieuses\, politiques ou spirituelles … »\n \nSur un rond en bois de 30 cm\, vous constituerez un motif partant du centre\, en tournant autour pour aller vers l’extérieur\, avec principalement des formes géométriques. Nous utiliserons des pâtes de verre colorées\, formes de pétales\, billes chinoises\, carrés etc.\n\nLes ateliers auront lieu les : \n\nvendredi 4 octobre de 14h30 à 16h30\nvendredi 18 octobre de 14h30 à 16h30\nvendredi 15 novembre de 14h30 à 16h30\nvendredi 29 novembre de 14h30 à 16h30\nvendredi 13 décembre de 14h30 à 16h30\n\nPublic / prérequis : Adultes\nMinimum / maximum de participants : 6\nTarif : 130 € les 5 séances de 2h pour les adhérents\, 143 € les 5 séances de 2h pour les non adhérents – Tout compris – Il est possible de payer en deux fois (premier chèque encaissé à l’inscription\, second chèque encaissé mi-novembre) ou de payer la totalité en ligne via HelloAsso ↗️. La somme sera restituée si l’atelier n’a pas lieu\, faute d’un nombre suffisant d’inscrits.  \nPour tout renseignement ou inscription\, contactez-nous par courriel (et n’hésitez pas à vérifier vos spams si vous ne voyez pas venir de réponse rapidement).
URL:https://www.latelierdeslucioles.fr/event/mosaique-mandala-5-seances/2024-11-29/
LOCATION:L’atelier des lucioles\, 11 place de l'Église\, Molac\, 56230
CATEGORIES:Agenda,Atelier,Mosaïque
ATTACH;FMTTYPE=image/jpeg:https://www.latelierdeslucioles.fr/wp-content/uploads/2024/08/20240720_192336-s.jpg
END:VEVENT
BEGIN:VEVENT
DTSTART;TZID=Europe/Paris:20241130T140000
DTEND;TZID=Europe/Paris:20241130T180000
DTSTAMP:20260423T065007
CREATED:20240627T101709Z
LAST-MODIFIED:20240813T140933Z
UID:10000697-1732975200-1732989600@www.latelierdeslucioles.fr
SUMMARY:Modelage • Créer un buste humain
DESCRIPTION:Animé par Corinne Fillion\, Poussières d’Argile\n\nCorinne Fillion vous invite à créer un buste de femme ou d’homme en argile de manière relativement rapide\, par ajout de terre. Vous apprendrez à respecter les proportions du visage et à repérer ses particularités…. \nVous pourrez patiner votre buste lors d’un autre atelier après cuisson des pièces. \nPublic / Prérequis : atelier ouvert à tous à  partir de 10 ans. \nMinimum / maximum de participants : 3 /5-6 \nTarif : 48€ tarif adhérent ; 53€ tarif non adhérent pour l’atelier de 4h ; tout compris. Un acompte de 50% est demandé à la réservation. Il sera conservé en cas d’annulation par le participant survenant moins de 3 jours ouvrés avant l’atelier (sauf si la personne se désistant trouve un remplaçant) et remboursé si l’atelier n’a pas lieu\, faute d’un nombre suffisant de participants. Paiement de l’acompte par chèque\, espèces ou en ligne via HelloAsso ↗️. \nInformations pratiques : prévoir une blouse\, ou un T-shirt large non précieux… \nÀ savoir : Corinne emportera les sculptures à son atelier pour cuisson. Vous pourrez les récupérer au minimum un mois après (temps nécessaire de séchage et cuisson au four céramique). Pour les pièces engobées\, Corinne devrai passer un émail transparent lors d’une deuxième cuisson ; le temps pour récupérer sa sculpture sera donc plus long. \nPour tout renseignement ou inscription\, contactez-nous par courriel (et n’hésitez pas à vérifier vos spams si vous ne voyez pas venir de réponse rapidement).
URL:https://www.latelierdeslucioles.fr/event/modelage-buste-humain/
LOCATION:L’atelier des lucioles\, 11 place de l'Église\, Molac\, 56230
CATEGORIES:Agenda,Atelier,Poterie
ATTACH;FMTTYPE=image/jpeg:https://www.latelierdeslucioles.fr/wp-content/uploads/2024/07/20230613_170644-s.jpg
END:VEVENT
END:VCALENDAR