BEGIN:VCALENDAR
VERSION:2.0
PRODID:-//L&#039;atelier des lucioles - ECPv6.15.17//NONSGML v1.0//EN
CALSCALE:GREGORIAN
METHOD:PUBLISH
X-ORIGINAL-URL:https://www.latelierdeslucioles.fr
X-WR-CALDESC:Évènements pour L&#039;atelier des lucioles
REFRESH-INTERVAL;VALUE=DURATION:PT1H
X-Robots-Tag:noindex
X-PUBLISHED-TTL:PT1H
BEGIN:VTIMEZONE
TZID:Europe/Paris
BEGIN:DAYLIGHT
TZOFFSETFROM:+0100
TZOFFSETTO:+0200
TZNAME:CEST
DTSTART:20230326T010000
END:DAYLIGHT
BEGIN:STANDARD
TZOFFSETFROM:+0200
TZOFFSETTO:+0100
TZNAME:CET
DTSTART:20231029T010000
END:STANDARD
BEGIN:DAYLIGHT
TZOFFSETFROM:+0100
TZOFFSETTO:+0200
TZNAME:CEST
DTSTART:20240331T010000
END:DAYLIGHT
BEGIN:STANDARD
TZOFFSETFROM:+0200
TZOFFSETTO:+0100
TZNAME:CET
DTSTART:20241027T010000
END:STANDARD
BEGIN:DAYLIGHT
TZOFFSETFROM:+0100
TZOFFSETTO:+0200
TZNAME:CEST
DTSTART:20250330T010000
END:DAYLIGHT
BEGIN:STANDARD
TZOFFSETFROM:+0200
TZOFFSETTO:+0100
TZNAME:CET
DTSTART:20251026T010000
END:STANDARD
END:VTIMEZONE
BEGIN:VEVENT
DTSTART;TZID=Europe/Paris:20240422T140000
DTEND;TZID=Europe/Paris:20240422T163000
DTSTAMP:20260422T202058
CREATED:20240320T141322Z
LAST-MODIFIED:20240418T142438Z
UID:10000611-1713794400-1713803400@www.latelierdeslucioles.fr
SUMMARY:Arts plastiques : Art\, géométrie & créativité
DESCRIPTION:Animé par Ghislaine Bellocq\nPeinture bleue\, Kandinsky\, 1924\, Musée Guggenheim\, New York\nDe nombreux artistes ont travaillé sur la géométrie et se sont appuyés sur les relations et propriétés géométriques pour exprimer leur art.  \nA partir de techniques simples\, d’exercices de déblocage du geste\, vous serez amenés à créer votre propre composition avec les supports\, outils et matériaux de votre choix… laissant place à votre créativité ! \nPublic : tout public (adultes\, adolescents\, enfants à partir de 9 ans) \nMinimum / maximum de participants : 5 / 12 personnes \nTarif : 5€ – Ghislaine Bellocq a choisi de reverser tous les bénéfices de cet atelier à l’association. Merci pour sa générosité. \nInfos pratiques : apportez votre boîte à outils : crayons\, feutres\, ciseaux\, bâton de colle\, boite à peinture\, règles\, compas\, chutes de papier\, revues\, matériel de recyclage… \nPour tout renseignement ou inscription\, contactez-nous par courriel (et n’hésitez pas à vérifier vos spams si vous ne voyez pas venir de réponse rapidement). \n 
URL:https://www.latelierdeslucioles.fr/event/art-geometrie/
LOCATION:L’atelier des lucioles\, 11 place de l'Église\, Molac\, 56230
CATEGORIES:Agenda,Atelier,Dessin,Peinture
ATTACH;FMTTYPE=image/jpeg:https://www.latelierdeslucioles.fr/wp-content/uploads/2024/03/PeintureBleueKandinski.jpg
END:VEVENT
BEGIN:VEVENT
DTSTART;TZID=Europe/Paris:20240423T140000
DTEND;TZID=Europe/Paris:20240423T170000
DTSTAMP:20260422T202058
CREATED:20240325T233540Z
LAST-MODIFIED:20240402T215134Z
UID:10000621-1713880800-1713891600@www.latelierdeslucioles.fr
SUMMARY:Écriture • Des mets aux mots • Atelier organisé dans le cadre de la rencontre-lecture avec Élise Goldberg
DESCRIPTION:Animé par Élise Goldberg\n\n \nDes mets aux mots\nSaveurs\, souvenirs culinaires\, scènes de repas… Dans cette séance d’atelier\, on écrira à partir des mets. Ou comment transformer les impressions gustatives en mots qui à leur tour donnent à sentir et à goûter ; comment faire résonner les mots du culinaire et mettre en appétit les oreilles du lecteur.\n \n\nPublic / Prérequis : À partir de 15 ans\nMinimum / maximum de participants : 5 / 10\nTarif : 25 € pour les adhérents\, 27\,50 € pour les non adhérents – Un acompte de 50% est demandé à la réservation. Il sera conservé en cas d’annulation par le participant survenant moins de 3 jours ouvrés avant l’atelier (sauf si la personne se désistant trouve un remplaçant) et remboursé si l’atelier n’a pas lieu\, faute d’un nombre suffisant de participants. Paiement de l’acompte par chèque\, espèces ou en ligne via HelloAsso ↗️.\nInformations pratiques : venez avec votre cahier et stylo \nPour tout renseignement ou inscription\, contactez-nous par courriel (et n’hésitez pas à vérifier vos spams si vous ne voyez pas venir de réponse rapidement). \n  \nLe + de L’atelier des lucioles : ce même jour à 20h\, nous vous proposons une rencontre inédite avec Élise Goldberg qui lira des extraits de son livre « Tout le monde n’a pas la chance d’aimer la carpe farcie » aux éditions Verdier\, pour lequel elle a reçu le Prix Les Inrocks Premier Roman et avec laquelle nous pourrons échanger. A l’occasion de sa venue\, elle apportera des exemplaires de son livre. Vous pourrez l’acheter (prévoyez espèces ou chèque) et vous le faire dédicacer en direct.
URL:https://www.latelierdeslucioles.fr/event/ecriture-atelier-organise-dans-le-cadre-de-la-rencontre-lecture-avec-lautrice-elise-goldberg/
LOCATION:L’atelier des lucioles\, 11 place de l'Église\, Molac\, 56230
CATEGORIES:Agenda,Atelier,Écriture
END:VEVENT
BEGIN:VEVENT
DTSTART;TZID=Europe/Paris:20240424T140000
DTEND;TZID=Europe/Paris:20240424T170000
DTSTAMP:20260422T202058
CREATED:20240319T151127Z
LAST-MODIFIED:20240415T131122Z
UID:10000590-1713967200-1713978000@www.latelierdeslucioles.fr
SUMMARY:Laine feutrée à l'eau et au savon • Créer des fleurs
DESCRIPTION:Animé par Sara Cappato\, On s’en feutre\nSara Cappato vous propose de découvrir une deuxième technique autour de la laine feutrée : le feutrage à l’eau et au savon. C’est une technique très ancienne à laquelle vous pourrez vous initier en créant une fleur (et même plusieurs !). \nL’atelier se déroule sur deux séances de 3h (sur 2 j) : mercredi 24 avril 2024 de 14h à 17h et jeudi 25 avril 2024 de 14h à 17h\nVous commencerez en effet par créer des fleurs qui devront ensuite sécher avant de pouvoir être terminées le lendemain (installation de la tige\, confection du pistil et éventuellement de bourgeons).  \nPublic / Prérequis : Tout public – Cet atelier est accessible aux enfants dès 10 ans accompagnés d’un adulte. Il requiert d’être attentif et patient\, tout en restant tout de même amusant ! Le deuxième jour nécessite un minimum de capacité à manier une aiguille car il faudra coudre. Aucune expérience n’est demandée\, mais une bonne manualité sera un plus pour le résultat final.  \nMinimum / maximum de participants : 4-8 \nTarif : 50€ pour les adhérents l’atelier de 6h tout compris ; 55€ pour les non adhérents l’atelier de 6h tout compris – 75€ pour un duo parent-enfant adhérent l’atelier de 6h tout compris ; 82\,50€ pour un duo parent-enfant non adhérent l’atelier de 6h tout compris. Un acompte de 50% est demandé à la réservation. Il sera conservé en cas d’annulation par le participant survenant moins de 3 jours ouvrés avant l’atelier (sauf si la personne se désistant trouve un remplaçant) et remboursé si l’atelier n’a pas lieu\, faute d’un nombre suffisant de participants. Paiement de l’acompte par chèque\, espèces ou en ligne via HelloAsso ↗️. \nPour tout renseignement ou inscription\, contactez-nous par courriel (et n’hésitez pas à vérifier vos spams si vous ne voyez pas venir de réponse rapidement).
URL:https://www.latelierdeslucioles.fr/event/laine-feutree-a-leau-et-au-savon-creer-des-fleurs/2024-04-24/
LOCATION:L’atelier des lucioles\, 11 place de l'Église\, Molac\, 56230
CATEGORIES:Agenda,Atelier,Laine feutrée
ATTACH;FMTTYPE=image/jpeg:https://www.latelierdeslucioles.fr/wp-content/uploads/2024/03/bouquetfleurs-2-s.jpg
END:VEVENT
BEGIN:VEVENT
DTSTART;TZID=Europe/Paris:20240425T103000
DTEND;TZID=Europe/Paris:20240425T120000
DTSTAMP:20260422T202058
CREATED:20240312T164625Z
LAST-MODIFIED:20240415T114837Z
UID:10000584-1714041000-1714046400@www.latelierdeslucioles.fr
SUMMARY:Arts plastiques • Création d'un masque d'oiseau en papier
DESCRIPTION:Avec Virginie Gueutal\, Un brin de couleur\nNouveau projet qui décoiffe pour les vacances avec Virginie ! Après avoir créé le corps du masque (le bec et la forme sur laquelle vous allez vous appuyer pour coller les « plumes »)\, vous le compléterez avec plein de petites plumes en papier de tailles et de couleurs différentes.\nAu programme\, découpage et collage… beaucoup de collage ! \n\nPublic / Prérequis : 7 – 12 ans ; cela peut être un peu plus jeune si votre enfant est autonome \nMinimum / maximum de participants : 3 / 6 \nTarif : 15 € pour les adhérents ; 16\,50 € pour les non adhérents ; matériel compris – Paiement par chèque\, espèces ou en ligne via HelloAsso ↗️. La somme sera restituée si l’atelier n’a pas lieu\, faute d’un nombre suffisant d’inscrits. \n\nInfos pratiques : prévoir des vêtements pouvant être tachés \nPour tout renseignement ou inscription\, contactez-nous par courriel (et n’hésitez pas à vérifier vos spams si vous ne voyez pas venir de réponse rapidement). 
URL:https://www.latelierdeslucioles.fr/event/creation-dun-masque-en-papier/
LOCATION:L’atelier des lucioles\, 11 place de l'Église\, Molac\, 56230
CATEGORIES:Agenda,Atelier,Dessin,Dessin 7-12 ans
ATTACH;FMTTYPE=image/jpeg:https://www.latelierdeslucioles.fr/wp-content/uploads/2024/04/masqueoiseau-profil-s.jpg
END:VEVENT
BEGIN:VEVENT
DTSTART;TZID=Europe/Paris:20240425T140000
DTEND;TZID=Europe/Paris:20240425T170000
DTSTAMP:20260422T202058
CREATED:20240319T151127Z
LAST-MODIFIED:20240415T131122Z
UID:10000591-1714053600-1714064400@www.latelierdeslucioles.fr
SUMMARY:Laine feutrée à l'eau et au savon • Créer des fleurs
DESCRIPTION:Animé par Sara Cappato\, On s’en feutre\nSara Cappato vous propose de découvrir une deuxième technique autour de la laine feutrée : le feutrage à l’eau et au savon. C’est une technique très ancienne à laquelle vous pourrez vous initier en créant une fleur (et même plusieurs !). \nL’atelier se déroule sur deux séances de 3h (sur 2 j) : mercredi 24 avril 2024 de 14h à 17h et jeudi 25 avril 2024 de 14h à 17h\nVous commencerez en effet par créer des fleurs qui devront ensuite sécher avant de pouvoir être terminées le lendemain (installation de la tige\, confection du pistil et éventuellement de bourgeons).  \nPublic / Prérequis : Tout public – Cet atelier est accessible aux enfants dès 10 ans accompagnés d’un adulte. Il requiert d’être attentif et patient\, tout en restant tout de même amusant ! Le deuxième jour nécessite un minimum de capacité à manier une aiguille car il faudra coudre. Aucune expérience n’est demandée\, mais une bonne manualité sera un plus pour le résultat final.  \nMinimum / maximum de participants : 4-8 \nTarif : 50€ pour les adhérents l’atelier de 6h tout compris ; 55€ pour les non adhérents l’atelier de 6h tout compris – 75€ pour un duo parent-enfant adhérent l’atelier de 6h tout compris ; 82\,50€ pour un duo parent-enfant non adhérent l’atelier de 6h tout compris. Un acompte de 50% est demandé à la réservation. Il sera conservé en cas d’annulation par le participant survenant moins de 3 jours ouvrés avant l’atelier (sauf si la personne se désistant trouve un remplaçant) et remboursé si l’atelier n’a pas lieu\, faute d’un nombre suffisant de participants. Paiement de l’acompte par chèque\, espèces ou en ligne via HelloAsso ↗️. \nPour tout renseignement ou inscription\, contactez-nous par courriel (et n’hésitez pas à vérifier vos spams si vous ne voyez pas venir de réponse rapidement).
URL:https://www.latelierdeslucioles.fr/event/laine-feutree-a-leau-et-au-savon-creer-des-fleurs/2024-04-25/
LOCATION:L’atelier des lucioles\, 11 place de l'Église\, Molac\, 56230
CATEGORIES:Agenda,Atelier,Laine feutrée
ATTACH;FMTTYPE=image/jpeg:https://www.latelierdeslucioles.fr/wp-content/uploads/2024/03/bouquetfleurs-2-s.jpg
END:VEVENT
END:VCALENDAR