BEGIN:VCALENDAR
VERSION:2.0
PRODID:-//L&#039;atelier des lucioles - ECPv6.15.17//NONSGML v1.0//EN
CALSCALE:GREGORIAN
METHOD:PUBLISH
X-ORIGINAL-URL:https://www.latelierdeslucioles.fr
X-WR-CALDESC:Évènements pour L&#039;atelier des lucioles
REFRESH-INTERVAL;VALUE=DURATION:PT1H
X-Robots-Tag:noindex
X-PUBLISHED-TTL:PT1H
BEGIN:VTIMEZONE
TZID:Europe/Paris
BEGIN:DAYLIGHT
TZOFFSETFROM:+0100
TZOFFSETTO:+0200
TZNAME:CEST
DTSTART:20230326T010000
END:DAYLIGHT
BEGIN:STANDARD
TZOFFSETFROM:+0200
TZOFFSETTO:+0100
TZNAME:CET
DTSTART:20231029T010000
END:STANDARD
BEGIN:DAYLIGHT
TZOFFSETFROM:+0100
TZOFFSETTO:+0200
TZNAME:CEST
DTSTART:20240331T010000
END:DAYLIGHT
BEGIN:STANDARD
TZOFFSETFROM:+0200
TZOFFSETTO:+0100
TZNAME:CET
DTSTART:20241027T010000
END:STANDARD
BEGIN:DAYLIGHT
TZOFFSETFROM:+0100
TZOFFSETTO:+0200
TZNAME:CEST
DTSTART:20250330T010000
END:DAYLIGHT
BEGIN:STANDARD
TZOFFSETFROM:+0200
TZOFFSETTO:+0100
TZNAME:CET
DTSTART:20251026T010000
END:STANDARD
END:VTIMEZONE
BEGIN:VEVENT
DTSTART;TZID=Europe/Paris:20240216T140000
DTEND;TZID=Europe/Paris:20240216T163000
DTSTAMP:20260422T043650
CREATED:20231204T201907Z
LAST-MODIFIED:20231217T110414Z
UID:10000538-1708092000-1708101000@www.latelierdeslucioles.fr
SUMMARY:Mosaïque • Créer une boule de jardin à planter • 4 séances de janvier à mars
DESCRIPTION:Animé par Natoma Mosaïque\n \nPour ce premier trimestre 2024\, Nathalie Cairon (Natoma Mosaïque) vous propose d’apporter une touche artistique à votre jardin en créant une boule recouverte de mosaïque que vous pourrez y planter. Ce projet se déroulera en 4 séances de janvier à mars. \nLes ateliers auront lieu les : \n\nséance 1/4 : vendredi 12 janvier de 14h à 16h30 \nséance 2/4 : vendredi 26 janvier de 14h à 16h30\nséance 3/4 : vendredi 16 février de 14h à 16h30\nséance 4/4 : vendredi 22 mars de 14h à 16h30\n\nSéance 1 : Préparation du support : assemblage d’une boule en polystyrène de 15 cm de diamètre avec un fer à béton.\nRéalisation motifs pour chacune (cercles ou lignes …)\, choix matériaux et coupes d’émaux de verre. \nSéances 2 et 3 : La boule est recouverte d’émaux de verre\, perles\, tesselles\, miroir dans un mortier colle teinté (cercles ou lignes composant les motifs colorés) \nSéance 4 : Finalisation de la boule : les parties non recouvertes de cercles/lignes en couleur sont recouvertes d’ardoise. \nPublic / prérequis : Adultes\nMinimum / maximum de participants : 8\nTarif : 108 € les 4 séances de 2h30 pour les adhérents\, 118 € les 4 séances de 2h30 pour les non adhérents – Matériaux compris – Il est possible de payer en deux fois (premier chèque encaissé à l’inscription en janvier\, second chèque encaissé début mars) ou de payer la totalité en ligne sur HelloAsso. La somme sera restituée si l’atelier n’a pas lieu\, faute d’un nombre suffisant d’inscrits.  \nPour tout renseignement ou inscription\, contactez-nous par courriel (et n’hésitez pas à vérifier vos spams si vous ne voyez pas venir de réponse rapidement).
URL:https://www.latelierdeslucioles.fr/event/mosaique-creer-une-boule-de-jardin-a-planter-4-seances-de-janvier-a-mars/2024-02-16/
LOCATION:L’atelier des lucioles\, 11 place de l'Église\, Molac\, 56230
CATEGORIES:Agenda,Atelier,Mosaïque
ATTACH;FMTTYPE=image/jpeg:https://www.latelierdeslucioles.fr/wp-content/uploads/2023/12/BouleDeco-1.jpg
END:VEVENT
BEGIN:VEVENT
DTSTART;TZID=Europe/Paris:20240229T090000
DTEND;TZID=Europe/Paris:20240229T123000
DTSTAMP:20260422T043650
CREATED:20240210T104135Z
LAST-MODIFIED:20240226T185504Z
UID:10000570-1709197200-1709209800@www.latelierdeslucioles.fr
SUMMARY:Mosaïque & abstraction
DESCRIPTION:Animé par Natoma Mosaïque\nAu cours de cet atelier mosaïque de 3h30\, Nathalie Cairon vous propose d’explorer les formes\, les agencements de tesselles créatifs et non conventionnels\, le graphisme en mosaïque décorative. Vous utiliserez des émaux de Briare\, des pâtes de verre et du grès cérame sur un support contreplaqué carré de 20 cm de côté. \nPublic : adulte et ayant déjà fait une initiation en mosaïque. \nMinimum / maximum de participants : 6 / 8 \nTarif : 45€ par personne (tout compris) pour les adhérents\, 49\,50€ pour les non adhérents – matériel compris. Un acompte de 50% est demandé à la réservation. Il sera conservé en cas d’annulation par le participant survenant moins de 3 jours ouvrés avant l’atelier (sauf si la personne se désistant trouve un remplaçant) et remboursé si l’atelier n’a pas lieu\, faute d’un nombre suffisant de participants. Paiement de l’acompte par chèque\, espèces ou en ligne via HelloAsso. \nPour tout renseignement ou inscription\, contactez-nous par courriel (et n’hésitez pas à vérifier vos spams si vous ne voyez pas venir de réponse rapidement).
URL:https://www.latelierdeslucioles.fr/event/mosaique-abstraite/
LOCATION:L’atelier des lucioles\, 11 place de l'Église\, Molac\, 56230
CATEGORIES:Agenda,Atelier,Mosaïque
ATTACH;FMTTYPE=image/jpeg:https://www.latelierdeslucioles.fr/wp-content/uploads/2024/02/20240208_175058.jpg
END:VEVENT
END:VCALENDAR