BEGIN:VCALENDAR
VERSION:2.0
PRODID:-//L&#039;atelier des lucioles - ECPv6.15.17//NONSGML v1.0//EN
CALSCALE:GREGORIAN
METHOD:PUBLISH
X-ORIGINAL-URL:https://www.latelierdeslucioles.fr
X-WR-CALDESC:Évènements pour L&#039;atelier des lucioles
REFRESH-INTERVAL;VALUE=DURATION:PT1H
X-Robots-Tag:noindex
X-PUBLISHED-TTL:PT1H
BEGIN:VTIMEZONE
TZID:Europe/Paris
BEGIN:DAYLIGHT
TZOFFSETFROM:+0100
TZOFFSETTO:+0200
TZNAME:CEST
DTSTART:20230326T010000
END:DAYLIGHT
BEGIN:STANDARD
TZOFFSETFROM:+0200
TZOFFSETTO:+0100
TZNAME:CET
DTSTART:20231029T010000
END:STANDARD
BEGIN:DAYLIGHT
TZOFFSETFROM:+0100
TZOFFSETTO:+0200
TZNAME:CEST
DTSTART:20240331T010000
END:DAYLIGHT
BEGIN:STANDARD
TZOFFSETFROM:+0200
TZOFFSETTO:+0100
TZNAME:CET
DTSTART:20241027T010000
END:STANDARD
BEGIN:DAYLIGHT
TZOFFSETFROM:+0100
TZOFFSETTO:+0200
TZNAME:CEST
DTSTART:20250330T010000
END:DAYLIGHT
BEGIN:STANDARD
TZOFFSETFROM:+0200
TZOFFSETTO:+0100
TZNAME:CET
DTSTART:20251026T010000
END:STANDARD
END:VTIMEZONE
BEGIN:VEVENT
DTSTART;TZID=Europe/Paris:20241214T103000
DTEND;TZID=Europe/Paris:20241214T120000
DTSTAMP:20260423T064907
CREATED:20240620T083810Z
LAST-MODIFIED:20240908T092009Z
UID:10000691-1734172200-1734177600@www.latelierdeslucioles.fr
SUMMARY:Dessin-peinture • Carte de voeux sous la neige !
DESCRIPTION:Animé par Virginie Gueutal\, Un brin de couleur\n \nNous serons à 10 jours de Noël ! L’occasion rêvée de créer une carte de voeux originale et unique au monde ! \nA l’occasion de ce nouvel atelier\, Virginie (alias Un brin de couleur) te propose en effet de créer une carte de vœux enneigée. \nPour cela\, tu réaliseras un joli dessin d’hiver à  l’aquarelle ou aux feutres sur lequel nous apposerons de la neige pour confectionner une belle carte enneigée ! \nA toi ensuite de l’écrire et de l’envoyer pour souhaiter tes vœux de bonne année ! \nPublic / Prérequis : 6 – 12 ans ; cela peut être un peu plus jeune si votre enfant est autonome \nMinimum / maximum de participants : 3 / 6 \nTarif : 15 € pour les adhérents ; 16\,50 € pour les non adhérents ; matériel compris – Un acompte de 50% est demandé à la réservation. Il sera conservé en cas d’annulation par le participant survenant moins de 3 jours ouvrés avant l’atelier (sauf si la personne se désistant trouve un remplaçant) et remboursé si l’atelier n’a pas lieu\, faute d’un nombre suffisant de participants. Paiement de l’acompte par chèque\, espèces ou en ligne via HelloAsso ↗️. \n\nInfos pratiques : prévoir des vêtements pouvant être tachés \nPour tout renseignement ou inscription\, contactez-nous par courriel (et n’hésitez pas à vérifier vos spams si vous ne voyez pas venir de réponse rapidement).  \n 
URL:https://www.latelierdeslucioles.fr/event/dessin-noel/
LOCATION:L’atelier des lucioles\, 11 place de l'Église\, Molac\, 56230
CATEGORIES:Agenda,Atelier,Dessin,Dessin 7-12 ans
END:VEVENT
BEGIN:VEVENT
DTSTART;TZID=Europe/Paris:20241214T140000
DTEND;TZID=Europe/Paris:20241214T170000
DTSTAMP:20260423T064907
CREATED:20231025T150930Z
LAST-MODIFIED:20250314T132401Z
UID:10000698-1734184800-1734195600@www.latelierdeslucioles.fr
SUMMARY:Modelage • Patiner vos créations
DESCRIPTION:Animé par Corinne Fillion\, Poussières d’argile\n\nLors de cet atelier patine\, les personnes ayant participé aux précédents ateliers modelage pourront donner une finition plus naturelle qu’un émail à leur sculpture animalière. Pour ses propres créations\, Corinne Fillion utilise en effet des pigments en poudre naturels qui permettent d’obtenir des nuances et des effets proches des teintes des animaux. \nLa patine permet aussi d’obtenir des effets couleur Bronze\, bien utile si l’on souhaite s’approcher du rendu d’une sculpture ancienne.\nCette opération se fait sur pièces déjà cuites et vous pourrez repartir avec votre sculpture terminée. \n \nPublic / Prérequis : atelier accessible aux personnes ayant participé à un atelier modelage avec Corinne Fillion\nMinimum / maximum de participants : 3 / 6-7\nTarif : 35€ tarif adhérent ; 38\,50€ tarif non adhérent ; pigments naturels et liants compris. N’oubliez pas de venir avec votre sculpture ! Un acompte de 50% est demandé à la réservation. Il sera conservé en cas d’annulation par le participant survenant moins de 3 jours ouvrés avant l’atelier (sauf si la personne se désistant trouve un remplaçant) et remboursé si l’atelier n’a pas lieu\, faute d’un nombre suffisant de participants. Paiement de l’acompte par chèque\, espèces ou en ligne via HelloAsso ↗️.\n \nInformations pratiques : prévoir une blouse\, ou un T-shirt large non précieux..\n \nPour tout renseignement ou inscription\, contactez-nous par courriel (et n’hésitez pas à vérifier vos spams si vous ne voyez pas venir de réponse rapidement).\n 
URL:https://www.latelierdeslucioles.fr/event/modelage-atelier-patine/2024-12-14/
LOCATION:L’atelier des lucioles\, 11 place de l'Église\, Molac\, 56230
CATEGORIES:Agenda,Atelier,Poterie
ATTACH;FMTTYPE=image/jpeg:https://www.latelierdeslucioles.fr/wp-content/uploads/2023/10/ChevreuilFaon_s.jpg
END:VEVENT
BEGIN:VEVENT
DTSTART;TZID=Europe/Paris:20241214T140000
DTEND;TZID=Europe/Paris:20241214T170000
DTSTAMP:20260423T064907
CREATED:20240704T092920Z
LAST-MODIFIED:20260321T135636Z
UID:10000815-1734184800-1734195600@www.latelierdeslucioles.fr
SUMMARY:Photographie • Promenades photographiques
DESCRIPTION:Animé par Lou Camino\nLou Camino vous propose d’allier balade et photographie. Sans qu’il ne s’agisse d’un cours photo\, lors de ces sorties\, Lou Camino vous donnera quelques conseils sur les réglages de votre appareil\, les bases de la composition en photographie et vous proposera aussi quelques exercices. Chaque mois\, une nouvelle destination pour appréhender différents terrains et contraintes… Un temps de partage et de commentaires des photos est aussi prévu si le timing le permet. \nSorties à venir : \n– samedi 20 septembre de 14h à 17h\n– samedi 1er novembre de 14h à 17h\n– samedi 29 novembre de 14h à 17h\n– samedi 31 janvier de 14h à 17h\n– samedi 21 février de 14h à 17h\n– samedi 4 avril de 14h à 17h\n– samedi 25 avril de 14h à 17h\n– samedi 27 juin de 14h à 17h \nEn mai\, nous partirons pour une journée entière. \nPublic / Prérequis : tout public mais plus adapté aux débutants en photo\nMinimum / maximum de participants : 5 / 8\nTarif : 23€ pour les adhérents ; 25€ pour les non adhérents. Un acompte de 50% est demandé à la réservation. Il sera conservé en cas d’annulation par le participant survenant moins de 3 jours ouvrés avant l’atelier (sauf si la personne se désistant trouve un remplaçant) et remboursé si l’atelier n’a pas lieu\, faute d’un nombre suffisant de participants. Paiement de l’acompte par chèque\, espèces ou en ligne via HelloAsso ↗️. \n\nInformations pratiques : N’oubliez pas vos chaussures de marche et votre appareil photo (chargé et avec sa carte mémoire 🙂 ) ! Si vous avez un trépied\, cela peut aussi être utile. \nRéserve météo : Les conditions météo étant un peu aléatoires\, ce qui n’est pas le facteur le plus facile à gérer pour une sortie photo en extérieur\, ces promenades photo seront reportées s’il pleut trop.  \nPour tout renseignement ou inscription\, contactez-nous par courriel (et n’hésitez pas à vérifier vos spams si vous ne voyez pas venir de réponse rapidement).
URL:https://www.latelierdeslucioles.fr/event/photographie-promenades-photographiques-2/2024-12-14/
LOCATION:L’atelier des lucioles\, 11 place de l'Église\, Molac\, 56230
CATEGORIES:Agenda,Atelier,Photographie
END:VEVENT
END:VCALENDAR