BEGIN:VCALENDAR
VERSION:2.0
PRODID:-//L&#039;atelier des lucioles - ECPv6.15.17//NONSGML v1.0//EN
CALSCALE:GREGORIAN
METHOD:PUBLISH
X-ORIGINAL-URL:https://www.latelierdeslucioles.fr
X-WR-CALDESC:Évènements pour L&#039;atelier des lucioles
REFRESH-INTERVAL;VALUE=DURATION:PT1H
X-Robots-Tag:noindex
X-PUBLISHED-TTL:PT1H
BEGIN:VTIMEZONE
TZID:Europe/Paris
BEGIN:DAYLIGHT
TZOFFSETFROM:+0100
TZOFFSETTO:+0200
TZNAME:CEST
DTSTART:20220327T010000
END:DAYLIGHT
BEGIN:STANDARD
TZOFFSETFROM:+0200
TZOFFSETTO:+0100
TZNAME:CET
DTSTART:20221030T010000
END:STANDARD
BEGIN:DAYLIGHT
TZOFFSETFROM:+0100
TZOFFSETTO:+0200
TZNAME:CEST
DTSTART:20230326T010000
END:DAYLIGHT
BEGIN:STANDARD
TZOFFSETFROM:+0200
TZOFFSETTO:+0100
TZNAME:CET
DTSTART:20231029T010000
END:STANDARD
BEGIN:DAYLIGHT
TZOFFSETFROM:+0100
TZOFFSETTO:+0200
TZNAME:CEST
DTSTART:20240331T010000
END:DAYLIGHT
BEGIN:STANDARD
TZOFFSETFROM:+0200
TZOFFSETTO:+0100
TZNAME:CET
DTSTART:20241027T010000
END:STANDARD
END:VTIMEZONE
BEGIN:VEVENT
DTSTART;TZID=Europe/Paris:20230220T170000
DTEND;TZID=Europe/Paris:20230220T190000
DTSTAMP:20260423T122559
CREATED:20230206T155911Z
LAST-MODIFIED:20230402T185311Z
UID:10000114-1676912400-1676919600@www.latelierdeslucioles.fr
SUMMARY:Équiper son ordinateur avec des logiciels libres
DESCRIPTION:Animé par Coralie Vincent\nTour d’horizon des logiciels libres et gratuits indispensables à toute personne voulant faire de la bureautique et/ou du traitement multimedia.\nLes différents logiciels seront présentés et pourront être installés sur vos ordinateurs portables.\nLes ressources et tutoriels vous seront indiqués pour que vous puissiez\, de votre côté\, vous familiariser avec ces logiciels. \nPublic / Prérequis : à partir de 14 ans ; savoir naviguer sur son ordinateur\nMinimum / maximum de participants : 3 / 8\nTarif : 15 € pour les adhérents\, 16\,5 € pour les non adhérents\nCoralie Vincent a choisi de reverser tous les bénéfices de cet atelier à l’association. Merci pour sa générosité.\nInformations pratiques : apportez votre ordinateur\, de préférence portable. Possibilité de brancher un ordinateur fixe si besoin (nous prévenir au préalable s’il vous plaît).
URL:https://www.latelierdeslucioles.fr/event/equiper-son-ordinateur-avec-des-logiciels-libres/
LOCATION:L’atelier des lucioles\, 11 place de l'Église\, Molac\, 56230
CATEGORIES:Agenda,Atelier,Informatique,Niveau avancé info
END:VEVENT
BEGIN:VEVENT
DTSTART;TZID=Europe/Paris:20230221T173000
DTEND;TZID=Europe/Paris:20230221T193000
DTSTAMP:20260423T122559
CREATED:20230206T155926Z
LAST-MODIFIED:20230402T185311Z
UID:10000116-1677000600-1677007800@www.latelierdeslucioles.fr
SUMMARY:Initiation au son numérique
DESCRIPTION:Animé par Coralie Vincent\n \nComprendre les bases du son numérique\, découvrir le traitement audio et le logiciel d’édition sonore Audacity qui vous permettra de faire des compositions musicales\, des podcasts ou toute autre création sonore. \nPublic / Prérequis : à partir de 14 ans ; savoir naviguer sur son ordinateur\nMinimum / maximum de participants : 3 / 8\nTarif : 15 € pour les adhérents\, 16\,5 € pour les non adhérents\nCoralie Vincent a choisi de reverser tous les bénéfices de cet atelier à l’association. Merci pour sa générosité.\nInformations pratiques : apportez votre ordinateur\, de préférence portable. possibilité de brancher un ordinateur fixe si besoin (nous prévenir au préalable s’il vous plaît)
URL:https://www.latelierdeslucioles.fr/event/initiation-au-son-numerique/
LOCATION:L’atelier des lucioles\, 11 place de l'Église\, Molac\, 56230
CATEGORIES:Agenda,Atelier,Informatique,Initiation info
ATTACH;FMTTYPE=image/jpeg:https://www.latelierdeslucioles.fr/wp-content/uploads/2023/03/informatiqueson-20230221_180845-72.jpg
END:VEVENT
BEGIN:VEVENT
DTSTART;TZID=Europe/Paris:20230222T170000
DTEND;TZID=Europe/Paris:20230222T190000
DTSTAMP:20260423T122559
CREATED:20230206T155926Z
LAST-MODIFIED:20230402T185311Z
UID:10000118-1677085200-1677092400@www.latelierdeslucioles.fr
SUMMARY:Initiation à la vidéo numérique
DESCRIPTION:Animé par Coralie Vincent\nComprendre les bases de la vidéo numérique\, découvrir les processus de création d’une vidéo et le principe des logiciels libres (et gratuits) Avidemux\, Shotcut… avec lesquels vous pourrez faire des montages vidéo. \nPublic / Prérequis : à partir de 14 ans ; savoir naviguer sur son ordinateur\nMinimum / maximum de participants : 3 / 8\nTarif : 15 € pour les adhérents\, 16\,5 € pour les non adhérents\nCoralie Vincent a choisi de reverser tous les bénéfices de cet atelier à l’association. Merci pour sa générosité.\nInformations pratiques : apportez votre ordinateur\, de préférence portable. Possibilité de brancher un ordinateur fixe si besoin (nous prévenir au préalable s’il vous plaît).
URL:https://www.latelierdeslucioles.fr/event/initiation-a-la-video-numerique/
LOCATION:L’atelier des lucioles\, 11 place de l'Église\, Molac\, 56230
CATEGORIES:Agenda,Atelier,Informatique,Initiation info
END:VEVENT
BEGIN:VEVENT
DTSTART;TZID=Europe/Paris:20230223T080000
DTEND;TZID=Europe/Paris:20230223T170000
DTSTAMP:20260423T122559
CREATED:20230305T205935Z
LAST-MODIFIED:20241105T141546Z
UID:10000755-1677139200-1677171600@www.latelierdeslucioles.fr
SUMMARY:Initiation à l'informatique et à Internet
DESCRIPTION:Animé par Coralie Vincent\n \nDécouvrir l’environnement Windows de son ordinateur\, apprendre à naviguer sur Internet\, écrire des emails\, à transférer des fichiers (photos\, vidéos) de son smartphone à son ordinateur… Coralie Vincent propose des ateliers d’initiation à l’informatique avec un programme défini en fonction de vos besoins. \nProgramme :\nSéance du mercredi 2 octobre 2024 de 17h à 19h : découvrir Excel\nSéance du mercredi 30 octobre 2024 de 18h à 20h : découvrir et utiliser l’intelligence artificielle (ChatGPT\, génération d’images)\nSéance du jeudi 28 novembre 2024 de 17h à 19h : filtrer les appels d’inconnus sur smartphone Android  \n  \nSéances passées :\nSéance du 23 février 2023 : le clavier\nSéance du 8 mars 2023 : introduction à Internet\nSéance du 13 avril 2023 : organisation et nettoyage de l’ordinateur\nSéance du 1er juin 2023 : Internet – historique\, favoris\, YouTube\nSéance du 6 octobre 2023 : sécurité et internet\nSéance du 2 novembre 2023 : le clavier (révisions)\nSéance du 30 novembre 2023 : messagerie électronique\, les bonnes pratiques \nPublic / Prérequis : à partir de 14 ans\nMinimum / maximum de participants : 3 / 8\nTarif : 10 € pour les adhérents\, 11 € pour les non adhérents\nCoralie Vincent a choisi de reverser tous les bénéfices de cet atelier à l’association. Merci pour sa générosité.\nInformations pratiques : apportez votre ordinateur\, de préférence portable. possibilité de brancher un ordinateur fixe si besoin (nous prévenir au préalable s’il vous plaît) \nPour tout renseignement ou inscription\, contactez-nous par courriel (et n’hésitez pas à vérifier vos spams si vous ne voyez pas venir de réponse rapidement).
URL:https://www.latelierdeslucioles.fr/event/initiation-a-linformatique-et-a-internet/2023-02-23/1/
LOCATION:L’atelier des lucioles\, 11 place de l'Église\, Molac\, 56230
CATEGORIES:Agenda,Atelier,Informatique,Initiation info
ATTACH;FMTTYPE=image/jpeg:https://www.latelierdeslucioles.fr/wp-content/uploads/2023/03/informatique-20230223_174439-72.jpg
END:VEVENT
BEGIN:VEVENT
DTSTART;TZID=Europe/Paris:20230223T173000
DTEND;TZID=Europe/Paris:20230223T193000
DTSTAMP:20260423T122559
CREATED:20230305T205935Z
LAST-MODIFIED:20241105T141546Z
UID:10000186-1677173400-1677180600@www.latelierdeslucioles.fr
SUMMARY:Initiation à l'informatique et à Internet
DESCRIPTION:Animé par Coralie Vincent\n \nDécouvrir l’environnement Windows de son ordinateur\, apprendre à naviguer sur Internet\, écrire des emails\, à transférer des fichiers (photos\, vidéos) de son smartphone à son ordinateur… Coralie Vincent propose des ateliers d’initiation à l’informatique avec un programme défini en fonction de vos besoins. \nProgramme :\nSéance du mercredi 2 octobre 2024 de 17h à 19h : découvrir Excel\nSéance du mercredi 30 octobre 2024 de 18h à 20h : découvrir et utiliser l’intelligence artificielle (ChatGPT\, génération d’images)\nSéance du jeudi 28 novembre 2024 de 17h à 19h : filtrer les appels d’inconnus sur smartphone Android  \n  \nSéances passées :\nSéance du 23 février 2023 : le clavier\nSéance du 8 mars 2023 : introduction à Internet\nSéance du 13 avril 2023 : organisation et nettoyage de l’ordinateur\nSéance du 1er juin 2023 : Internet – historique\, favoris\, YouTube\nSéance du 6 octobre 2023 : sécurité et internet\nSéance du 2 novembre 2023 : le clavier (révisions)\nSéance du 30 novembre 2023 : messagerie électronique\, les bonnes pratiques \nPublic / Prérequis : à partir de 14 ans\nMinimum / maximum de participants : 3 / 8\nTarif : 10 € pour les adhérents\, 11 € pour les non adhérents\nCoralie Vincent a choisi de reverser tous les bénéfices de cet atelier à l’association. Merci pour sa générosité.\nInformations pratiques : apportez votre ordinateur\, de préférence portable. possibilité de brancher un ordinateur fixe si besoin (nous prévenir au préalable s’il vous plaît) \nPour tout renseignement ou inscription\, contactez-nous par courriel (et n’hésitez pas à vérifier vos spams si vous ne voyez pas venir de réponse rapidement).
URL:https://www.latelierdeslucioles.fr/event/initiation-a-linformatique-et-a-internet/2023-02-23/2/
LOCATION:L’atelier des lucioles\, 11 place de l'Église\, Molac\, 56230
CATEGORIES:Agenda,Atelier,Informatique,Initiation info
ATTACH;FMTTYPE=image/jpeg:https://www.latelierdeslucioles.fr/wp-content/uploads/2023/03/informatique-20230223_174439-72.jpg
END:VEVENT
END:VCALENDAR