BEGIN:VCALENDAR
VERSION:2.0
PRODID:-//L&#039;atelier des lucioles - ECPv6.15.17//NONSGML v1.0//EN
CALSCALE:GREGORIAN
METHOD:PUBLISH
X-WR-CALNAME:L&#039;atelier des lucioles
X-ORIGINAL-URL:https://www.latelierdeslucioles.fr
X-WR-CALDESC:Évènements pour L&#039;atelier des lucioles
REFRESH-INTERVAL;VALUE=DURATION:PT1H
X-Robots-Tag:noindex
X-PUBLISHED-TTL:PT1H
BEGIN:VTIMEZONE
TZID:Europe/Paris
BEGIN:DAYLIGHT
TZOFFSETFROM:+0100
TZOFFSETTO:+0200
TZNAME:CEST
DTSTART:20240331T010000
END:DAYLIGHT
BEGIN:STANDARD
TZOFFSETFROM:+0200
TZOFFSETTO:+0100
TZNAME:CET
DTSTART:20241027T010000
END:STANDARD
BEGIN:DAYLIGHT
TZOFFSETFROM:+0100
TZOFFSETTO:+0200
TZNAME:CEST
DTSTART:20250330T010000
END:DAYLIGHT
BEGIN:STANDARD
TZOFFSETFROM:+0200
TZOFFSETTO:+0100
TZNAME:CET
DTSTART:20251026T010000
END:STANDARD
BEGIN:DAYLIGHT
TZOFFSETFROM:+0100
TZOFFSETTO:+0200
TZNAME:CEST
DTSTART:20260329T010000
END:DAYLIGHT
BEGIN:STANDARD
TZOFFSETFROM:+0200
TZOFFSETTO:+0100
TZNAME:CET
DTSTART:20261025T010000
END:STANDARD
END:VTIMEZONE
BEGIN:VEVENT
DTSTART;TZID=Europe/Paris:20251001T170000
DTEND;TZID=Europe/Paris:20251001T190000
DTSTAMP:20260419T224518
CREATED:20250729T083121Z
LAST-MODIFIED:20250729T083121Z
UID:10001101-1759338000-1759345200@www.latelierdeslucioles.fr
SUMMARY:Informatique : devez-vous passer à Windows 11 ?
DESCRIPTION:Animé par Coralie Vincent\n \nDécouvrir l’environnement Windows de son ordinateur\, apprendre à naviguer sur Internet\, écrire des emails\, à transférer des fichiers (photos\, vidéos) de son smartphone à son ordinateur… Coralie Vincent propose des ateliers d’initiation à l’informatique avec un programme défini en fonction de vos besoins. \nProgramme :\nSéance du mercredi 1er octobre 2025 de 17h à 19h : devez-vous passer votre ordinateur à Windows 11 ? si oui\, Coralie vous propose de vous aider à mettre à jour votre système d’exploitation pour continuer à utiliser votre ordinateur correctement;\nSéance du jeudi 30 octobre 2025 de 17h à 19h : sujet à venir \nPublic / Prérequis : à partir de 14 ans\nMinimum / maximum de participants : 3 / 8\nTarif : 10 € pour les adhérents\, 11 € pour les non adhérents\nCoralie Vincent a choisi de reverser tous les bénéfices de cet atelier à l’association. Merci pour sa générosité.\nInformations pratiques : apportez votre ordinateur\, de préférence portable. possibilité de brancher un ordinateur fixe si besoin (nous prévenir au préalable s’il vous plaît) \nPour tout renseignement ou inscription\, contactez-nous par courriel (et n’hésitez pas à vérifier vos spams si vous ne voyez pas venir de réponse rapidement).
URL:https://www.latelierdeslucioles.fr/event/info-w11-oct25/
LOCATION:L’atelier des lucioles\, 11 place de l'Église\, Molac\, 56230
CATEGORIES:Agenda,Atelier,Informatique,Initiation info
END:VEVENT
END:VCALENDAR