BEGIN:VCALENDAR
VERSION:2.0
PRODID:-//L&#039;atelier des lucioles - ECPv6.15.17//NONSGML v1.0//EN
CALSCALE:GREGORIAN
METHOD:PUBLISH
X-ORIGINAL-URL:https://www.latelierdeslucioles.fr
X-WR-CALDESC:Évènements pour L&#039;atelier des lucioles
REFRESH-INTERVAL;VALUE=DURATION:PT1H
X-Robots-Tag:noindex
X-PUBLISHED-TTL:PT1H
BEGIN:VTIMEZONE
TZID:Europe/Paris
BEGIN:DAYLIGHT
TZOFFSETFROM:+0100
TZOFFSETTO:+0200
TZNAME:CEST
DTSTART:20220327T010000
END:DAYLIGHT
BEGIN:STANDARD
TZOFFSETFROM:+0200
TZOFFSETTO:+0100
TZNAME:CET
DTSTART:20221030T010000
END:STANDARD
BEGIN:DAYLIGHT
TZOFFSETFROM:+0100
TZOFFSETTO:+0200
TZNAME:CEST
DTSTART:20230326T010000
END:DAYLIGHT
BEGIN:STANDARD
TZOFFSETFROM:+0200
TZOFFSETTO:+0100
TZNAME:CET
DTSTART:20231029T010000
END:STANDARD
BEGIN:DAYLIGHT
TZOFFSETFROM:+0100
TZOFFSETTO:+0200
TZNAME:CEST
DTSTART:20240331T010000
END:DAYLIGHT
BEGIN:STANDARD
TZOFFSETFROM:+0200
TZOFFSETTO:+0100
TZNAME:CET
DTSTART:20241027T010000
END:STANDARD
END:VTIMEZONE
BEGIN:VEVENT
DTSTART;TZID=Europe/Paris:20230222T170000
DTEND;TZID=Europe/Paris:20230222T190000
DTSTAMP:20260423T122559
CREATED:20230206T155926Z
LAST-MODIFIED:20230402T185311Z
UID:10000118-1677085200-1677092400@www.latelierdeslucioles.fr
SUMMARY:Initiation à la vidéo numérique
DESCRIPTION:Animé par Coralie Vincent\nComprendre les bases de la vidéo numérique\, découvrir les processus de création d’une vidéo et le principe des logiciels libres (et gratuits) Avidemux\, Shotcut… avec lesquels vous pourrez faire des montages vidéo. \nPublic / Prérequis : à partir de 14 ans ; savoir naviguer sur son ordinateur\nMinimum / maximum de participants : 3 / 8\nTarif : 15 € pour les adhérents\, 16\,5 € pour les non adhérents\nCoralie Vincent a choisi de reverser tous les bénéfices de cet atelier à l’association. Merci pour sa générosité.\nInformations pratiques : apportez votre ordinateur\, de préférence portable. Possibilité de brancher un ordinateur fixe si besoin (nous prévenir au préalable s’il vous plaît).
URL:https://www.latelierdeslucioles.fr/event/initiation-a-la-video-numerique/
LOCATION:L’atelier des lucioles\, 11 place de l'Église\, Molac\, 56230
CATEGORIES:Agenda,Atelier,Informatique,Initiation info
END:VEVENT
END:VCALENDAR