BEGIN:VCALENDAR
VERSION:2.0
PRODID:-//L&#039;atelier des lucioles - ECPv6.15.17//NONSGML v1.0//EN
CALSCALE:GREGORIAN
METHOD:PUBLISH
X-WR-CALNAME:L&#039;atelier des lucioles
X-ORIGINAL-URL:https://www.latelierdeslucioles.fr
X-WR-CALDESC:Évènements pour L&#039;atelier des lucioles
REFRESH-INTERVAL;VALUE=DURATION:PT1H
X-Robots-Tag:noindex
X-PUBLISHED-TTL:PT1H
BEGIN:VTIMEZONE
TZID:Europe/Paris
BEGIN:DAYLIGHT
TZOFFSETFROM:+0100
TZOFFSETTO:+0200
TZNAME:CEST
DTSTART:20220327T010000
END:DAYLIGHT
BEGIN:STANDARD
TZOFFSETFROM:+0200
TZOFFSETTO:+0100
TZNAME:CET
DTSTART:20221030T010000
END:STANDARD
BEGIN:DAYLIGHT
TZOFFSETFROM:+0100
TZOFFSETTO:+0200
TZNAME:CEST
DTSTART:20230326T010000
END:DAYLIGHT
BEGIN:STANDARD
TZOFFSETFROM:+0200
TZOFFSETTO:+0100
TZNAME:CET
DTSTART:20231029T010000
END:STANDARD
BEGIN:DAYLIGHT
TZOFFSETFROM:+0100
TZOFFSETTO:+0200
TZNAME:CEST
DTSTART:20240331T010000
END:DAYLIGHT
BEGIN:STANDARD
TZOFFSETFROM:+0200
TZOFFSETTO:+0100
TZNAME:CET
DTSTART:20241027T010000
END:STANDARD
END:VTIMEZONE
BEGIN:VEVENT
DTSTART;TZID=Europe/Paris:20230411T173000
DTEND;TZID=Europe/Paris:20230411T193000
DTSTAMP:20260423T064524
CREATED:20230326T150041Z
LAST-MODIFIED:20230402T185310Z
UID:10000221-1681234200-1681241400@www.latelierdeslucioles.fr
SUMMARY:Initiation aux logiciels de présentation (Powerpoint\, Google Slides...)
DESCRIPTION:Animé par Coralie Vincent\nL’objectif est d’apprendre à créer des diaporamas avec Microsoft Powerpoint\, Google Slides ou LibreOffice Impress : savoir intégrer des textes\, images\, graphiques\, tableaux et médias (audio et vidéo)\, ajouter des transitions et utiliser les masques.\nLes ressources et tutoriels vous seront indiqués pour que vous puissiez\, de votre côté\, vous familiariser avec ces logiciels. \nPublic / Prérequis : à partir de 14 ans ; savoir naviguer sur son ordinateur\nMinimum / maximum de participants : 3 / 8\nTarif : 15 € pour les adhérents\, 16\,5 € pour les non adhérents\nCoralie Vincent a choisi de reverser tous les bénéfices de cet atelier à l’association. Merci pour sa générosité.\nInformations pratiques : apportez votre ordinateur\, de préférence portable. Possibilité de brancher un ordinateur fixe si besoin (nous prévenir au préalable s’il vous plaît).
URL:https://www.latelierdeslucioles.fr/event/initiation-aux-logiciels-de-presentation/
LOCATION:L’atelier des lucioles\, 11 place de l'Église\, Molac\, 56230
CATEGORIES:Agenda,Atelier,Informatique,Initiation info
END:VEVENT
BEGIN:VEVENT
DTSTART;TZID=Europe/Paris:20230413T170000
DTEND;TZID=Europe/Paris:20230413T190000
DTSTAMP:20260423T064524
CREATED:20230305T205935Z
LAST-MODIFIED:20241105T141546Z
UID:10000185-1681405200-1681412400@www.latelierdeslucioles.fr
SUMMARY:Initiation à l'informatique et à Internet
DESCRIPTION:Animé par Coralie Vincent\n \nDécouvrir l’environnement Windows de son ordinateur\, apprendre à naviguer sur Internet\, écrire des emails\, à transférer des fichiers (photos\, vidéos) de son smartphone à son ordinateur… Coralie Vincent propose des ateliers d’initiation à l’informatique avec un programme défini en fonction de vos besoins. \nProgramme :\nSéance du mercredi 2 octobre 2024 de 17h à 19h : découvrir Excel\nSéance du mercredi 30 octobre 2024 de 18h à 20h : découvrir et utiliser l’intelligence artificielle (ChatGPT\, génération d’images)\nSéance du jeudi 28 novembre 2024 de 17h à 19h : filtrer les appels d’inconnus sur smartphone Android  \n  \nSéances passées :\nSéance du 23 février 2023 : le clavier\nSéance du 8 mars 2023 : introduction à Internet\nSéance du 13 avril 2023 : organisation et nettoyage de l’ordinateur\nSéance du 1er juin 2023 : Internet – historique\, favoris\, YouTube\nSéance du 6 octobre 2023 : sécurité et internet\nSéance du 2 novembre 2023 : le clavier (révisions)\nSéance du 30 novembre 2023 : messagerie électronique\, les bonnes pratiques \nPublic / Prérequis : à partir de 14 ans\nMinimum / maximum de participants : 3 / 8\nTarif : 10 € pour les adhérents\, 11 € pour les non adhérents\nCoralie Vincent a choisi de reverser tous les bénéfices de cet atelier à l’association. Merci pour sa générosité.\nInformations pratiques : apportez votre ordinateur\, de préférence portable. possibilité de brancher un ordinateur fixe si besoin (nous prévenir au préalable s’il vous plaît) \nPour tout renseignement ou inscription\, contactez-nous par courriel (et n’hésitez pas à vérifier vos spams si vous ne voyez pas venir de réponse rapidement).
URL:https://www.latelierdeslucioles.fr/event/initiation-a-linformatique-et-a-internet/2023-04-13/
LOCATION:L’atelier des lucioles\, 11 place de l'Église\, Molac\, 56230
CATEGORIES:Agenda,Atelier,Informatique,Initiation info
ATTACH;FMTTYPE=image/jpeg:https://www.latelierdeslucioles.fr/wp-content/uploads/2023/03/informatique-20230223_174439-72.jpg
END:VEVENT
END:VCALENDAR